BEGIN:VCALENDAR
VERSION:2.0
PRODID:-//Shanti Mandir - ECPv6.3.6//NONSGML v1.0//EN
CALSCALE:GREGORIAN
METHOD:PUBLISH
X-WR-CALNAME:Shanti Mandir
X-ORIGINAL-URL:https://www.shantimandir.com
X-WR-CALDESC:Events for Shanti Mandir
REFRESH-INTERVAL;VALUE=DURATION:PT1H
X-Robots-Tag:noindex
X-PUBLISHED-TTL:PT1H
BEGIN:VTIMEZONE
TZID:America/New_York
BEGIN:DAYLIGHT
TZOFFSETFROM:-0500
TZOFFSETTO:-0400
TZNAME:EDT
DTSTART:20160313T070000
END:DAYLIGHT
BEGIN:STANDARD
TZOFFSETFROM:-0400
TZOFFSETTO:-0500
TZNAME:EST
DTSTART:20161106T060000
END:STANDARD
BEGIN:DAYLIGHT
TZOFFSETFROM:-0500
TZOFFSETTO:-0400
TZNAME:EDT
DTSTART:20170312T070000
END:DAYLIGHT
BEGIN:STANDARD
TZOFFSETFROM:-0400
TZOFFSETTO:-0500
TZNAME:EST
DTSTART:20171105T060000
END:STANDARD
TZID:UTC
BEGIN:STANDARD
TZOFFSETFROM:+0000
TZOFFSETTO:+0000
TZNAME:UTC
DTSTART:20170101T000000
END:STANDARD
END:VTIMEZONE
BEGIN:VEVENT
DTSTART;VALUE=DATE:20170901
DTEND;VALUE=DATE:20171001
DTSTAMP:20260421T163350
CREATED:20170831T135833Z
LAST-MODIFIED:20170831T150912Z
UID:7292-1504224000-1506815999@www.shantimandir.com
SUMMARY:September Calendar
DESCRIPTION:To view the calendar in PDF format\, click here.
URL:https://www.shantimandir.com/event/september-calendar-2017/
LOCATION:Shanti Mandir Walden\, 51 Muktananda Marg\, Walden\, NY\, 12586\, United States
CATEGORIES:Festivals,Gurudev's 2017 Schedule,Walden Ashram
ATTACH;FMTTYPE=image/jpeg:https://www.shantimandir.com/wp-content/uploads/2017/08/September-Calendar-20171.jpg
END:VEVENT
BEGIN:VEVENT
DTSTART;TZID=UTC:20170826T090000
DTEND;TZID=UTC:20170826T160000
DTSTAMP:20260421T163350
CREATED:20170803T185152Z
LAST-MODIFIED:20170804T181225Z
UID:7150-1503738000-1503763200@www.shantimandir.com
SUMMARY:Meditation Intensive with Gurudev
DESCRIPTION:To view the flyer in PDF format\, click here.
URL:https://www.shantimandir.com/event/meditation-intensive-aug-2017/
LOCATION:Shanti Mandir Walden\, 51 Muktananda Marg\, Walden\, NY\, 12586\, United States
CATEGORIES:Courses,Gurudev's 2017 Schedule,Walden Ashram
ATTACH;FMTTYPE=image/jpeg:https://www.shantimandir.com/wp-content/uploads/2017/08/Meditation-Intensive-Flyer-Aug-2017.jpg
END:VEVENT
BEGIN:VEVENT
DTSTART;TZID=UTC:20170806T013000
DTEND;TZID=UTC:20170806T150000
DTSTAMP:20260421T163350
CREATED:20170804T175922Z
LAST-MODIFIED:20170804T175922Z
UID:7167-1501983000-1502031600@www.shantimandir.com
SUMMARY:Yoga Course Tasters
DESCRIPTION:
URL:https://www.shantimandir.com/event/yoga-course-tasters-aug-2017/
LOCATION:Shanti Mandir Walden\, 51 Muktananda Marg\, Walden\, NY\, 12586\, United States
CATEGORIES:Courses,Gurudev's 2017 Schedule,Walden Ashram
ATTACH;FMTTYPE=image/jpeg:https://www.shantimandir.com/wp-content/uploads/2014/01/SD-Tasters-Flyer-Aug-2017.jpg
END:VEVENT
BEGIN:VEVENT
DTSTART;TZID=UTC:20170819T100000
DTEND;TZID=UTC:20170819T133000
DTSTAMP:20260421T163350
CREATED:20170803T183437Z
LAST-MODIFIED:20170803T183527Z
UID:7145-1503136800-1503149400@www.shantimandir.com
SUMMARY:Parent-Child Yoga Program
DESCRIPTION:
URL:https://www.shantimandir.com/event/parent-child-yoga-aug-2017/
LOCATION:Shanti Mandir Walden\, 51 Muktananda Marg\, Walden\, NY\, 12586\, United States
CATEGORIES:Gurudev's 2017 Schedule,Walden Ashram
ATTACH;FMTTYPE=image/jpeg:https://www.shantimandir.com/wp-content/uploads/2017/08/Parent-Child-Yoga-Program-Flyer-Aug-2017.jpg
END:VEVENT
BEGIN:VEVENT
DTSTART;TZID=UTC:20170806T013000
DTEND;TZID=UTC:20170806T150000
DTSTAMP:20260421T163350
CREATED:20170804T175922Z
LAST-MODIFIED:20170804T175922Z
UID:7167-1501983000-1502031600@www.shantimandir.com
SUMMARY:Yoga Course Tasters
DESCRIPTION:
URL:https://www.shantimandir.com/event/yoga-course-tasters-aug-2017/
LOCATION:Shanti Mandir Walden\, 51 Muktananda Marg\, Walden\, NY\, 12586\, United States
CATEGORIES:Courses,Gurudev's 2017 Schedule,Walden Ashram
ATTACH;FMTTYPE=image/jpeg:https://www.shantimandir.com/wp-content/uploads/2014/01/SD-Tasters-Flyer-Aug-2017.jpg
END:VEVENT
BEGIN:VEVENT
DTSTART;TZID=UTC:20170806T013000
DTEND;TZID=UTC:20170806T150000
DTSTAMP:20260421T163350
CREATED:20170804T175922Z
LAST-MODIFIED:20170804T175922Z
UID:7167-1501983000-1502031600@www.shantimandir.com
SUMMARY:Yoga Course Tasters
DESCRIPTION:
URL:https://www.shantimandir.com/event/yoga-course-tasters-aug-2017/
LOCATION:Shanti Mandir Walden\, 51 Muktananda Marg\, Walden\, NY\, 12586\, United States
CATEGORIES:Courses,Gurudev's 2017 Schedule,Walden Ashram
ATTACH;FMTTYPE=image/jpeg:https://www.shantimandir.com/wp-content/uploads/2014/01/SD-Tasters-Flyer-Aug-2017.jpg
END:VEVENT
BEGIN:VEVENT
DTSTART;VALUE=DATE:20170801
DTEND;VALUE=DATE:20170901
DTSTAMP:20260421T163350
CREATED:20170802T192836Z
LAST-MODIFIED:20170802T192836Z
UID:7143-1501545600-1504223999@www.shantimandir.com
SUMMARY:August Calendar
DESCRIPTION:To view the calendar in PDF format\, click here.
URL:https://www.shantimandir.com/event/august-calendar-2017/
LOCATION:Shanti Mandir Walden\, 51 Muktananda Marg\, Walden\, NY\, 12586\, United States
CATEGORIES:Gurudev's 2017 Schedule,Walden Ashram
ATTACH;FMTTYPE=image/jpeg:https://www.shantimandir.com/wp-content/uploads/2017/08/August-Calendar-2017.jpg
END:VEVENT
BEGIN:VEVENT
DTSTART;TZID=UTC:20170729T190000
DTEND;TZID=UTC:20170729T210000
DTSTAMP:20260421T163350
CREATED:20170626T040645Z
LAST-MODIFIED:20170726T221632Z
UID:7082-1501354800-1501362000@www.shantimandir.com
SUMMARY:Concert
DESCRIPTION:
URL:https://www.shantimandir.com/event/concert-july-2017/
LOCATION:Shanti Mandir Walden\, 51 Muktananda Marg\, Walden\, NY\, 12586\, United States
CATEGORIES:Gurudev's 2017 Schedule,Walden Ashram
ATTACH;FMTTYPE=image/jpeg:https://www.shantimandir.com/wp-content/uploads/2017/06/Steve-Gorn-Concert-Flyer-July-2017.jpg
END:VEVENT
BEGIN:VEVENT
DTSTART;TZID=UTC:20170729T100000
DTEND;TZID=UTC:20170729T170000
DTSTAMP:20260421T163350
CREATED:20170727T165336Z
LAST-MODIFIED:20170727T165336Z
UID:7131-1501322400-1501347600@www.shantimandir.com
SUMMARY:Panel Discussion
DESCRIPTION:To view the flyer in PDF format\, click here.
URL:https://www.shantimandir.com/event/panel-discussion-july-2017/
LOCATION:Shanti Mandir Walden\, 51 Muktananda Marg\, Walden\, NY\, 12586\, United States
CATEGORIES:Courses,Gurudev's 2017 Schedule,Walden Ashram
ATTACH;FMTTYPE=image/jpeg:https://www.shantimandir.com/wp-content/uploads/2017/07/Panel-Disucssion-Flyer-July-2017.jpg
END:VEVENT
BEGIN:VEVENT
DTSTART;VALUE=DATE:20170717
DTEND;VALUE=DATE:20170730
DTSTAMP:20260421T163350
CREATED:20170524T173057Z
LAST-MODIFIED:20170715T203014Z
UID:6943-1500249600-1501372799@www.shantimandir.com
SUMMARY:Yoga Philosophy Workshops
DESCRIPTION:For more information\, click here.
URL:https://www.shantimandir.com/event/yoga-philosophy-workshops/
LOCATION:Shanti Mandir Walden\, 51 Muktananda Marg\, Walden\, NY\, 12586\, United States
CATEGORIES:Courses,Gurudev's 2017 Schedule,Walden Ashram
ATTACH;FMTTYPE=image/jpeg:https://www.shantimandir.com/wp-content/uploads/2017/05/Yoga-Phil-Workshops-Flyer-July-2017.jpg
END:VEVENT
BEGIN:VEVENT
DTSTART;VALUE=DATE:20170709
DTEND;VALUE=DATE:20170717
DTSTAMP:20260421T163350
CREATED:20170602T185807Z
LAST-MODIFIED:20170602T190104Z
UID:6965-1499558400-1500249599@www.shantimandir.com
SUMMARY:Youth Retreat
DESCRIPTION:To view the flyer in PDF format\, click here.
URL:https://www.shantimandir.com/event/youth-retreat-2017/
LOCATION:Shanti Mandir Walden\, 51 Muktananda Marg\, Walden\, NY\, 12586\, United States
CATEGORIES:Courses,Gurudev's 2017 Schedule,Walden Ashram
ATTACH;FMTTYPE=image/jpeg:https://www.shantimandir.com/wp-content/uploads/2017/06/Youth-Retreat-Flyer-2017.jpg
END:VEVENT
BEGIN:VEVENT
DTSTART;VALUE=DATE:20170708
DTEND;VALUE=DATE:20170709
DTSTAMP:20260421T163350
CREATED:20170707T223635Z
LAST-MODIFIED:20170707T225006Z
UID:7106-1499472000-1499558399@www.shantimandir.com
SUMMARY:Guru Poornima
DESCRIPTION:To view the schedule in PDF format\, click here.
URL:https://www.shantimandir.com/event/guru-poornima-2017/
LOCATION:Shanti Mandir Walden\, 51 Muktananda Marg\, Walden\, NY\, 12586\, United States
CATEGORIES:Festivals,Gurudev's 2017 Schedule,Walden Ashram
ATTACH;FMTTYPE=image/jpeg:https://www.shantimandir.com/wp-content/uploads/2017/07/Guru-Poornima-Schedule-2017-1.jpg
END:VEVENT
BEGIN:VEVENT
DTSTART;TZID=UTC:20170702T180000
DTEND;TZID=UTC:20170702T200000
DTSTAMP:20260421T163350
CREATED:20170625T153231Z
LAST-MODIFIED:20170625T153244Z
UID:7075-1499018400-1499025600@www.shantimandir.com
SUMMARY:Gathering of Saints
DESCRIPTION:To view the flyer in PDF format\, click here.
URL:https://www.shantimandir.com/event/gathering-of-saints-2017/
LOCATION:Hindu Center\, 4552 Kissena Boulevard\, Flushing\, NY\, 11355\, United States
CATEGORIES:Gurudev's 2017 Schedule,Walden Ashram
ATTACH;FMTTYPE=image/jpeg:https://www.shantimandir.com/wp-content/uploads/2017/06/Sant-Samagam-Flyer-2017.jpg
END:VEVENT
BEGIN:VEVENT
DTSTART;TZID=UTC:20170701T090000
DTEND;TZID=UTC:20170701T160000
DTSTAMP:20260421T163350
CREATED:20170605T203931Z
LAST-MODIFIED:20170606T174332Z
UID:6987-1498899600-1498924800@www.shantimandir.com
SUMMARY:Meditation Intensive with Gurudev
DESCRIPTION:To view the flyer in PDF format\, click here.
URL:https://www.shantimandir.com/event/meditation-intensive-july-2017/
LOCATION:Shanti Mandir Walden\, 51 Muktananda Marg\, Walden\, NY\, 12586\, United States
CATEGORIES:Courses,Gurudev's 2017 Schedule,Walden Ashram
ATTACH;FMTTYPE=image/jpeg:https://www.shantimandir.com/wp-content/uploads/2017/06/Meditation-Intensive-Flyer-July-2017.jpg
END:VEVENT
BEGIN:VEVENT
DTSTART;VALUE=DATE:20170701
DTEND;VALUE=DATE:20170801
DTSTAMP:20260421T163350
CREATED:20170625T152807Z
LAST-MODIFIED:20170625T152854Z
UID:7073-1498867200-1501545599@www.shantimandir.com
SUMMARY:July Calendar
DESCRIPTION:To view the calendar in PDF format\, click here.
URL:https://www.shantimandir.com/event/july-calendar-2017/
LOCATION:Shanti Mandir Walden\, 51 Muktananda Marg\, Walden\, NY\, 12586\, United States
CATEGORIES:Courses,Festivals,Gurudev's 2017 Schedule,Walden Ashram
ATTACH;FMTTYPE=image/jpeg:https://www.shantimandir.com/wp-content/uploads/2017/06/July-Calendar-2017.jpg
END:VEVENT
BEGIN:VEVENT
DTSTART;VALUE=DATE:20170701
DTEND;VALUE=DATE:20170710
DTSTAMP:20260421T163350
CREATED:20170608T181413Z
LAST-MODIFIED:20170608T181413Z
UID:7004-1498867200-1499644799@www.shantimandir.com
SUMMARY:Conversations with Gurudev
DESCRIPTION:To view the flyer in PDF format\, click here.
URL:https://www.shantimandir.com/event/conversations-gurudev-july-2017/
LOCATION:Shanti Mandir Walden\, 51 Muktananda Marg\, Walden\, NY\, 12586\, United States
CATEGORIES:Courses,Gurudev's 2017 Schedule,Walden Ashram
ATTACH;FMTTYPE=image/jpeg:https://www.shantimandir.com/wp-content/uploads/2016/07/Conversations-Flyer-July-2017.jpg
END:VEVENT
BEGIN:VEVENT
DTSTART;TZID=UTC:20170617T170000
DTEND;TZID=UTC:20170617T190000
DTSTAMP:20260421T163350
CREATED:20170610T180901Z
LAST-MODIFIED:20170610T180901Z
UID:7017-1497718800-1497726000@www.shantimandir.com
SUMMARY:Community Satsang
DESCRIPTION:To view the flyer in PDF format\, click here.
URL:https://www.shantimandir.com/event/community-satsang-june-2017/
LOCATION:NY
CATEGORIES:Gurudev's 2017 Schedule
ATTACH;FMTTYPE=image/jpeg:https://www.shantimandir.com/wp-content/uploads/2015/03/Community-Satsang-IrvineCA-June-2017.jpg
END:VEVENT
BEGIN:VEVENT
DTSTART;VALUE=DATE:20170401
DTEND;VALUE=DATE:20170501
DTSTAMP:20260421T163350
CREATED:20170401T225021Z
LAST-MODIFIED:20170413T180921Z
UID:6726-1491004800-1493596799@www.shantimandir.com
SUMMARY:April Calendar
DESCRIPTION:To view the calendar in PDF format\, click here.
URL:https://www.shantimandir.com/event/april-calendar/
LOCATION:Shanti Mandir Walden\, 51 Muktananda Marg\, Walden\, NY\, 12586\, United States
CATEGORIES:Gurudev's 2017 Schedule,Walden Ashram
ATTACH;FMTTYPE=image/jpeg:https://www.shantimandir.com/wp-content/uploads/2017/04/April-Calendar-2017-2.jpg
END:VEVENT
BEGIN:VEVENT
DTSTART;VALUE=DATE:20170328
DTEND;VALUE=DATE:20170329
DTSTAMP:20260421T163350
CREATED:20170327T193325Z
LAST-MODIFIED:20170327T194045Z
UID:6716-1490659200-1490691600@www.shantimandir.com
SUMMARY:Navaratra
DESCRIPTION:To view the schedule in PDF format\, click here.
URL:https://www.shantimandir.com/event/navaratra-spring-2017/
LOCATION:Shanti Mandir Walden\, 51 Muktananda Marg\, Walden\, NY\, 12586\, United States
CATEGORIES:Festivals,Gurudev's 2017 Schedule,Walden Ashram
ATTACH;FMTTYPE=image/jpeg:https://www.shantimandir.com/wp-content/uploads/2017/03/Vasant-Navaratra-Schedule-2017.jpg
END:VEVENT
BEGIN:VEVENT
DTSTART;TZID=UTC:20170325T090000
DTEND;TZID=UTC:20170325T160000
DTSTAMP:20260421T163350
CREATED:20170220T185649Z
LAST-MODIFIED:20170222T210404Z
UID:6617-1490432400-1490457600@www.shantimandir.com
SUMMARY:Meditation Intensive
DESCRIPTION:  \nTo view the flyer in PDF format\, click here.
URL:https://www.shantimandir.com/event/mar-2017/
LOCATION:Shanti Mandir Walden\, 51 Muktananda Marg\, Walden\, NY\, 12586\, United States
CATEGORIES:Courses,Gurudev's 2017 Schedule,Walden Ashram
ATTACH;FMTTYPE=image/jpeg:https://www.shantimandir.com/wp-content/uploads/2015/04/Meditation-Intensive-Flyer-Mar-2017.jpg
END:VEVENT
BEGIN:VEVENT
DTSTART;VALUE=DATE:20170318
DTEND;VALUE=DATE:20170327
DTSTAMP:20260421T163350
CREATED:20170220T193936Z
LAST-MODIFIED:20170304T171741Z
UID:6623-1489795200-1490572799@www.shantimandir.com
SUMMARY:Conversations with Gurudev
DESCRIPTION:To view the flyer in PDF format\, click here.
URL:https://www.shantimandir.com/event/conversations-gurudev-mar-2017/
LOCATION:Shanti Mandir Walden\, 51 Muktananda Marg\, Walden\, NY\, 12586\, United States
CATEGORIES:Courses,Gurudev's 2017 Schedule,Walden Ashram
ATTACH;FMTTYPE=image/jpeg:https://www.shantimandir.com/wp-content/uploads/2016/07/Conversations-Flyer-Mar-2017.jpg
END:VEVENT
BEGIN:VEVENT
DTSTART;TZID=UTC:20170311T180000
DTEND;TZID=UTC:20170311T180000
DTSTAMP:20260421T163350
CREATED:20170222T211222Z
LAST-MODIFIED:20170227T203917Z
UID:6640-1489255200-1489255200@www.shantimandir.com
SUMMARY:Concert
DESCRIPTION:To view the flyer in PDF format\, click here.
URL:https://www.shantimandir.com/event/concert-mar-2017/
LOCATION:Shanti Mandir Walden\, 51 Muktananda Marg\, Walden\, NY\, 12586\, United States
CATEGORIES:Gurudev's 2017 Schedule,Walden Ashram
ATTACH;FMTTYPE=image/jpeg:https://www.shantimandir.com/wp-content/uploads/2017/02/march11_email.jpg
END:VEVENT
BEGIN:VEVENT
DTSTART;VALUE=DATE:20170301
DTEND;VALUE=DATE:20170401
DTSTAMP:20260421T163350
CREATED:20170224T003101Z
LAST-MODIFIED:20170227T203146Z
UID:6644-1488326400-1491004799@www.shantimandir.com
SUMMARY:March Calendar
DESCRIPTION:To view the calendar in PDF format\, click here.
URL:https://www.shantimandir.com/event/mar-calendar-2017/
LOCATION:Shanti Mandir Walden\, 51 Muktananda Marg\, Walden\, NY\, 12586\, United States
CATEGORIES:Gurudev's 2017 Schedule,Walden Ashram
ATTACH;FMTTYPE=image/jpeg:https://www.shantimandir.com/wp-content/uploads/2017/02/March-Calendar-2017-2.jpg
END:VEVENT
BEGIN:VEVENT
DTSTART;VALUE=DATE:20160902
DTEND;VALUE=DATE:20160906
DTSTAMP:20260421T163350
CREATED:20171214T162631Z
LAST-MODIFIED:20171214T162631Z
UID:7660-1472774400-1473119999@www.shantimandir.com
SUMMARY:Bhuvaneshwar Mandir Camp
DESCRIPTION:
URL:https://www.shantimandir.com/event/bhuvaneshwar-mandir-camp-2016/
LOCATION:Shanti Mandir Walden\, 51 Muktananda Marg\, Walden\, NY\, 12586\, United States
CATEGORIES:Courses,Gurudev's 2017 Schedule,Walden Ashram
ATTACH;FMTTYPE=image/jpeg:https://www.shantimandir.com/wp-content/uploads/2017/12/Arun-Gossai-Camp-2016.jpg
END:VEVENT
END:VCALENDAR