BEGIN:VCALENDAR
VERSION:2.0
PRODID:-//Shanti Mandir - ECPv6.3.6//NONSGML v1.0//EN
CALSCALE:GREGORIAN
METHOD:PUBLISH
X-ORIGINAL-URL:https://www.shantimandir.com
X-WR-CALDESC:Events for Shanti Mandir
REFRESH-INTERVAL;VALUE=DURATION:PT1H
X-Robots-Tag:noindex
X-PUBLISHED-TTL:PT1H
BEGIN:VTIMEZONE
TZID:UTC
BEGIN:STANDARD
TZOFFSETFROM:+0000
TZOFFSETTO:+0000
TZNAME:UTC
DTSTART:20160101T000000
END:STANDARD
END:VTIMEZONE
BEGIN:VEVENT
DTSTART;TZID=UTC:20160904T160000
DTEND;TZID=UTC:20160904T180000
DTSTAMP:20260421T153448
CREATED:20160824T174908Z
LAST-MODIFIED:20160824T175006Z
UID:6076-1473004800-1473012000@www.shantimandir.com
SUMMARY:Bansuri Concert
DESCRIPTION:To view the flyer in PDF format\, click here.
URL:https://www.shantimandir.com/event/bansuri-concert-aug-2016/
LOCATION:Shanti Mandir Walden\, 51 Muktananda Marg\, Walden\, NY\, 12586\, United States
CATEGORIES:Gurudev's 2016 Schedule,Walden Ashram
ATTACH;FMTTYPE=image/jpeg:https://www.shantimandir.com/wp-content/uploads/2016/08/gandhi_kavthekar_email.jpg
END:VEVENT
BEGIN:VEVENT
DTSTART;TZID=UTC:20160904T090000
DTEND;TZID=UTC:20160904T120000
DTSTAMP:20260421T153448
CREATED:20160623T201641Z
LAST-MODIFIED:20160902T180147Z
UID:5965-1472979600-1472990400@www.shantimandir.com
SUMMARY:Satsang with Gurudev
DESCRIPTION:9:00-10:00am Shree Guru Gita \n10:00am – noon Satsang (includes kirtan\, meditation\, and a talk by Gurudev) \nA vegetarian meal follows and everyone is welcome to participate. \n \nTo view the calendar in PDF format\, click here.
URL:https://www.shantimandir.com/event/satsang-gurudev-july-oct-2016-2016-09-04/
LOCATION:Shanti Mandir Walden\, 51 Muktananda Marg\, Walden\, NY\, 12586\, United States
CATEGORIES:Gurudev's 2016 Schedule,Walden Ashram
ATTACH;FMTTYPE=image/jpeg:https://www.shantimandir.com/wp-content/uploads/2014/01/DSC_1529a_opt.jpg
END:VEVENT
BEGIN:VEVENT
DTSTART;TZID=UTC:20160903T090000
DTEND;TZID=UTC:20160903T160000
DTSTAMP:20260421T153448
CREATED:20160623T193649Z
LAST-MODIFIED:20160824T043139Z
UID:5951-1472893200-1472918400@www.shantimandir.com
SUMMARY:Meditation Intensive
DESCRIPTION:To view the flyer in PDF format\, click here.
URL:https://www.shantimandir.com/event/meditation-intensive-sept-2016/
LOCATION:Shanti Mandir Walden\, 51 Muktananda Marg\, Walden\, NY\, 12586\, United States
CATEGORIES:Courses,Gurudev's 2016 Schedule,Walden Ashram
ATTACH;FMTTYPE=image/jpeg:https://www.shantimandir.com/wp-content/uploads/2015/04/Meditation-Intensive-Flyer-Aug-2016-1.jpg
END:VEVENT
BEGIN:VEVENT
DTSTART;VALUE=DATE:20160903
DTEND;VALUE=DATE:20160904
DTSTAMP:20260421T153448
CREATED:20160822T183212Z
LAST-MODIFIED:20160830T180542Z
UID:6069-1472860800-1472947199@www.shantimandir.com
SUMMARY:Labor Day Weekend
DESCRIPTION:To view the flyer in PDF format\, click here.
URL:https://www.shantimandir.com/event/labor-day-weekend/
LOCATION:Shanti Mandir Walden\, 51 Muktananda Marg\, Walden\, NY\, 12586\, United States
CATEGORIES:Gurudev's 2016 Schedule,Walden Ashram
ATTACH;FMTTYPE=image/jpeg:https://www.shantimandir.com/wp-content/uploads/2016/08/labor_day_08_29_r1.jpg
END:VEVENT
BEGIN:VEVENT
DTSTART;TZID=UTC:20160821T090000
DTEND;TZID=UTC:20160821T120000
DTSTAMP:20260421T153448
CREATED:20160623T201641Z
LAST-MODIFIED:20160805T203536Z
UID:5963-1471770000-1471780800@www.shantimandir.com
SUMMARY:Satsang with Gurudev
DESCRIPTION:9:00-10:00am Shree Guru Gita \n10:00am – noon Satsang (includes kirtan\, meditation\, and a talk by Gurudev) \nPresentation of visit to SM Magod by Ashima and Abhishek Agarwal \nA vegetarian meal follows and everyone is welcome to participate.
URL:https://www.shantimandir.com/event/satsang-gurudev-july-oct-2016-2016-08-21/
LOCATION:Shanti Mandir Walden\, 51 Muktananda Marg\, Walden\, NY\, 12586\, United States
CATEGORIES:Gurudev's 2016 Schedule,Walden Ashram
ATTACH;FMTTYPE=image/jpeg:https://www.shantimandir.com/wp-content/uploads/2014/01/DSC_1529a_opt.jpg
END:VEVENT
BEGIN:VEVENT
DTSTART;TZID=UTC:20160820T100000
DTEND;TZID=UTC:20160820T160000
DTSTAMP:20260421T153448
CREATED:20160805T203333Z
LAST-MODIFIED:20160805T203333Z
UID:6055-1471687200-1471708800@www.shantimandir.com
SUMMARY:All-Day Kirtan
DESCRIPTION:
URL:https://www.shantimandir.com/event/all-day-kirtan-2/
LOCATION:Shanti Mandir Walden\, 51 Muktananda Marg\, Walden\, NY\, 12586\, United States
CATEGORIES:Gurudev's 2016 Schedule,Walden Ashram
ATTACH;FMTTYPE=image/jpeg:https://www.shantimandir.com/wp-content/uploads/2014/01/DSC_3728_opt-2.jpg
END:VEVENT
BEGIN:VEVENT
DTSTART;TZID=UTC:20160815T064500
DTEND;TZID=UTC:20160815T080000
DTSTAMP:20260421T153448
CREATED:20160805T204023Z
LAST-MODIFIED:20160805T204023Z
UID:6056-1471243500-1471248000@www.shantimandir.com
SUMMARY:Baba Muktananda's Divya Diksha (Initiation Day)
DESCRIPTION:The day Baba received Shaktipat initiation from Bhagawan Nityananda. \n6:45am – Shree Guru Gita \n 
URL:https://www.shantimandir.com/event/baba-muktanandas-divya-diksha-initiation-day/
LOCATION:Shanti Mandir Walden\, 51 Muktananda Marg\, Walden\, NY\, 12586\, United States
CATEGORIES:Festivals,Gurudev's 2016 Schedule,Walden Ashram
ATTACH;FMTTYPE=image/jpeg:https://www.shantimandir.com/wp-content/uploads/2013/12/muktananda-05.jpg
END:VEVENT
BEGIN:VEVENT
DTSTART;TZID=UTC:20160814T090000
DTEND;TZID=UTC:20160814T120000
DTSTAMP:20260421T153448
CREATED:20160623T201641Z
LAST-MODIFIED:20160805T200442Z
UID:5962-1471165200-1471176000@www.shantimandir.com
SUMMARY:Satsang with Gurudev
DESCRIPTION:9:00-10:00am Shree Guru Gita \n10:00am – noon Satsang (includes kirtan\, meditation\, and talks) \nA talk by Dana Wilkinson\, followed by a talk by Gurudev \nA vegetarian meal follows and everyone is welcome to participate.
URL:https://www.shantimandir.com/event/satsang-gurudev-july-oct-2016-2016-08-14/
LOCATION:Shanti Mandir Walden\, 51 Muktananda Marg\, Walden\, NY\, 12586\, United States
CATEGORIES:Gurudev's 2016 Schedule,Walden Ashram
ATTACH;FMTTYPE=image/jpeg:https://www.shantimandir.com/wp-content/uploads/2014/01/DSC_1529a_opt.jpg
END:VEVENT
BEGIN:VEVENT
DTSTART;TZID=UTC:20160813T090000
DTEND;TZID=UTC:20160813T160000
DTSTAMP:20260421T153448
CREATED:20160623T192838Z
LAST-MODIFIED:20160802T175741Z
UID:5949-1471078800-1471104000@www.shantimandir.com
SUMMARY:Meditation Intensive
DESCRIPTION:To view the flyer in PDF format\, click here.
URL:https://www.shantimandir.com/event/meditation-intensive-aug-2016/
LOCATION:Shanti Mandir Walden\, 51 Muktananda Marg\, Walden\, NY\, 12586\, United States
CATEGORIES:Courses,Gurudev's 2016 Schedule,Walden Ashram
ATTACH;FMTTYPE=image/jpeg:https://www.shantimandir.com/wp-content/uploads/2015/04/Meditation-Intensive-Flyer-Aug-2016.jpg
END:VEVENT
BEGIN:VEVENT
DTSTART;VALUE=DATE:20160813
DTEND;VALUE=DATE:20160822
DTSTAMP:20260421T153448
CREATED:20160805T202739Z
LAST-MODIFIED:20160806T195746Z
UID:6053-1471046400-1471823999@www.shantimandir.com
SUMMARY:Conversations with Gurudev
DESCRIPTION:To view the flyer in PDF format\, click here.
URL:https://www.shantimandir.com/event/conversations-with-gurudev/
LOCATION:Shanti Mandir Walden\, 51 Muktananda Marg\, Walden\, NY\, 12586\, United States
CATEGORIES:Courses,Gurudev's 2016 Schedule,Walden Ashram
ATTACH;FMTTYPE=image/jpeg:https://www.shantimandir.com/wp-content/uploads/2016/07/Conversations-with-Gurudev-Aug-2016.jpg
END:VEVENT
BEGIN:VEVENT
DTSTART;TZID=UTC:20160807T090000
DTEND;TZID=UTC:20160807T120000
DTSTAMP:20260421T153448
CREATED:20160623T201641Z
LAST-MODIFIED:20160801T001042Z
UID:5961-1470560400-1470571200@www.shantimandir.com
SUMMARY:Satsang with Gurudev
DESCRIPTION:9:00-10:00am Shree Guru Gita \n10:00am – noon Satsang (includes kirtan\, meditation\, and a talk by Gurudev) \nA vegetarian meal follows and everyone is welcome to participate. \n \nTo view the calendar in PDF format\, click here.
URL:https://www.shantimandir.com/event/satsang-gurudev-july-oct-2016-2016-08-07/
LOCATION:Shanti Mandir Walden\, 51 Muktananda Marg\, Walden\, NY\, 12586\, United States
CATEGORIES:Gurudev's 2016 Schedule,Walden Ashram
ATTACH;FMTTYPE=image/jpeg:https://www.shantimandir.com/wp-content/uploads/2014/01/DSC_1529a_opt.jpg
END:VEVENT
BEGIN:VEVENT
DTSTART;TZID=UTC:20160730T100000
DTEND;TZID=UTC:20160730T160000
DTSTAMP:20260421T153448
CREATED:20160617T200602Z
LAST-MODIFIED:20160617T200602Z
UID:5926-1469872800-1469894400@www.shantimandir.com
SUMMARY:Bhagawan's Mahasamadhi-All-Day Chant
DESCRIPTION:Bhagawan Nityananda’s Mahasamadhi \n10:00am – 4:00pm – All-Day Chant
URL:https://www.shantimandir.com/event/all-day-chant-july-2016-2/
LOCATION:Shanti Mandir Walden\, 51 Muktananda Marg\, Walden\, NY\, 12586\, United States
CATEGORIES:Gurudev's 2016 Schedule,Walden Ashram
ATTACH;FMTTYPE=image/jpeg:https://www.shantimandir.com/wp-content/uploads/2014/01/bhagavan-04.jpg
END:VEVENT
BEGIN:VEVENT
DTSTART;TZID=UTC:20160723T073000
DTEND;TZID=UTC:20160723T210000
DTSTAMP:20260421T153448
CREATED:20160705T224124Z
LAST-MODIFIED:20160705T224124Z
UID:6005-1469259000-1469307600@www.shantimandir.com
SUMMARY:Evening Kirtan
DESCRIPTION:We welcome everyone to an ecstatic evening of Kirtan and meditation.
URL:https://www.shantimandir.com/event/evening-kirtan-20/
LOCATION:Shanti Mandir Walden\, 51 Muktananda Marg\, Walden\, NY\, 12586\, United States
CATEGORIES:Gurudev's 2016 Schedule,Walden Ashram
ATTACH;FMTTYPE=image/jpeg:https://www.shantimandir.com/wp-content/uploads/2014/01/DSC_3728_opt-2.jpg
END:VEVENT
BEGIN:VEVENT
DTSTART;TZID=UTC:20160719T070000
DTEND;TZID=UTC:20160719T123000
DTSTAMP:20260421T153448
CREATED:20160617T194032Z
LAST-MODIFIED:20160617T194433Z
UID:5924-1468911600-1468931400@www.shantimandir.com
SUMMARY:Guru Poornima
DESCRIPTION:Guru Poornima – Full Moon \n7:00am – Meditation \n8:30am – Breakfast \n10:00am – Shree Guru Gita \n12:30pm – Bhandara (Festive lunch)
URL:https://www.shantimandir.com/event/guru-poornima-2016/
LOCATION:Shanti Mandir Walden\, 51 Muktananda Marg\, Walden\, NY\, 12586\, United States
CATEGORIES:Gurudev's 2016 Schedule,Walden Ashram
ATTACH;FMTTYPE=image/jpeg:https://www.shantimandir.com/wp-content/uploads/2014/01/DSC_1529a_opt.jpg
END:VEVENT
BEGIN:VEVENT
DTSTART;TZID=UTC:20160717T090000
DTEND;TZID=UTC:20160717T120000
DTSTAMP:20260421T153448
CREATED:20160623T201641Z
LAST-MODIFIED:20160705T224554Z
UID:5972-1468746000-1468756800@www.shantimandir.com
SUMMARY:Satsang with Gurudev
DESCRIPTION:9:00-10:00am Shree Guru Gita \n10:00am – noon Satsang (includes kirtan\, meditation\, and a talk by Gurudev) \nA vegetarian meal follows and everyone is welcome to participate.
URL:https://www.shantimandir.com/event/satsang-gurudev-july-oct-2016-2016-07-17/
LOCATION:Shanti Mandir Walden\, 51 Muktananda Marg\, Walden\, NY\, 12586\, United States
CATEGORIES:Gurudev's 2016 Schedule,Walden Ashram
ATTACH;FMTTYPE=image/jpeg:https://www.shantimandir.com/wp-content/uploads/2014/01/DSC_1529a_opt.jpg
END:VEVENT
BEGIN:VEVENT
DTSTART;VALUE=DATE:20160717
DTEND;VALUE=DATE:20160725
DTSTAMP:20260421T153448
CREATED:20160507T184801Z
LAST-MODIFIED:20160713T181036Z
UID:5793-1468713600-1469404799@www.shantimandir.com
SUMMARY:Youth Retreat
DESCRIPTION:To view the flyer in PDF format\, click here. \n \nTo view the Pointers in PDF format\, click here.
URL:https://www.shantimandir.com/event/youth-retreat-2016/
LOCATION:Shanti Mandir Walden\, 51 Muktananda Marg\, Walden\, NY\, 12586\, United States
CATEGORIES:Courses,Gurudev's 2016 Schedule,Walden Ashram
ATTACH;FMTTYPE=image/jpeg:https://www.shantimandir.com/wp-content/uploads/2014/02/Youth-Retreat-Flyer-2016.jpg
END:VEVENT
BEGIN:VEVENT
DTSTART;TZID=UTC:20160716T190000
DTEND;TZID=UTC:20160716T210000
DTSTAMP:20260421T153448
CREATED:20160617T193534Z
LAST-MODIFIED:20160709T165324Z
UID:5922-1468695600-1468702800@www.shantimandir.com
SUMMARY:Santoor Concert
DESCRIPTION:
URL:https://www.shantimandir.com/event/santoor-concert-july-2016/
LOCATION:Shanti Mandir Walden\, 51 Muktananda Marg\, Walden\, NY\, 12586\, United States
CATEGORIES:Gurudev's 2016 Schedule,Walden Ashram
ATTACH;FMTTYPE=image/jpeg:https://www.shantimandir.com/wp-content/uploads/2016/06/desai_july16_flyer.jpg
END:VEVENT
BEGIN:VEVENT
DTSTART;TZID=UTC:20160716T090000
DTEND;TZID=UTC:20160716T160000
DTSTAMP:20260421T153448
CREATED:20160617T192414Z
LAST-MODIFIED:20160702T192931Z
UID:5920-1468659600-1468684800@www.shantimandir.com
SUMMARY:Meditation Intensive
DESCRIPTION:To view the flyer in PDF format\, click here.
URL:https://www.shantimandir.com/event/meditation-intensive-july-2016/
LOCATION:Shanti Mandir Walden\, 51 Muktananda Marg\, Walden\, NY\, 12586\, United States
CATEGORIES:Gurudev's 2016 Schedule,Walden Ashram
ATTACH;FMTTYPE=image/jpeg:https://www.shantimandir.com/wp-content/uploads/2016/06/Meditation-Intensive-Flyer-July-2016.jpg
END:VEVENT
BEGIN:VEVENT
DTSTART;TZID=UTC:20160710T090000
DTEND;TZID=UTC:20160710T120000
DTSTAMP:20260421T153448
CREATED:20160623T201641Z
LAST-MODIFIED:20160705T224643Z
UID:5958-1468141200-1468152000@www.shantimandir.com
SUMMARY:Satsang with Gurudev
DESCRIPTION:9:00-10:00am Shree Guru Gita \nGuest speaker: Mahamandaleshwar Swami Vishweshwarananda \n10:00am – noon Satsang (includes kirtan\, meditation\, and talks by Swamiji & Gurudev) \nA vegetarian meal follows and everyone is welcome to participate.
URL:https://www.shantimandir.com/event/satsang-gurudev-july-oct-2016/
LOCATION:Shanti Mandir Walden\, 51 Muktananda Marg\, Walden\, NY\, 12586\, United States
CATEGORIES:Gurudev's 2016 Schedule,Walden Ashram
ATTACH;FMTTYPE=image/jpeg:https://www.shantimandir.com/wp-content/uploads/2014/01/DSC_1529a_opt.jpg
END:VEVENT
BEGIN:VEVENT
DTSTART;TZID=UTC:20160709T100000
DTEND;TZID=UTC:20160709T160000
DTSTAMP:20260421T153448
CREATED:20160705T224533Z
LAST-MODIFIED:20160705T224533Z
UID:6008-1468058400-1468080000@www.shantimandir.com
SUMMARY:All-Day Kirtan
DESCRIPTION:
URL:https://www.shantimandir.com/event/all-day-kirtan/
LOCATION:Shanti Mandir Walden\, 51 Muktananda Marg\, Walden\, NY\, 12586\, United States
CATEGORIES:Gurudev's 2016 Schedule,Walden Ashram
ATTACH;FMTTYPE=image/jpeg:https://www.shantimandir.com/wp-content/uploads/2014/01/DSC_3728_opt-2.jpg
END:VEVENT
BEGIN:VEVENT
DTSTART;VALUE=DATE:20160709
DTEND;VALUE=DATE:20160718
DTSTAMP:20260421T153448
CREATED:20160617T201825Z
LAST-MODIFIED:20160706T171926Z
UID:5927-1468022400-1468799999@www.shantimandir.com
SUMMARY:Mornings with Gurudev
DESCRIPTION:To view the flyer in PDF format\, click here. \n 
URL:https://www.shantimandir.com/event/mornings-with-gurudev-july-2016/
LOCATION:Shanti Mandir Walden\, 51 Muktananda Marg\, Walden\, NY\, 12586\, United States
CATEGORIES:Courses,Gurudev's 2016 Schedule,Walden Ashram
ATTACH;FMTTYPE=image/jpeg:https://www.shantimandir.com/wp-content/uploads/2016/06/Mornings-Flyer-July-2016.jpg
END:VEVENT
BEGIN:VEVENT
DTSTART;TZID=UTC:20160704T103000
DTEND;TZID=UTC:20160704T120000
DTSTAMP:20260421T153448
CREATED:20160606T191809Z
LAST-MODIFIED:20160613T043001Z
UID:5877-1467628200-1467633600@www.shantimandir.com
SUMMARY:Tabla Duet Concert
DESCRIPTION:
URL:https://www.shantimandir.com/event/tabla-duet-concert/
LOCATION:Shanti Mandir Walden\, 51 Muktananda Marg\, Walden\, NY\, 12586\, United States
CATEGORIES:Gurudev's 2016 Schedule,Walden Ashram
ATTACH;FMTTYPE=image/jpeg:https://www.shantimandir.com/wp-content/uploads/2016/06/Chatterjee-Concert-Flyer-July-2016-1.jpg
END:VEVENT
BEGIN:VEVENT
DTSTART;TZID=UTC:20160704T093000
DTEND;TZID=UTC:20160704T103000
DTSTAMP:20260421T153448
CREATED:20160617T190533Z
LAST-MODIFIED:20160627T041152Z
UID:5919-1467624600-1467628200@www.shantimandir.com
SUMMARY:Gurudev's Welcome
DESCRIPTION:To view the calendar in PDF format\, click here.
URL:https://www.shantimandir.com/event/gurudevs-welcome-summer-2016/
LOCATION:Shanti Mandir Walden\, 51 Muktananda Marg\, Walden\, NY\, 12586\, United States
CATEGORIES:Gurudev's 2016 Schedule,Walden Ashram
ATTACH;FMTTYPE=image/jpeg:https://www.shantimandir.com/wp-content/uploads/2016/06/Gurudev-Welcome-Invitation-July-2016.jpg
END:VEVENT
BEGIN:VEVENT
DTSTART;TZID=UTC:20160221T090000
DTEND;TZID=UTC:20160221T120000
DTSTAMP:20260421T153448
CREATED:20151224T225128Z
LAST-MODIFIED:20160125T193856Z
UID:5355-1456045200-1456056000@www.shantimandir.com
SUMMARY:Gurudev's Farewell Satsang
DESCRIPTION:9:00-10:00am Shree Guru Gita \n10:00am – noon Satsang (includes kirtan\, meditation\, and a talk by Gurudev) \nA vegetarian meal follows and everyone is welcome to participate. \n \nTo view the calendar in PDF format\, click here. \n 
URL:https://www.shantimandir.com/event/gurudevs-farewell-satsang-3/
LOCATION:Shanti Mandir Walden\, 51 Muktananda Marg\, Walden\, NY\, 12586\, United States
CATEGORIES:Gurudev's 2016 Schedule,Walden Ashram
ATTACH;FMTTYPE=image/jpeg:https://www.shantimandir.com/wp-content/uploads/2014/01/DSC_1529a_opt.jpg
END:VEVENT
BEGIN:VEVENT
DTSTART;TZID=UTC:20160220T100000
DTEND;TZID=UTC:20160220T170000
DTSTAMP:20260421T153448
CREATED:20151224T224919Z
LAST-MODIFIED:20160218T060002Z
UID:5353-1455962400-1455987600@www.shantimandir.com
SUMMARY:All-Day Chant
DESCRIPTION:
URL:https://www.shantimandir.com/event/all-day-chant-2/
LOCATION:Shanti Mandir Walden\, 51 Muktananda Marg\, Walden\, NY\, 12586\, United States
CATEGORIES:Gurudev's 2016 Schedule,Walden Ashram
ATTACH;FMTTYPE=image/jpeg:https://www.shantimandir.com/wp-content/uploads/2015/12/All-day-Chant-Flyer-022016.jpg
END:VEVENT
BEGIN:VEVENT
DTSTART;TZID=UTC:20160213T190000
DTEND;TZID=UTC:20160213T210000
DTSTAMP:20260421T153448
CREATED:20151224T213543Z
LAST-MODIFIED:20160128T232939Z
UID:5347-1455390000-1455397200@www.shantimandir.com
SUMMARY:Santoor Concert
DESCRIPTION:To view the flyer in PDF format\, click here.
URL:https://www.shantimandir.com/event/vinay-desai-santoor-concert/
LOCATION:Shanti Mandir Walden\, 51 Muktananda Marg\, Walden\, NY\, 12586\, United States
CATEGORIES:Gurudev's 2016 Schedule,Walden Ashram
ATTACH;FMTTYPE=image/jpeg:https://www.shantimandir.com/wp-content/uploads/2015/12/santoor_email.jpg
END:VEVENT
BEGIN:VEVENT
DTSTART;TZID=UTC:20160213T090000
DTEND;TZID=UTC:20160213T160000
DTSTAMP:20260421T153448
CREATED:20151224T214040Z
LAST-MODIFIED:20160104T234024Z
UID:5351-1455354000-1455379200@www.shantimandir.com
SUMMARY:Meditation Intensive with Gurudev
DESCRIPTION:To view the flyer in PDF format\, click here. \n 
URL:https://www.shantimandir.com/event/meditation-intensive-with-gurudev/
LOCATION:Shanti Mandir Walden\, 51 Muktananda Marg\, Walden\, NY\, 12586\, United States
CATEGORIES:Courses,Gurudev's 2016 Schedule,Walden Ashram
ATTACH;FMTTYPE=image/jpeg:https://www.shantimandir.com/wp-content/uploads/2015/12/Meditation-Intensive-Flyer-Feb-2016.jpg
END:VEVENT
BEGIN:VEVENT
DTSTART;VALUE=DATE:20160213
DTEND;VALUE=DATE:20160221
DTSTAMP:20260421T153448
CREATED:20151224T225340Z
LAST-MODIFIED:20160116T035336Z
UID:5357-1455321600-1456012799@www.shantimandir.com
SUMMARY:Winter Walden Retreat with Gurudev
DESCRIPTION:To view the flyer in PDF format\, click here.
URL:https://www.shantimandir.com/event/winter-walden-retreat-with-gurudev/
LOCATION:Shanti Mandir Walden\, 51 Muktananda Marg\, Walden\, NY\, 12586\, United States
CATEGORIES:Courses,Gurudev's 2016 Schedule,Walden Ashram
ATTACH;FMTTYPE=image/jpeg:https://www.shantimandir.com/wp-content/uploads/2016/01/Winter-Walden-Retreat-Flyer-2016.jpg
END:VEVENT
BEGIN:VEVENT
DTSTART;TZID=UTC:20160212T190000
DTEND;TZID=UTC:20160212T210000
DTSTAMP:20260421T153448
CREATED:20151224T212803Z
LAST-MODIFIED:20160105T000248Z
UID:5344-1455303600-1455310800@www.shantimandir.com
SUMMARY:Lecture by Devdutt Pattanaik
DESCRIPTION:To view the flyer in PDF format\, click here. \nTo find out more about Devdutt and his work\, visit his website here.
URL:https://www.shantimandir.com/event/lecture-by-devdutt-pattanaik/
LOCATION:Shanti Mandir Walden\, 51 Muktananda Marg\, Walden\, NY\, 12586\, United States
CATEGORIES:Courses,Gurudev's 2016 Schedule,Walden Ashram
ATTACH;FMTTYPE=image/jpeg:https://www.shantimandir.com/wp-content/uploads/2015/12/Devdutt-Pattanaik-Lecture-Flyer-2016.jpg
END:VEVENT
BEGIN:VEVENT
DTSTART;TZID=UTC:20160207T090000
DTEND;TZID=UTC:20160207T120000
DTSTAMP:20260421T153448
CREATED:20151224T212431Z
LAST-MODIFIED:20160125T193750Z
UID:5342-1454835600-1454846400@www.shantimandir.com
SUMMARY:Satsang with Gurudev
DESCRIPTION:9:00-10:00am Shree Guru Gita \n10:00am – noon Satsang (includes kirtan\, meditation\, and a talk by Gurudev) \nA vegetarian meal follows and everyone is welcome to participate. \n \nTo view the calendar in PDF format\, click here.
URL:https://www.shantimandir.com/event/satsang-with-gurudev/
LOCATION:Shanti Mandir Walden\, 51 Muktananda Marg\, Walden\, NY\, 12586\, United States
CATEGORIES:Gurudev's 2016 Schedule,Walden Ashram
ATTACH;FMTTYPE=image/jpeg:https://www.shantimandir.com/wp-content/uploads/2014/01/DSC_1529a_opt.jpg
END:VEVENT
END:VCALENDAR