BEGIN:VCALENDAR
VERSION:2.0
PRODID:-//Shanti Mandir - ECPv6.3.6//NONSGML v1.0//EN
CALSCALE:GREGORIAN
METHOD:PUBLISH
X-ORIGINAL-URL:https://www.shantimandir.com
X-WR-CALDESC:Events for Shanti Mandir
REFRESH-INTERVAL;VALUE=DURATION:PT1H
X-Robots-Tag:noindex
X-PUBLISHED-TTL:PT1H
BEGIN:VTIMEZONE
TZID:UTC
BEGIN:STANDARD
TZOFFSETFROM:+0000
TZOFFSETTO:+0000
TZNAME:UTC
DTSTART:20160101T000000
END:STANDARD
END:VTIMEZONE
BEGIN:VEVENT
DTSTART;TZID=UTC:20161127T090000
DTEND;TZID=UTC:20161127T120000
DTSTAMP:20260421T125011
CREATED:20161028T214923Z
LAST-MODIFIED:20161028T214955Z
UID:6220-1480237200-1480248000@www.shantimandir.com
SUMMARY:Gurudev's Farewell Satsang
DESCRIPTION:9:00-10:00am Shree Guru Gita \n10:00am – noon Satsang (includes kirtan\, meditation\, and a talk by Gurudev) \nA vegetarian meal follows and everyone is welcome to participate.
URL:https://www.shantimandir.com/event/gurudevs-farewell-satsang-nov-2016/
LOCATION:Shanti Mandir Walden\, 51 Muktananda Marg\, Walden\, NY\, 12586\, United States
CATEGORIES:Gurudev's 2016 Schedule,Walden Ashram
ATTACH;FMTTYPE=image/jpeg:https://www.shantimandir.com/wp-content/uploads/2014/01/DSC_1529a_opt.jpg
END:VEVENT
BEGIN:VEVENT
DTSTART;TZID=UTC:20161126T090000
DTEND;TZID=UTC:20161126T160000
DTSTAMP:20260421T125011
CREATED:20160623T194853Z
LAST-MODIFIED:20161115T200012Z
UID:5955-1480150800-1480176000@www.shantimandir.com
SUMMARY:Meditation Intensive
DESCRIPTION:To view the flyer in PDF format\, click here.
URL:https://www.shantimandir.com/event/meditation-intensive-nov-2016/
LOCATION:Shanti Mandir Walden\, 51 Muktananda Marg\, Walden\, NY\, 12586\, United States
CATEGORIES:Courses,Gurudev's 2016 Schedule,Walden Ashram
ATTACH;FMTTYPE=image/jpeg:https://www.shantimandir.com/wp-content/uploads/2015/04/Meditation-Intensive-Flyer-Nov-2016.jpg
END:VEVENT
BEGIN:VEVENT
DTSTART;TZID=UTC:20161031T100000
DTEND;TZID=UTC:20161031T120000
DTSTAMP:20260421T125011
CREATED:20160930T190724Z
LAST-MODIFIED:20160930T190724Z
UID:6169-1477908000-1477915200@www.shantimandir.com
SUMMARY:Annakoot (Mountain of Food)
DESCRIPTION:Pooja 10:00am – 12:00 noon
URL:https://www.shantimandir.com/event/annakoot-2016/
LOCATION:Shanti Mandir Walden\, 51 Muktananda Marg\, Walden\, NY\, 12586\, United States
CATEGORIES:Gurudev's 2016 Schedule,Walden Ashram
END:VEVENT
BEGIN:VEVENT
DTSTART;TZID=UTC:20161030T090000
DTEND;TZID=UTC:20161030T120000
DTSTAMP:20260421T125011
CREATED:20160930T190451Z
LAST-MODIFIED:20160930T190451Z
UID:6168-1477818000-1477828800@www.shantimandir.com
SUMMARY:Satsang with Gurudev
DESCRIPTION:9:00-10:00am Shree Guru Gita \n10:00am – noon Satsang (includes kirtan\, meditation\, and a talk by Gurudev) \nA vegetarian meal follows and everyone is welcome to participate. \n \nTo view the flyer in PDF format\, click here.
URL:https://www.shantimandir.com/event/satsang-gurudev-2/
LOCATION:Shanti Mandir Walden\, 51 Muktananda Marg\, Walden\, NY\, 12586\, United States
CATEGORIES:Gurudev's 2016 Schedule,Walden Ashram
ATTACH;FMTTYPE=image/jpeg:https://www.shantimandir.com/wp-content/uploads/2014/01/DSC_1529a_opt.jpg
END:VEVENT
BEGIN:VEVENT
DTSTART;VALUE=DATE:20161029
DTEND;VALUE=DATE:20161030
DTSTAMP:20260421T125011
CREATED:20160930T190220Z
LAST-MODIFIED:20160930T190220Z
UID:6167-1477699200-1477785599@www.shantimandir.com
SUMMARY:Deepawali: Festival of Lights
DESCRIPTION:Maha Lakshmi Pooja at sunset.
URL:https://www.shantimandir.com/event/deepawali-2016/
LOCATION:Shanti Mandir Walden\, 51 Muktananda Marg\, Walden\, NY\, 12586\, United States
CATEGORIES:Gurudev's 2016 Schedule,Walden Ashram
END:VEVENT
BEGIN:VEVENT
DTSTART;TZID=UTC:20161028T160000
DTEND;TZID=UTC:20161029T160000
DTSTAMP:20260421T125011
CREATED:20160930T190115Z
LAST-MODIFIED:20160930T190115Z
UID:6166-1477670400-1477756800@www.shantimandir.com
SUMMARY:24-Hour Chant
DESCRIPTION:4:00pm – Om Namah Shivaya (begins\, continues for 24 hours)
URL:https://www.shantimandir.com/event/24-hour-chant-2016/
LOCATION:Shanti Mandir Walden\, 51 Muktananda Marg\, Walden\, NY\, 12586\, United States
CATEGORIES:Gurudev's 2016 Schedule,Walden Ashram
END:VEVENT
BEGIN:VEVENT
DTSTART;VALUE=DATE:20161027
DTEND;VALUE=DATE:20161028
DTSTAMP:20260421T125011
CREATED:20160930T185703Z
LAST-MODIFIED:20160930T185929Z
UID:6165-1477526400-1477612799@www.shantimandir.com
SUMMARY:Dhan Trayodashi
DESCRIPTION:Pooja of the Treasurer of the Gods. Pooja at sunset.
URL:https://www.shantimandir.com/event/dhan-trayodashi-2016/
LOCATION:Shanti Mandir Walden\, 51 Muktananda Marg\, Walden\, NY\, 12586\, United States
CATEGORIES:Festivals,Gurudev's 2016 Schedule,Walden Ashram
END:VEVENT
BEGIN:VEVENT
DTSTART;TZID=UTC:20161023T160000
DTEND;TZID=UTC:20161023T180000
DTSTAMP:20260421T125011
CREATED:20160930T185407Z
LAST-MODIFIED:20161019T184322Z
UID:6164-1477238400-1477245600@www.shantimandir.com
SUMMARY:Community Satsang with Gurudev
DESCRIPTION:To view the flyer in PDF format\, click here.
URL:https://www.shantimandir.com/event/community-satsang-gurudev-sept-2016/
LOCATION:Shanti Mandir Walden\, 51 Muktananda Marg\, Walden\, NY\, 12586\, United States
CATEGORIES:Gurudev's 2016 Schedule,Walden Ashram
ATTACH;FMTTYPE=image/jpeg:https://www.shantimandir.com/wp-content/uploads/2016/09/Community-Satsang-Flyer-10-23-16.jpg
END:VEVENT
BEGIN:VEVENT
DTSTART;TZID=UTC:20161022T190000
DTEND;TZID=UTC:20161022T210000
DTSTAMP:20260421T125011
CREATED:20160908T202217Z
LAST-MODIFIED:20160908T224635Z
UID:6106-1477162800-1477170000@www.shantimandir.com
SUMMARY:Flute Concert
DESCRIPTION:To view the flyer in PDF format\, click here.
URL:https://www.shantimandir.com/event/flute-concert-oct-2016/
LOCATION:Shanti Mandir Walden\, 51 Muktananda Marg\, Walden\, NY\, 12586\, United States
CATEGORIES:Gurudev's 2016 Schedule,Walden Ashram
ATTACH;FMTTYPE=image/jpeg:https://www.shantimandir.com/wp-content/uploads/2016/09/chaurasia_email.jpg
END:VEVENT
BEGIN:VEVENT
DTSTART;TZID=UTC:20161015T090000
DTEND;TZID=UTC:20161015T160000
DTSTAMP:20260421T125011
CREATED:20160623T194030Z
LAST-MODIFIED:20161012T175912Z
UID:5953-1476522000-1476547200@www.shantimandir.com
SUMMARY:Meditation Intensive
DESCRIPTION:To view the flyer in PDF format\, click here.
URL:https://www.shantimandir.com/event/meditation-intensive-oct-2016/
LOCATION:Shanti Mandir Walden\, 51 Muktananda Marg\, Walden\, NY\, 12586\, United States
CATEGORIES:Courses,Gurudev's 2016 Schedule,Walden Ashram
ATTACH;FMTTYPE=image/jpeg:https://www.shantimandir.com/wp-content/uploads/2015/04/Meditation-Intensive-Flyer-Oct-2016.jpg
END:VEVENT
BEGIN:VEVENT
DTSTART;TZID=UTC:20161009T090000
DTEND;TZID=UTC:20161009T120000
DTSTAMP:20260421T125011
CREATED:20160623T201641Z
LAST-MODIFIED:20160930T184324Z
UID:5970-1476003600-1476014400@www.shantimandir.com
SUMMARY:Satsang with Gurudev
DESCRIPTION:9:00 am – Chandi Havan \n \nTo view the calendar in PDF format\, click here.
URL:https://www.shantimandir.com/event/satsang-gurudev-july-oct-2016-2016-10-09/
LOCATION:Shanti Mandir Walden\, 51 Muktananda Marg\, Walden\, NY\, 12586\, United States
CATEGORIES:Gurudev's 2016 Schedule,Walden Ashram
ATTACH;FMTTYPE=image/jpeg:https://www.shantimandir.com/wp-content/uploads/2014/01/DSC_1529a_opt.jpg
END:VEVENT
BEGIN:VEVENT
DTSTART;TZID=UTC:20161002T090000
DTEND;TZID=UTC:20161002T120000
DTSTAMP:20260421T125011
CREATED:20160623T201641Z
LAST-MODIFIED:20160928T230053Z
UID:5969-1475398800-1475409600@www.shantimandir.com
SUMMARY:Satsang with Gurudev
DESCRIPTION:9:00am Chandi Path \n \nTo view the calendar in PDF format\, click here.
URL:https://www.shantimandir.com/event/satsang-gurudev-july-oct-2016-2016-10-02/
LOCATION:Shanti Mandir Walden\, 51 Muktananda Marg\, Walden\, NY\, 12586\, United States
CATEGORIES:Gurudev's 2016 Schedule,Walden Ashram
ATTACH;FMTTYPE=image/jpeg:https://www.shantimandir.com/wp-content/uploads/2014/01/DSC_1529a_opt.jpg
END:VEVENT
BEGIN:VEVENT
DTSTART;VALUE=DATE:20161001
DTEND;VALUE=DATE:20161012
DTSTAMP:20260421T125011
CREATED:20160928T223829Z
LAST-MODIFIED:20160928T224331Z
UID:6149-1475280000-1476230399@www.shantimandir.com
SUMMARY:Navaratra Celebration
DESCRIPTION:To view the schedule in PDF format\, click here.
URL:https://www.shantimandir.com/event/navaratra-celebration-fall-2016/
LOCATION:Shanti Mandir Walden\, 51 Muktananda Marg\, Walden\, NY\, 12586\, United States
CATEGORIES:Festivals,Gurudev's 2016 Schedule,Walden Ashram
ATTACH;FMTTYPE=image/jpeg:https://www.shantimandir.com/wp-content/uploads/2016/09/Sharad-Navaratra-Schedule-2016.jpg
END:VEVENT
BEGIN:VEVENT
DTSTART;TZID=UTC:20160925T090000
DTEND;TZID=UTC:20160925T120000
DTSTAMP:20260421T125011
CREATED:20160623T201641Z
LAST-MODIFIED:20160902T181239Z
UID:5968-1474794000-1474804800@www.shantimandir.com
SUMMARY:Satsang with Gurudev
DESCRIPTION:9:00-10:00am Shree Guru Gita \n10:00am – noon Satsang (includes kirtan\, meditation\, and a talk by Gurudev) \nA vegetarian meal follows and everyone is welcome to participate. \n \nTo view the calendar in PDF format\, click here.
URL:https://www.shantimandir.com/event/satsang-gurudev-july-oct-2016-2016-09-25/
LOCATION:Shanti Mandir Walden\, 51 Muktananda Marg\, Walden\, NY\, 12586\, United States
CATEGORIES:Gurudev's 2016 Schedule,Walden Ashram
ATTACH;FMTTYPE=image/jpeg:https://www.shantimandir.com/wp-content/uploads/2014/01/DSC_1529a_opt.jpg
END:VEVENT
BEGIN:VEVENT
DTSTART;TZID=UTC:20160910T193000
DTEND;TZID=UTC:20160910T210000
DTSTAMP:20260421T125011
CREATED:20160921T184407Z
LAST-MODIFIED:20160921T184407Z
UID:6137-1473535800-1473541200@www.shantimandir.com
SUMMARY:Evening Kirtan
DESCRIPTION:We welcome everyone to an ecstatic evening of Kirtan and meditation.
URL:https://www.shantimandir.com/event/evening-kirtan-21/
LOCATION:Shanti Mandir Walden\, 51 Muktananda Marg\, Walden\, NY\, 12586\, United States
CATEGORIES:Gurudev's 2016 Schedule,Walden Ashram
ATTACH;FMTTYPE=image/jpeg:https://www.shantimandir.com/wp-content/uploads/2014/01/DSC_3728_opt-2.jpg
END:VEVENT
BEGIN:VEVENT
DTSTART;TZID=UTC:20160918T090000
DTEND;TZID=UTC:20160918T120000
DTSTAMP:20260421T125011
CREATED:20160623T201641Z
LAST-MODIFIED:20160902T180628Z
UID:5967-1474189200-1474200000@www.shantimandir.com
SUMMARY:Satsang with Gurudev
DESCRIPTION:9:00-10:00am Shree Guru Gita \n10:00am – noon Satsang (includes kirtan\, meditation\, and a talk by Gurudev) \nA vegetarian meal follows and everyone is welcome to participate. \n \nTo view the calendar in PDF format\, click here.
URL:https://www.shantimandir.com/event/satsang-gurudev-july-oct-2016-2016-09-18/
LOCATION:Shanti Mandir Walden\, 51 Muktananda Marg\, Walden\, NY\, 12586\, United States
CATEGORIES:Gurudev's 2016 Schedule,Walden Ashram
ATTACH;FMTTYPE=image/jpeg:https://www.shantimandir.com/wp-content/uploads/2014/01/DSC_1529a_opt.jpg
END:VEVENT
BEGIN:VEVENT
DTSTART;TZID=UTC:20160910T193000
DTEND;TZID=UTC:20160910T210000
DTSTAMP:20260421T125011
CREATED:20160921T184407Z
LAST-MODIFIED:20160921T184407Z
UID:6137-1473535800-1473541200@www.shantimandir.com
SUMMARY:Evening Kirtan
DESCRIPTION:We welcome everyone to an ecstatic evening of Kirtan and meditation.
URL:https://www.shantimandir.com/event/evening-kirtan-21/
LOCATION:Shanti Mandir Walden\, 51 Muktananda Marg\, Walden\, NY\, 12586\, United States
CATEGORIES:Gurudev's 2016 Schedule,Walden Ashram
ATTACH;FMTTYPE=image/jpeg:https://www.shantimandir.com/wp-content/uploads/2014/01/DSC_3728_opt-2.jpg
END:VEVENT
BEGIN:VEVENT
DTSTART;TZID=UTC:20160917T160000
DTEND;TZID=UTC:20160917T180000
DTSTAMP:20260421T125011
CREATED:20160913T193903Z
LAST-MODIFIED:20160913T194128Z
UID:6112-1474128000-1474135200@www.shantimandir.com
SUMMARY:Community Satsang
DESCRIPTION:To view the flyer in PDF format\, click here.
URL:https://www.shantimandir.com/event/community-satsang-sept-2016/
LOCATION:Home of Bharat & Sadhana Patel\, 243 Cornwell Ave.\, Williston Park\, NY\, 11596\, United States
CATEGORIES:Gurudev's 2016 Schedule,Walden Ashram
ATTACH;FMTTYPE=image/jpeg:https://www.shantimandir.com/wp-content/uploads/2016/09/Community-Satsang-Flyer-Sept-2016.jpg
END:VEVENT
BEGIN:VEVENT
DTSTART;TZID=UTC:20160911T090000
DTEND;TZID=UTC:20160911T120000
DTSTAMP:20260421T125011
CREATED:20160623T201641Z
LAST-MODIFIED:20160902T180548Z
UID:5966-1473584400-1473595200@www.shantimandir.com
SUMMARY:Satsang with Gurudev
DESCRIPTION:9:00-10:00am Shree Guru Gita \n10:00am – noon Satsang (includes kirtan\, meditation\, and a talk by Gurudev) \nA vegetarian meal follows and everyone is welcome to participate. \n \nTo view the calendar in PDF format\, click here.
URL:https://www.shantimandir.com/event/satsang-gurudev-july-oct-2016-2016-09-11/
LOCATION:Shanti Mandir Walden\, 51 Muktananda Marg\, Walden\, NY\, 12586\, United States
CATEGORIES:Gurudev's 2016 Schedule,Walden Ashram
ATTACH;FMTTYPE=image/jpeg:https://www.shantimandir.com/wp-content/uploads/2014/01/DSC_1529a_opt.jpg
END:VEVENT
BEGIN:VEVENT
DTSTART;TZID=UTC:20160910T193000
DTEND;TZID=UTC:20160910T210000
DTSTAMP:20260421T125011
CREATED:20160921T184407Z
LAST-MODIFIED:20160921T184407Z
UID:6137-1473535800-1473541200@www.shantimandir.com
SUMMARY:Evening Kirtan
DESCRIPTION:We welcome everyone to an ecstatic evening of Kirtan and meditation.
URL:https://www.shantimandir.com/event/evening-kirtan-21/
LOCATION:Shanti Mandir Walden\, 51 Muktananda Marg\, Walden\, NY\, 12586\, United States
CATEGORIES:Gurudev's 2016 Schedule,Walden Ashram
ATTACH;FMTTYPE=image/jpeg:https://www.shantimandir.com/wp-content/uploads/2014/01/DSC_3728_opt-2.jpg
END:VEVENT
BEGIN:VEVENT
DTSTART;TZID=UTC:20160904T160000
DTEND;TZID=UTC:20160904T180000
DTSTAMP:20260421T125011
CREATED:20160824T174908Z
LAST-MODIFIED:20160824T175006Z
UID:6076-1473004800-1473012000@www.shantimandir.com
SUMMARY:Bansuri Concert
DESCRIPTION:To view the flyer in PDF format\, click here.
URL:https://www.shantimandir.com/event/bansuri-concert-aug-2016/
LOCATION:Shanti Mandir Walden\, 51 Muktananda Marg\, Walden\, NY\, 12586\, United States
CATEGORIES:Gurudev's 2016 Schedule,Walden Ashram
ATTACH;FMTTYPE=image/jpeg:https://www.shantimandir.com/wp-content/uploads/2016/08/gandhi_kavthekar_email.jpg
END:VEVENT
BEGIN:VEVENT
DTSTART;TZID=UTC:20160904T090000
DTEND;TZID=UTC:20160904T120000
DTSTAMP:20260421T125011
CREATED:20160623T201641Z
LAST-MODIFIED:20160902T180147Z
UID:5965-1472979600-1472990400@www.shantimandir.com
SUMMARY:Satsang with Gurudev
DESCRIPTION:9:00-10:00am Shree Guru Gita \n10:00am – noon Satsang (includes kirtan\, meditation\, and a talk by Gurudev) \nA vegetarian meal follows and everyone is welcome to participate. \n \nTo view the calendar in PDF format\, click here.
URL:https://www.shantimandir.com/event/satsang-gurudev-july-oct-2016-2016-09-04/
LOCATION:Shanti Mandir Walden\, 51 Muktananda Marg\, Walden\, NY\, 12586\, United States
CATEGORIES:Gurudev's 2016 Schedule,Walden Ashram
ATTACH;FMTTYPE=image/jpeg:https://www.shantimandir.com/wp-content/uploads/2014/01/DSC_1529a_opt.jpg
END:VEVENT
BEGIN:VEVENT
DTSTART;TZID=UTC:20160903T090000
DTEND;TZID=UTC:20160903T160000
DTSTAMP:20260421T125011
CREATED:20160623T193649Z
LAST-MODIFIED:20160824T043139Z
UID:5951-1472893200-1472918400@www.shantimandir.com
SUMMARY:Meditation Intensive
DESCRIPTION:To view the flyer in PDF format\, click here.
URL:https://www.shantimandir.com/event/meditation-intensive-sept-2016/
LOCATION:Shanti Mandir Walden\, 51 Muktananda Marg\, Walden\, NY\, 12586\, United States
CATEGORIES:Courses,Gurudev's 2016 Schedule,Walden Ashram
ATTACH;FMTTYPE=image/jpeg:https://www.shantimandir.com/wp-content/uploads/2015/04/Meditation-Intensive-Flyer-Aug-2016-1.jpg
END:VEVENT
BEGIN:VEVENT
DTSTART;VALUE=DATE:20160903
DTEND;VALUE=DATE:20160904
DTSTAMP:20260421T125011
CREATED:20160822T183212Z
LAST-MODIFIED:20160830T180542Z
UID:6069-1472860800-1472947199@www.shantimandir.com
SUMMARY:Labor Day Weekend
DESCRIPTION:To view the flyer in PDF format\, click here.
URL:https://www.shantimandir.com/event/labor-day-weekend/
LOCATION:Shanti Mandir Walden\, 51 Muktananda Marg\, Walden\, NY\, 12586\, United States
CATEGORIES:Gurudev's 2016 Schedule,Walden Ashram
ATTACH;FMTTYPE=image/jpeg:https://www.shantimandir.com/wp-content/uploads/2016/08/labor_day_08_29_r1.jpg
END:VEVENT
BEGIN:VEVENT
DTSTART;TZID=UTC:20160821T090000
DTEND;TZID=UTC:20160821T120000
DTSTAMP:20260421T125011
CREATED:20160623T201641Z
LAST-MODIFIED:20160805T203536Z
UID:5963-1471770000-1471780800@www.shantimandir.com
SUMMARY:Satsang with Gurudev
DESCRIPTION:9:00-10:00am Shree Guru Gita \n10:00am – noon Satsang (includes kirtan\, meditation\, and a talk by Gurudev) \nPresentation of visit to SM Magod by Ashima and Abhishek Agarwal \nA vegetarian meal follows and everyone is welcome to participate.
URL:https://www.shantimandir.com/event/satsang-gurudev-july-oct-2016-2016-08-21/
LOCATION:Shanti Mandir Walden\, 51 Muktananda Marg\, Walden\, NY\, 12586\, United States
CATEGORIES:Gurudev's 2016 Schedule,Walden Ashram
ATTACH;FMTTYPE=image/jpeg:https://www.shantimandir.com/wp-content/uploads/2014/01/DSC_1529a_opt.jpg
END:VEVENT
BEGIN:VEVENT
DTSTART;TZID=UTC:20160820T100000
DTEND;TZID=UTC:20160820T160000
DTSTAMP:20260421T125011
CREATED:20160805T203333Z
LAST-MODIFIED:20160805T203333Z
UID:6055-1471687200-1471708800@www.shantimandir.com
SUMMARY:All-Day Kirtan
DESCRIPTION:
URL:https://www.shantimandir.com/event/all-day-kirtan-2/
LOCATION:Shanti Mandir Walden\, 51 Muktananda Marg\, Walden\, NY\, 12586\, United States
CATEGORIES:Gurudev's 2016 Schedule,Walden Ashram
ATTACH;FMTTYPE=image/jpeg:https://www.shantimandir.com/wp-content/uploads/2014/01/DSC_3728_opt-2.jpg
END:VEVENT
BEGIN:VEVENT
DTSTART;TZID=UTC:20160815T064500
DTEND;TZID=UTC:20160815T080000
DTSTAMP:20260421T125011
CREATED:20160805T204023Z
LAST-MODIFIED:20160805T204023Z
UID:6056-1471243500-1471248000@www.shantimandir.com
SUMMARY:Baba Muktananda's Divya Diksha (Initiation Day)
DESCRIPTION:The day Baba received Shaktipat initiation from Bhagawan Nityananda. \n6:45am – Shree Guru Gita \n 
URL:https://www.shantimandir.com/event/baba-muktanandas-divya-diksha-initiation-day/
LOCATION:Shanti Mandir Walden\, 51 Muktananda Marg\, Walden\, NY\, 12586\, United States
CATEGORIES:Festivals,Gurudev's 2016 Schedule,Walden Ashram
ATTACH;FMTTYPE=image/jpeg:https://www.shantimandir.com/wp-content/uploads/2013/12/muktananda-05.jpg
END:VEVENT
BEGIN:VEVENT
DTSTART;TZID=UTC:20160814T090000
DTEND;TZID=UTC:20160814T120000
DTSTAMP:20260421T125011
CREATED:20160623T201641Z
LAST-MODIFIED:20160805T200442Z
UID:5962-1471165200-1471176000@www.shantimandir.com
SUMMARY:Satsang with Gurudev
DESCRIPTION:9:00-10:00am Shree Guru Gita \n10:00am – noon Satsang (includes kirtan\, meditation\, and talks) \nA talk by Dana Wilkinson\, followed by a talk by Gurudev \nA vegetarian meal follows and everyone is welcome to participate.
URL:https://www.shantimandir.com/event/satsang-gurudev-july-oct-2016-2016-08-14/
LOCATION:Shanti Mandir Walden\, 51 Muktananda Marg\, Walden\, NY\, 12586\, United States
CATEGORIES:Gurudev's 2016 Schedule,Walden Ashram
ATTACH;FMTTYPE=image/jpeg:https://www.shantimandir.com/wp-content/uploads/2014/01/DSC_1529a_opt.jpg
END:VEVENT
BEGIN:VEVENT
DTSTART;TZID=UTC:20160813T090000
DTEND;TZID=UTC:20160813T160000
DTSTAMP:20260421T125011
CREATED:20160623T192838Z
LAST-MODIFIED:20160802T175741Z
UID:5949-1471078800-1471104000@www.shantimandir.com
SUMMARY:Meditation Intensive
DESCRIPTION:To view the flyer in PDF format\, click here.
URL:https://www.shantimandir.com/event/meditation-intensive-aug-2016/
LOCATION:Shanti Mandir Walden\, 51 Muktananda Marg\, Walden\, NY\, 12586\, United States
CATEGORIES:Courses,Gurudev's 2016 Schedule,Walden Ashram
ATTACH;FMTTYPE=image/jpeg:https://www.shantimandir.com/wp-content/uploads/2015/04/Meditation-Intensive-Flyer-Aug-2016.jpg
END:VEVENT
BEGIN:VEVENT
DTSTART;VALUE=DATE:20160813
DTEND;VALUE=DATE:20160822
DTSTAMP:20260421T125011
CREATED:20160805T202739Z
LAST-MODIFIED:20160806T195746Z
UID:6053-1471046400-1471823999@www.shantimandir.com
SUMMARY:Conversations with Gurudev
DESCRIPTION:To view the flyer in PDF format\, click here.
URL:https://www.shantimandir.com/event/conversations-with-gurudev/
LOCATION:Shanti Mandir Walden\, 51 Muktananda Marg\, Walden\, NY\, 12586\, United States
CATEGORIES:Courses,Gurudev's 2016 Schedule,Walden Ashram
ATTACH;FMTTYPE=image/jpeg:https://www.shantimandir.com/wp-content/uploads/2016/07/Conversations-with-Gurudev-Aug-2016.jpg
END:VEVENT
END:VCALENDAR