BEGIN:VCALENDAR
VERSION:2.0
PRODID:-//Shanti Mandir - ECPv6.3.6//NONSGML v1.0//EN
CALSCALE:GREGORIAN
METHOD:PUBLISH
X-WR-CALNAME:Shanti Mandir
X-ORIGINAL-URL:https://www.shantimandir.com
X-WR-CALDESC:Events for Shanti Mandir
REFRESH-INTERVAL;VALUE=DURATION:PT1H
X-Robots-Tag:noindex
X-PUBLISHED-TTL:PT1H
BEGIN:VTIMEZONE
TZID:America/Halifax
BEGIN:DAYLIGHT
TZOFFSETFROM:-0400
TZOFFSETTO:-0300
TZNAME:ADT
DTSTART:20140309T060000
END:DAYLIGHT
BEGIN:STANDARD
TZOFFSETFROM:-0300
TZOFFSETTO:-0400
TZNAME:AST
DTSTART:20141102T050000
END:STANDARD
BEGIN:DAYLIGHT
TZOFFSETFROM:-0400
TZOFFSETTO:-0300
TZNAME:ADT
DTSTART:20150308T060000
END:DAYLIGHT
BEGIN:STANDARD
TZOFFSETFROM:-0300
TZOFFSETTO:-0400
TZNAME:AST
DTSTART:20151101T050000
END:STANDARD
END:VTIMEZONE
BEGIN:VEVENT
DTSTART;VALUE=DATE:20151013
DTEND;VALUE=DATE:20151014
DTSTAMP:20260422T015745
CREATED:20150924T175526Z
LAST-MODIFIED:20150924T180124Z
UID:5040-1444694400-1444780799@www.shantimandir.com
SUMMARY:Navaratra Celebration
DESCRIPTION:Nine Nights of the Goddess \n6:40am Devi Stotram \n7:30pm Lalita Sahasranama \n8:10pm Kirtan: Kali Durge
URL:https://www.shantimandir.com/event/navaratra-celebration-2/
LOCATION:Shanti Mandir Walden\, 51 Muktananda Marg\, Walden\, NY\, 12586\, United States
CATEGORIES:Festivals,Walden Ashram
ATTACH;FMTTYPE=image/jpeg:https://www.shantimandir.com/wp-content/uploads/2013/12/donate.jpg
END:VEVENT
BEGIN:VEVENT
DTSTART;VALUE=DATE:20150731
DTEND;VALUE=DATE:20150801
DTSTAMP:20260422T015745
CREATED:20150528T193634Z
LAST-MODIFIED:20150528T194952Z
UID:4495-1438300800-1438387199@www.shantimandir.com
SUMMARY:Guru Poornima-Yajna (Fire Ceremony)
DESCRIPTION:
URL:https://www.shantimandir.com/event/guru-poornima-yajna-fire-ceremony/
LOCATION:Shanti Mandir Walden\, 51 Muktananda Marg\, Walden\, NY\, 12586\, United States
CATEGORIES:Festivals,Gurudev's 2015 Schedule,Walden Ashram
ATTACH;FMTTYPE=image/jpeg:https://www.shantimandir.com/wp-content/uploads/2014/01/DSC_1529a_opt.jpg
END:VEVENT
BEGIN:VEVENT
DTSTART;VALUE=DATE:20150503
DTEND;VALUE=DATE:20150504
DTSTAMP:20260422T015745
CREATED:20150222T183407Z
LAST-MODIFIED:20150417T171817Z
UID:3871-1430611200-1430697599@www.shantimandir.com
SUMMARY:Baba Muktananda's 107th Birthday (Lunar)
DESCRIPTION:
URL:https://www.shantimandir.com/event/baba-muktanandas-birthday-lunar/
LOCATION:Shanti Mandir Walden\, 51 Muktananda Marg\, Walden\, NY\, 12586\, United States
CATEGORIES:Festivals,Gurudev's 2015 Schedule,Kankhal Ashram,Magod Ashram,Walden Ashram
ATTACH;FMTTYPE=image/jpeg:https://www.shantimandir.com/wp-content/uploads/2013/08/muktananda-03.jpg
END:VEVENT
BEGIN:VEVENT
DTSTART;VALUE=DATE:20150403
DTEND;VALUE=DATE:20150404
DTSTAMP:20260422T015745
CREATED:20150222T182342Z
LAST-MODIFIED:20150222T182342Z
UID:3868-1428019200-1428105599@www.shantimandir.com
SUMMARY:Shri Hanuman Jayanti
DESCRIPTION:
URL:https://www.shantimandir.com/event/shri-hanuman-jayanti-2/
LOCATION:Shanti Mandir Walden\, 51 Muktananda Marg\, Walden\, NY\, 12586\, United States
CATEGORIES:Festivals,Gurudev's 2015 Schedule,Walden Ashram
ATTACH;FMTTYPE=image/jpeg:https://www.shantimandir.com/wp-content/uploads/2014/04/Hanuman-014_opt.jpg
END:VEVENT
BEGIN:VEVENT
DTSTART;VALUE=DATE:20150328
DTEND;VALUE=DATE:20150329
DTSTAMP:20260422T015745
CREATED:20150116T210134Z
LAST-MODIFIED:20150319T230549Z
UID:3628-1427500800-1427587199@www.shantimandir.com
SUMMARY:Navaratra-Shri Ram Navami Pooja
DESCRIPTION:To view the flyer in PDF format\, click here.
URL:https://www.shantimandir.com/event/navartra/
LOCATION:Shanti Mandir Walden\, 51 Muktananda Marg\, Walden\, NY\, 12586\, United States
CATEGORIES:Festivals,Gurudev's 2015 Schedule,Walden Ashram
ATTACH;FMTTYPE=image/jpeg:https://www.shantimandir.com/wp-content/uploads/2015/02/Vasant-Navaratra-Schedule-2015-2.jpg
END:VEVENT
BEGIN:VEVENT
DTSTART;VALUE=DATE:20150327
DTEND;VALUE=DATE:20150328
DTSTAMP:20260422T015745
CREATED:20150116T210049Z
LAST-MODIFIED:20150319T230254Z
UID:3627-1427414400-1427500799@www.shantimandir.com
SUMMARY:Navaratra-Ashtami Pooja
DESCRIPTION:To view the flyer in PDF format\, click here.
URL:https://www.shantimandir.com/event/navaratra-2/
LOCATION:Shanti Mandir Walden\, 51 Muktananda Marg\, Walden\, NY\, 12586\, United States
CATEGORIES:Festivals,Gurudev's 2015 Schedule,Walden Ashram
ATTACH;FMTTYPE=image/jpeg:https://www.shantimandir.com/wp-content/uploads/2015/02/Vasant-Navaratra-Schedule-2015-2.jpg
END:VEVENT
BEGIN:VEVENT
DTSTART;VALUE=DATE:20150321
DTEND;VALUE=DATE:20150327
DTSTAMP:20260422T015745
CREATED:20150116T205404Z
LAST-MODIFIED:20150319T225744Z
UID:3626-1426896000-1427414399@www.shantimandir.com
SUMMARY:Navaratra
DESCRIPTION:To view the flyer in PDF format\, click here.
URL:https://www.shantimandir.com/event/navaratra/
LOCATION:Shanti Mandir Walden\, 51 Muktananda Marg\, Walden\, NY\, 12586\, United States
CATEGORIES:Festivals,Gurudev's 2015 Schedule,Walden Ashram
ATTACH;FMTTYPE=image/jpeg:https://www.shantimandir.com/wp-content/uploads/2015/02/Vasant-Navaratra-Schedule-2015-2.jpg
END:VEVENT
BEGIN:VEVENT
DTSTART;VALUE=DATE:20150320
DTEND;VALUE=DATE:20150321
DTSTAMP:20260422T015745
CREATED:20150223T012236Z
LAST-MODIFIED:20150319T225236Z
UID:3889-1426809600-1426895999@www.shantimandir.com
SUMMARY:Navaratra-Installation of the Devi
DESCRIPTION:9:00am – Installation of the Devi (Goddess) \n6:00pm – Evening Pooja \n \nTo view the flyer in PDF format\, click here.
URL:https://www.shantimandir.com/event/navaratra-installation-devi/
LOCATION:Shanti Mandir Walden\, 51 Muktananda Marg\, Walden\, NY\, 12586\, United States
CATEGORIES:Festivals,Gurudev's 2015 Schedule,Walden Ashram
ATTACH;FMTTYPE=image/jpeg:https://www.shantimandir.com/wp-content/uploads/2014/03/Walden-2013-114_opt.jpg
END:VEVENT
BEGIN:VEVENT
DTSTART;VALUE=DATE:20150306
DTEND;VALUE=DATE:20150307
DTSTAMP:20260422T015745
CREATED:20150222T175859Z
LAST-MODIFIED:20150222T175859Z
UID:3860-1425600000-1425686399@www.shantimandir.com
SUMMARY:Dhuleti
DESCRIPTION:
URL:https://www.shantimandir.com/event/dhuleti-2/
LOCATION:Magod Ashram\, Valsad 396 020\, Gujarat\, India
CATEGORIES:Festivals,Gurudev's 2015 Schedule,Magod Ashram
ATTACH;FMTTYPE=image/jpeg:https://www.shantimandir.com/wp-content/uploads/2014/04/Holi-2014-2_opt.jpg
END:VEVENT
BEGIN:VEVENT
DTSTART;VALUE=DATE:20150305
DTEND;VALUE=DATE:20150306
DTSTAMP:20260422T015745
CREATED:20150222T175728Z
LAST-MODIFIED:20150222T175728Z
UID:3859-1425513600-1425599999@www.shantimandir.com
SUMMARY:Holi Dahan
DESCRIPTION:
URL:https://www.shantimandir.com/event/holi-dahan/
LOCATION:Magod Ashram\, Valsad 396 020\, Gujarat\, India
CATEGORIES:Festivals,Gurudev's 2015 Schedule,Magod Ashram
ATTACH;FMTTYPE=image/jpeg:https://www.shantimandir.com/wp-content/uploads/2014/04/Holi-2014-2_opt.jpg
END:VEVENT
BEGIN:VEVENT
DTSTART;TZID=America/Halifax:20150217T193000
DTEND;TZID=America/Halifax:20150217T220000
DTSTAMP:20260422T015745
CREATED:20150127T195044Z
LAST-MODIFIED:20150127T195044Z
UID:3682-1424201400-1424210400@www.shantimandir.com
SUMMARY:Maha Shivaratri
DESCRIPTION:The festival of Maha Shivaratri (“the great night of Shiva”) is celebrated in honor of Lord Shiva\, the Self of All. \n7:30-10:00pm\nShiva Mahimnah Stotram\nOm Namah Shivaya \nRemembering the all-pervasive Consciousness seated in the heart\, we bow to Shiva – Om Namah Shivaya. – Baba Muktananda
URL:https://www.shantimandir.com/event/maha-shivaratri-2/
LOCATION:Shanti Mandir Walden\, 51 Muktananda Marg\, Walden\, NY\, 12586\, United States
CATEGORIES:Festivals,Walden Ashram
ATTACH;FMTTYPE=image/jpeg:https://www.shantimandir.com/wp-content/uploads/2014/02/DSC_0122_opt.jpg
END:VEVENT
BEGIN:VEVENT
DTSTART;VALUE=DATE:20150217
DTEND;VALUE=DATE:20150223
DTSTAMP:20260422T015745
CREATED:20150131T191321Z
LAST-MODIFIED:20150131T191321Z
UID:3697-1424131200-1424649599@www.shantimandir.com
SUMMARY:Maha Shivaratri with Gurudev
DESCRIPTION:
URL:https://www.shantimandir.com/event/maha-shivaratri-gurudev/
LOCATION:New Delhi
CATEGORIES:Festivals,Kankhal Ashram
ATTACH;FMTTYPE=image/jpeg:https://www.shantimandir.com/wp-content/uploads/2015/01/Gurudev-Schedule-Haridwar-Delhi-2015.jpg
END:VEVENT
BEGIN:VEVENT
DTSTART;VALUE=DATE:20141231
DTEND;VALUE=DATE:20150101
DTSTAMP:20260422T015745
CREATED:20140408T194517Z
LAST-MODIFIED:20140411T050850Z
UID:1699-1419984000-1420070399@www.shantimandir.com
SUMMARY:Anniversary of Shri Muktananda Sanskrit Mahavidyalaya
DESCRIPTION:
URL:https://www.shantimandir.com/event/anniversary-shri-muktananda-sanskrit-mahavidyalaya/
LOCATION:NY
CATEGORIES:Festivals,Magod Ashram
END:VEVENT
BEGIN:VEVENT
DTSTART;VALUE=DATE:20141202
DTEND;VALUE=DATE:20141203
DTSTAMP:20260422T015745
CREATED:20140408T194440Z
LAST-MODIFIED:20140411T004735Z
UID:1698-1417478400-1417564799@www.shantimandir.com
SUMMARY:Geeta Jayanti
DESCRIPTION:
URL:https://www.shantimandir.com/event/geeta-jayanti/
LOCATION:NY
CATEGORIES:Festivals,Kankhal Ashram,Magod Ashram,Walden Ashram
END:VEVENT
BEGIN:VEVENT
DTSTART;VALUE=DATE:20141024
DTEND;VALUE=DATE:20141025
DTSTAMP:20260422T015745
CREATED:20140408T194355Z
LAST-MODIFIED:20141014T222029Z
UID:1697-1414108800-1414195199@www.shantimandir.com
SUMMARY:Annakoot: Mountain of Food
DESCRIPTION:Pooja – 10:00am – 12:00 noon \n \nTo view the flyer in PDF format\, click here. \n 
URL:https://www.shantimandir.com/event/annakoot/
LOCATION:Shanti Mandir Walden\, 51 Muktananda Marg\, Walden\, NY\, 12586\, United States
CATEGORIES:Festivals,Walden Ashram
END:VEVENT
BEGIN:VEVENT
DTSTART;VALUE=DATE:20141023
DTEND;VALUE=DATE:20141024
DTSTAMP:20260422T015745
CREATED:20140408T194320Z
LAST-MODIFIED:20141014T221934Z
UID:1696-1414022400-1414108799@www.shantimandir.com
SUMMARY:Deepawali: Festivals of Lights
DESCRIPTION:Pooja of Lakshmi (Goddess of wealth) at sunset (6:15pm) \n \nTo view the flyer in PDF format\, click here. \n 
URL:https://www.shantimandir.com/event/deepawali-maha-lakshmi-poojan/
LOCATION:Shanti Mandir Walden\, 51 Muktananda Marg\, Walden\, NY\, 12586\, United States
CATEGORIES:Festivals,Walden Ashram
END:VEVENT
BEGIN:VEVENT
DTSTART;VALUE=DATE:20141020
DTEND;VALUE=DATE:20141021
DTSTAMP:20260422T015745
CREATED:20140408T194222Z
LAST-MODIFIED:20141014T221850Z
UID:1695-1413763200-1413849599@www.shantimandir.com
SUMMARY:Dhan Trayodashi: Pooja of the Treasurer of the Gods
DESCRIPTION:Pooja of Kuber (Treasurer of the gods) at sunset (6:18pm) \n \nTo view the flyer in PDF format\, click here. \n  \n 
URL:https://www.shantimandir.com/event/dhan-trayodashi/
LOCATION:Shanti Mandir Walden\, 51 Muktananda Marg\, Walden\, NY\, 12586\, United States
CATEGORIES:Festivals,Walden Ashram
END:VEVENT
BEGIN:VEVENT
DTSTART;VALUE=DATE:20141007
DTEND;VALUE=DATE:20141008
DTSTAMP:20260422T015745
CREATED:20140408T193455Z
LAST-MODIFIED:20141003T235950Z
UID:1691-1412640000-1412726399@www.shantimandir.com
SUMMARY:Baba Muktananda's 32nd Lunar Mahasamadhi Day
DESCRIPTION:10:00 am – 12:00 noon Samaradhana Pooja by Lavarji\, followed by Bhandara (Lunch Feast) \n 
URL:https://www.shantimandir.com/event/baba-muktanandas-32nd-lunar-mahasamadhi/
LOCATION:NY
CATEGORIES:Festivals,Kankhal Ashram,Magod Ashram,Walden Ashram
END:VEVENT
BEGIN:VEVENT
DTSTART;VALUE=DATE:20141003
DTEND;VALUE=DATE:20141004
DTSTAMP:20260422T015745
CREATED:20140408T192736Z
LAST-MODIFIED:20140411T001119Z
UID:1688-1412294400-1412380799@www.shantimandir.com
SUMMARY:Dashhara
DESCRIPTION:
URL:https://www.shantimandir.com/event/dashhara/
LOCATION:NY
CATEGORIES:Festivals,Kankhal Ashram,Magod Ashram,Walden Ashram
END:VEVENT
BEGIN:VEVENT
DTSTART;VALUE=DATE:20141003
DTEND;VALUE=DATE:20141004
DTSTAMP:20260422T015745
CREATED:20140408T192202Z
LAST-MODIFIED:20140411T001044Z
UID:1687-1412294400-1412380799@www.shantimandir.com
SUMMARY:Sharad Navaratra-Navami
DESCRIPTION:Navaratra at SM Walden\, 2013
URL:https://www.shantimandir.com/event/sharad-navaratra-navami/
LOCATION:NY
CATEGORIES:Festivals,Kankhal Ashram,Magod Ashram,Walden Ashram
END:VEVENT
BEGIN:VEVENT
DTSTART;VALUE=DATE:20141002
DTEND;VALUE=DATE:20141003
DTSTAMP:20260422T015745
CREATED:20140408T191707Z
LAST-MODIFIED:20140411T000918Z
UID:1686-1412208000-1412294399@www.shantimandir.com
SUMMARY:Sharad Navaratra-Ashtami
DESCRIPTION:Navaratra at SM Walden\, 2013
URL:https://www.shantimandir.com/event/sharad-navaratra-ashtami/
LOCATION:NY
CATEGORIES:Festivals,Kankhal Ashram,Magod Ashram,Walden Ashram
END:VEVENT
BEGIN:VEVENT
DTSTART;VALUE=DATE:20140925
DTEND;VALUE=DATE:20141004
DTSTAMP:20260422T015745
CREATED:20140408T190831Z
LAST-MODIFIED:20140930T170325Z
UID:1682-1411603200-1412380799@www.shantimandir.com
SUMMARY:Sharad Navaratra
DESCRIPTION:To view the schedule in PDF format\, click here.
URL:https://www.shantimandir.com/event/sharad-navaratra/
LOCATION:Shanti Mandir Walden\, 51 Muktananda Marg\, Walden\, NY\, 12586\, United States
CATEGORIES:Festivals,Kankhal Ashram,Magod Ashram,Walden Ashram
ATTACH;FMTTYPE=image/jpeg:https://www.shantimandir.com/wp-content/uploads/2014/04/Sharad-Navaratra-Schedule-2014.jpg
END:VEVENT
BEGIN:VEVENT
DTSTART;VALUE=DATE:20140829
DTEND;VALUE=DATE:20140902
DTSTAMP:20260422T015745
CREATED:20140716T223109Z
LAST-MODIFIED:20140804T174034Z
UID:2752-1409270400-1409615999@www.shantimandir.com
SUMMARY:Labor Day Celebration
DESCRIPTION:To view the flyer in PDF format\, click here. \nFor more information about any event or to register\, please click on the respective event below. \nFriday\, August 29 \n9:00am – 4:00pm     Meditation Intensive with Gurudev (Registration required)\n7:30pm – 9:00pm     Haripath \nSaturday\, August 30 \n9:00am – 12:00pm   108 Surya Namaskar (Fundraiser)\n3:00pm – 4:00pm     Sri Ram Jai Ram\n7:00pm – 9:00pm     Flute Concert by World-Renowned Flautist (Registration required) \nSunday\, August 31 \n9:00am                      Shree Guru Gita\n10:00am                    Yajna by Brahmin priests\n1:00pm                      Indian Cuisine\n5:00pm – 9:00pm    Hare Rama Hare Krishna & Dancing Chant – Jai Jai Vitthala \nMonday\, September 1 \n10:00am – 12:00pm Pooja\n2:00pm – 5:00pm     Afternoon Tea
URL:https://www.shantimandir.com/event/labor-day-celebration/
LOCATION:Shanti Mandir Walden\, 51 Muktananda Marg\, Walden\, NY\, 12586\, United States
CATEGORIES:Festivals,Walden Ashram
ATTACH;FMTTYPE=image/jpeg:https://www.shantimandir.com/wp-content/uploads/2014/07/Labor-Day-Invitation-Final2.jpg
END:VEVENT
BEGIN:VEVENT
DTSTART;VALUE=DATE:20140818
DTEND;VALUE=DATE:20140819
DTSTAMP:20260422T015745
CREATED:20140703T002721Z
LAST-MODIFIED:20140703T002721Z
UID:2635-1408320000-1408406399@www.shantimandir.com
SUMMARY:Dahi Handi
DESCRIPTION:
URL:https://www.shantimandir.com/event/dahi-handi/
LOCATION:Magod Ashram\, Valsad 396 020\, Gujarat\, India
CATEGORIES:Festivals,Magod Ashram
END:VEVENT
BEGIN:VEVENT
DTSTART;TZID=America/Halifax:20140817T090000
DTEND;TZID=America/Halifax:20140817T120000
DTSTAMP:20260422T015745
CREATED:20140728T175302Z
LAST-MODIFIED:20140728T175452Z
UID:2779-1408266000-1408276800@www.shantimandir.com
SUMMARY:Baba Muktananda's Divya Diksha Celebration Satsang
DESCRIPTION:Celebration Satsang \n9:00-10:00am Shree Guru Gita \n10:00am – 12:00 noon Satsang \nKirtan (Mere Baba)\, Baba’s video\, reading from Play of Consciousness\, and Om Namah Shivaya \nA vegetarian meal follows and everyone is welcome to participate. \n \nTo view the flyer in PDF format\, click here.
URL:https://www.shantimandir.com/event/babas-divya-diksha-celebration/
LOCATION:Shanti Mandir Walden\, 51 Muktananda Marg\, Walden\, NY\, 12586\, United States
CATEGORIES:Festivals,Walden Ashram
ATTACH;FMTTYPE=image/jpeg:https://www.shantimandir.com/wp-content/uploads/2013/08/muktananda-03.jpg
END:VEVENT
BEGIN:VEVENT
DTSTART;VALUE=DATE:20140817
DTEND;VALUE=DATE:20140818
DTSTAMP:20260422T015745
CREATED:20140703T002638Z
LAST-MODIFIED:20140703T002638Z
UID:2634-1408233600-1408319999@www.shantimandir.com
SUMMARY:Krishna Jayanti
DESCRIPTION:Come and celebrate Shri Krishna Jayanti with Kirtan.
URL:https://www.shantimandir.com/event/krishna-jayanti/
LOCATION:Magod Ashram\, Valsad 396 020\, Gujarat\, India
CATEGORIES:Festivals,Magod Ashram
END:VEVENT
BEGIN:VEVENT
DTSTART;VALUE=DATE:20140815
DTEND;VALUE=DATE:20140816
DTSTAMP:20260422T015745
CREATED:20140728T174458Z
LAST-MODIFIED:20140728T175406Z
UID:2775-1408060800-1408147199@www.shantimandir.com
SUMMARY:Baba Muktananda's Divya Diksha Day
DESCRIPTION:Baba Muktananda’s Divya Diksha Day \n6:30am Arati \n6:40am Shree Guru Gita \n7:15pm Arati \n7:45 – 8:45pm Kirtan (Om Namo Bhagavate Nityanandaya) and Nityananda Arati \n \nTo view the flyer in PDF format\, click here.
URL:https://www.shantimandir.com/event/babas-divya-diksha-day/
LOCATION:Shanti Mandir Walden\, 51 Muktananda Marg\, Walden\, NY\, 12586\, United States
CATEGORIES:Festivals,Walden Ashram
ATTACH;FMTTYPE=image/jpeg:https://www.shantimandir.com/wp-content/uploads/2013/08/muktananda-03.jpg
END:VEVENT
BEGIN:VEVENT
DTSTART;VALUE=DATE:20140815
DTEND;VALUE=DATE:20140816
DTSTAMP:20260422T015745
CREATED:20140703T002547Z
LAST-MODIFIED:20140703T002547Z
UID:2633-1408060800-1408147199@www.shantimandir.com
SUMMARY:Independence Day (India)
DESCRIPTION:
URL:https://www.shantimandir.com/event/independence-day-india/
LOCATION:Magod Ashram\, Valsad 396 020\, Gujarat\, India
CATEGORIES:Festivals,Magod Ashram
END:VEVENT
BEGIN:VEVENT
DTSTART;VALUE=DATE:20140815
DTEND;VALUE=DATE:20140816
DTSTAMP:20260422T015745
CREATED:20140408T192945Z
LAST-MODIFIED:20140410T195433Z
UID:1689-1408060800-1408147199@www.shantimandir.com
SUMMARY:Baba Muktananda's Divya Diksha Anniversary
DESCRIPTION:
URL:https://www.shantimandir.com/event/baba-muktanandas-divya-diksha-anniversary/
LOCATION:NY
CATEGORIES:Festivals,Kankhal Ashram,Magod Ashram,Walden Ashram
END:VEVENT
BEGIN:VEVENT
DTSTART;VALUE=DATE:20140810
DTEND;VALUE=DATE:20140811
DTSTAMP:20260422T015745
CREATED:20140703T002413Z
LAST-MODIFIED:20140703T002423Z
UID:2632-1407628800-1407715199@www.shantimandir.com
SUMMARY:Poornima Havan & Raksha Bandhan
DESCRIPTION:
URL:https://www.shantimandir.com/event/poornima-havan-raksha-bandhan/
LOCATION:Magod Ashram\, Valsad 396 020\, Gujarat\, India
CATEGORIES:Festivals,Kankhal Ashram
END:VEVENT
END:VCALENDAR