BEGIN:VCALENDAR
VERSION:2.0
PRODID:-//Shanti Mandir - ECPv6.3.6//NONSGML v1.0//EN
CALSCALE:GREGORIAN
METHOD:PUBLISH
X-ORIGINAL-URL:https://www.shantimandir.com
X-WR-CALDESC:Events for Shanti Mandir
REFRESH-INTERVAL;VALUE=DURATION:PT1H
X-Robots-Tag:noindex
X-PUBLISHED-TTL:PT1H
BEGIN:VTIMEZONE
TZID:America/Halifax
BEGIN:DAYLIGHT
TZOFFSETFROM:-0400
TZOFFSETTO:-0300
TZNAME:ADT
DTSTART:20190310T060000
END:DAYLIGHT
BEGIN:STANDARD
TZOFFSETFROM:-0300
TZOFFSETTO:-0400
TZNAME:AST
DTSTART:20191103T050000
END:STANDARD
TZID:America/New_York
BEGIN:DAYLIGHT
TZOFFSETFROM:-0500
TZOFFSETTO:-0400
TZNAME:EDT
DTSTART:20170312T070000
END:DAYLIGHT
BEGIN:STANDARD
TZOFFSETFROM:-0400
TZOFFSETTO:-0500
TZNAME:EST
DTSTART:20171105T060000
END:STANDARD
BEGIN:DAYLIGHT
TZOFFSETFROM:-0500
TZOFFSETTO:-0400
TZNAME:EDT
DTSTART:20180311T070000
END:DAYLIGHT
BEGIN:STANDARD
TZOFFSETFROM:-0400
TZOFFSETTO:-0500
TZNAME:EST
DTSTART:20181104T060000
END:STANDARD
BEGIN:DAYLIGHT
TZOFFSETFROM:-0500
TZOFFSETTO:-0400
TZNAME:EDT
DTSTART:20190310T070000
END:DAYLIGHT
BEGIN:STANDARD
TZOFFSETFROM:-0400
TZOFFSETTO:-0500
TZNAME:EST
DTSTART:20191103T060000
END:STANDARD
END:VTIMEZONE
BEGIN:VEVENT
DTSTART;VALUE=DATE:20190623
DTEND;VALUE=DATE:20190720
DTSTAMP:20260421T164919
CREATED:20190702T131220Z
LAST-MODIFIED:20190702T131251Z
UID:9667-1561248000-1563580799@www.shantimandir.com
SUMMARY:Programs with Gurudev
DESCRIPTION:
URL:https://www.shantimandir.com/event/programs-with-gurudev-june-july-2019/
LOCATION:Shanti Mandir Walden\, 51 Muktananda Marg\, Walden\, NY\, 12586\, United States
CATEGORIES:Festivals,Ganeshpuri,Gurudev's 2019 Schedule,Magod Ashram,Walden Ashram
ATTACH;FMTTYPE=image/jpeg:https://www.shantimandir.com/wp-content/uploads/2019/07/Gurudev_Programs_June_July_2019.jpg
END:VEVENT
BEGIN:VEVENT
DTSTART;TZID=America/Halifax:20190527T120000
DTEND;TZID=America/Halifax:20190527T140000
DTSTAMP:20260421T164919
CREATED:20190521T135246Z
LAST-MODIFIED:20190521T135246Z
UID:9457-1558958400-1558965600@www.shantimandir.com
SUMMARY:Memorial Day Potluck Picnic
DESCRIPTION:
URL:https://www.shantimandir.com/event/memorial-day-potluck-picnic-2019/
LOCATION:Shanti Mandir Walden\, 51 Muktananda Marg\, Walden\, NY\, 12586\, United States
CATEGORIES:Festivals,Walden Ashram
ATTACH;FMTTYPE=image/jpeg:https://www.shantimandir.com/wp-content/uploads/2019/05/Memorial_Day_potluck_invite_2019_1.jpg
END:VEVENT
BEGIN:VEVENT
DTSTART;TZID=America/Halifax:20190519T100000
DTEND;TZID=America/Halifax:20190519T120000
DTSTAMP:20260421T164919
CREATED:20190514T155724Z
LAST-MODIFIED:20190514T155919Z
UID:9445-1558260000-1558267200@www.shantimandir.com
SUMMARY:Paduka Pooja
DESCRIPTION:
URL:https://www.shantimandir.com/event/paduka-pooja-may-2019/
LOCATION:Shanti Mandir Walden\, 51 Muktananda Marg\, Walden\, NY\, 12586\, United States
CATEGORIES:Festivals,Walden Ashram
ATTACH;FMTTYPE=image/jpeg:https://www.shantimandir.com/wp-content/uploads/2019/05/Baba_birthday_pooja_flyer_051119.jpg
END:VEVENT
BEGIN:VEVENT
DTSTART;TZID=America/Halifax:20190421T120000
DTEND;TZID=America/Halifax:20190421T130000
DTSTAMP:20260421T164919
CREATED:20190415T133729Z
LAST-MODIFIED:20190415T134216Z
UID:9382-1555848000-1555851600@www.shantimandir.com
SUMMARY:Easter Potluck Brunch
DESCRIPTION:
URL:https://www.shantimandir.com/event/easter-potluck-brunch-2019/
LOCATION:Shanti Mandir Walden\, 51 Muktananda Marg\, Walden\, NY\, 12586\, United States
CATEGORIES:Festivals,Walden Ashram
ATTACH;FMTTYPE=image/jpeg:https://www.shantimandir.com/wp-content/uploads/2019/04/Easter_potluck_invite_2019.jpg
END:VEVENT
BEGIN:VEVENT
DTSTART;TZID=America/Halifax:20190407T100000
DTEND;TZID=America/Halifax:20190407T123000
DTSTAMP:20260421T164919
CREATED:20190404T145031Z
LAST-MODIFIED:20190404T145617Z
UID:9371-1554631200-1554640200@www.shantimandir.com
SUMMARY:Durga Pooja
DESCRIPTION:
URL:https://www.shantimandir.com/event/durga-pooja-apr-2019/
LOCATION:Shanti Mandir Walden\, 51 Muktananda Marg\, Walden\, NY\, 12586\, United States
CATEGORIES:Festivals,Poojas,Walden Ashram
ATTACH;FMTTYPE=image/jpeg:https://www.shantimandir.com/wp-content/uploads/2019/04/Durga_pooja_flyer_apr_2019.jpg
END:VEVENT
BEGIN:VEVENT
DTSTART;VALUE=DATE:20190401
DTEND;VALUE=DATE:20190501
DTSTAMP:20260421T164919
CREATED:20190330T132823Z
LAST-MODIFIED:20190330T133123Z
UID:9346-1554076800-1556668799@www.shantimandir.com
SUMMARY:April Calendar
DESCRIPTION:To view the calendar in pdf format\, click here.
URL:https://www.shantimandir.com/event/april-calendar-2019/
LOCATION:Shanti Mandir Walden\, 51 Muktananda Marg\, Walden\, NY\, 12586\, United States
CATEGORIES:Courses,Festivals,Walden Ashram
ATTACH;FMTTYPE=image/jpeg:https://www.shantimandir.com/wp-content/uploads/2019/03/apr_calendar_2019.jpg
END:VEVENT
BEGIN:VEVENT
DTSTART;VALUE=DATE:20190119
DTEND;VALUE=DATE:20190122
DTSTAMP:20260421T164919
CREATED:20190112T143223Z
LAST-MODIFIED:20190112T143223Z
UID:9117-1547856000-1548115199@www.shantimandir.com
SUMMARY:Shatchandi Yaga
DESCRIPTION:
URL:https://www.shantimandir.com/event/shatchandi-yaga-2019/
LOCATION:Magod Ashram\, Valsad 396 020\, Gujarat\, India
CATEGORIES:Festivals,Gurudev's 2019 Schedule,Magod Ashram
ATTACH;FMTTYPE=image/jpeg:https://www.shantimandir.com/wp-content/uploads/2019/01/Shatchandi.jpg
END:VEVENT
BEGIN:VEVENT
DTSTART;VALUE=DATE:20190116
DTEND;VALUE=DATE:20190315
DTSTAMP:20260421T164919
CREATED:20190112T143348Z
LAST-MODIFIED:20190112T143348Z
UID:9120-1547596800-1552607999@www.shantimandir.com
SUMMARY:Gurudev's Satsang Schedule
DESCRIPTION:
URL:https://www.shantimandir.com/event/gurudevs-satsang-schedule-jan-mar-2019/
LOCATION:Magod Ashram\, Valsad 396 020\, Gujarat\, India
CATEGORIES:Festivals,Gurudev's 2019 Schedule,Magod Ashram
ATTACH;FMTTYPE=image/jpeg:https://www.shantimandir.com/wp-content/uploads/2019/01/SM-satsang-program.jpg
END:VEVENT
BEGIN:VEVENT
DTSTART;TZID=America/New_York:20181123T100000
DTEND;TZID=America/New_York:20181123T170000
DTSTAMP:20260421T164919
CREATED:20181115T181035Z
LAST-MODIFIED:20181115T181057Z
UID:8950-1542967200-1542992400@www.shantimandir.com
SUMMARY:Pink Friday
DESCRIPTION:
URL:https://www.shantimandir.com/event/pink-friday-2018/
LOCATION:Shanti Mandir Walden\, 51 Muktananda Marg\, Walden\, NY\, 12586\, United States
CATEGORIES:Festivals,Gurudev's 2018 Schedule,Walden Ashram
ATTACH;FMTTYPE=image/jpeg:https://www.shantimandir.com/wp-content/uploads/2018/11/pink_friday_HGF_112318.jpeg
END:VEVENT
BEGIN:VEVENT
DTSTART;VALUE=DATE:20181105
DTEND;VALUE=DATE:20181110
DTSTAMP:20260421T164919
CREATED:20181101T140824Z
LAST-MODIFIED:20181101T141107Z
UID:8911-1541376000-1541807999@www.shantimandir.com
SUMMARY:Deepawali at Magod
DESCRIPTION:
URL:https://www.shantimandir.com/event/deepawali-at-magod-2018/
LOCATION:Magod Ashram\, Valsad 396 020\, Gujarat\, India
CATEGORIES:Festivals,Magod Ashram,Poojas
ATTACH;FMTTYPE=image/jpeg:https://www.shantimandir.com/wp-content/uploads/2018/11/deepawali_flyer_magod_2018.jpeg
END:VEVENT
BEGIN:VEVENT
DTSTART;VALUE=DATE:20181101
DTEND;VALUE=DATE:20181201
DTSTAMP:20260421T164919
CREATED:20181101T131329Z
LAST-MODIFIED:20181101T131434Z
UID:8902-1541030400-1543622399@www.shantimandir.com
SUMMARY:November Calendar
DESCRIPTION:To view the calendar in pdf format\, click here.
URL:https://www.shantimandir.com/event/november-calendar-2018/
LOCATION:Shanti Mandir Walden\, 51 Muktananda Marg\, Walden\, NY\, 12586\, United States
CATEGORIES:Festivals,Gurudev's 2018 Schedule,Walden Ashram
ATTACH;FMTTYPE=image/jpeg:https://www.shantimandir.com/wp-content/uploads/2018/11/nov_calendar_2018.jpg
END:VEVENT
BEGIN:VEVENT
DTSTART;VALUE=DATE:20181009
DTEND;VALUE=DATE:20181019
DTSTAMP:20260421T164919
CREATED:20181001T152332Z
LAST-MODIFIED:20181001T152359Z
UID:8787-1539043200-1539907199@www.shantimandir.com
SUMMARY:Navaratra
DESCRIPTION:To view the flyer in pdf format\, click here.
URL:https://www.shantimandir.com/event/sharad-navaratra-2018/
LOCATION:Shanti Mandir Walden\, 51 Muktananda Marg\, Walden\, NY\, 12586\, United States
CATEGORIES:Festivals,Gurudev's 2018 Schedule,Walden Ashram
ATTACH;FMTTYPE=image/jpeg:https://www.shantimandir.com/wp-content/uploads/2018/10/sharad_navaratra_schedule_2018.jpg
END:VEVENT
BEGIN:VEVENT
DTSTART;TZID=America/New_York:20180815T193000
DTEND;TZID=America/New_York:20180815T210000
DTSTAMP:20260421T164919
CREATED:20180813T122348Z
LAST-MODIFIED:20180813T122348Z
UID:8636-1534361400-1534366800@www.shantimandir.com
SUMMARY:Baba's Divya Diksha Celebration
DESCRIPTION:
URL:https://www.shantimandir.com/event/babas-divya-diksha-celebration-2018/
LOCATION:Shanti Mandir Walden\, 51 Muktananda Marg\, Walden\, NY\, 12586\, United States
CATEGORIES:Festivals,Walden Ashram
ATTACH;FMTTYPE=image/jpeg:https://www.shantimandir.com/wp-content/uploads/2018/08/Baba_divya_diksha_flyer_2018.jpg
END:VEVENT
BEGIN:VEVENT
DTSTART;VALUE=DATE:20180815
DTEND;VALUE=DATE:20180816
DTSTAMP:20260421T164919
CREATED:20180814T144810Z
LAST-MODIFIED:20180814T145003Z
UID:8640-1534291200-1534377599@www.shantimandir.com
SUMMARY:Baba's Divya Diksha
DESCRIPTION:
URL:https://www.shantimandir.com/event/babas-divya-diksha_kankhal_2018/
LOCATION:Kankhal Ashram\, Sanyas Marg\, Haridwar\, Uttarakhand\, 249 408\, India
CATEGORIES:Festivals,Gurudev's 2018 Schedule,Kankhal Ashram
ATTACH;FMTTYPE=image/jpeg:https://www.shantimandir.com/wp-content/uploads/2018/08/Baba_divya_diksha_flyer_kankhal_2018.jpg
END:VEVENT
BEGIN:VEVENT
DTSTART;TZID=America/New_York:20180808T190000
DTEND;TZID=America/New_York:20180808T210000
DTSTAMP:20260421T164919
CREATED:20180806T145235Z
LAST-MODIFIED:20180806T145829Z
UID:8632-1533754800-1533762000@www.shantimandir.com
SUMMARY:Pooja in honor of Bhagavan's Mahasamadhi
DESCRIPTION:
URL:https://www.shantimandir.com/event/pooja-in-honor-of-bhagavans-mahasamadhi-2018/
LOCATION:NY
CATEGORIES:Festivals,Poojas,Walden Ashram
ATTACH;FMTTYPE=image/jpeg:https://www.shantimandir.com/wp-content/uploads/2018/08/Bhagavan_mahasamadhi_pooja_flyer_aug_2018.jpg
END:VEVENT
BEGIN:VEVENT
DTSTART;VALUE=DATE:20180807
DTEND;VALUE=DATE:20180809
DTSTAMP:20260421T164919
CREATED:20180501T172056Z
LAST-MODIFIED:20180501T172143Z
UID:8300-1533600000-1533772799@www.shantimandir.com
SUMMARY:Bhagavan's Punyatithi in Ganeshpuri
DESCRIPTION:
URL:https://www.shantimandir.com/event/bhagavan-punyatithi-in-ganeshpuri/
LOCATION:Ganeshpuri\, Nimbavali\, behind Samadhi Mandir\, Taluka - Wada\, Palghar\, Maharashtra\, India
CATEGORIES:Festivals,Gurudev's 2018 Schedule,Magod Ashram
ATTACH;FMTTYPE=image/jpeg:https://www.shantimandir.com/wp-content/uploads/2018/05/Bhagavan_punyatithi_flyer_eng_2018.jpg
END:VEVENT
BEGIN:VEVENT
DTSTART;VALUE=DATE:20180801
DTEND;VALUE=DATE:20180831
DTSTAMP:20260421T164919
CREATED:20180802T132611Z
LAST-MODIFIED:20180802T132611Z
UID:8623-1533081600-1535673599@www.shantimandir.com
SUMMARY:August Calendar
DESCRIPTION:To view the calendar in pdf format\, click here.
URL:https://www.shantimandir.com/event/august-calendar-2018/
LOCATION:Shanti Mandir Walden\, 51 Muktananda Marg\, Walden\, NY\, 12586\, United States
CATEGORIES:Courses,Festivals,Walden Ashram
ATTACH;FMTTYPE=image/jpeg:https://www.shantimandir.com/wp-content/uploads/2018/08/aug_calendar_2018.jpg
END:VEVENT
BEGIN:VEVENT
DTSTART;TZID=America/New_York:20180727T190000
DTEND;TZID=America/New_York:20180727T210000
DTSTAMP:20260421T164919
CREATED:20180723T135446Z
LAST-MODIFIED:20180723T140159Z
UID:8587-1532718000-1532725200@www.shantimandir.com
SUMMARY:Guru Poornima Pooja
DESCRIPTION:
URL:https://www.shantimandir.com/event/guru-poornima-pooja_2018/
LOCATION:Shanti Mandir Walden\, 51 Muktananda Marg\, Walden\, NY\, 12586\, United States
CATEGORIES:Festivals,Walden Ashram
ATTACH;FMTTYPE=image/jpeg:https://www.shantimandir.com/wp-content/uploads/2018/07/Guru_poornima_pooja_flyer_july_2018.jpg
END:VEVENT
BEGIN:VEVENT
DTSTART;VALUE=DATE:20180721
DTEND;VALUE=DATE:20180904
DTSTAMP:20260421T164919
CREATED:20180710T112639Z
LAST-MODIFIED:20180714T124354Z
UID:8562-1532131200-1536019199@www.shantimandir.com
SUMMARY:Programs-July-Sept.
DESCRIPTION:
URL:https://www.shantimandir.com/event/programs-july-sept/
LOCATION:NY
CATEGORIES:Festivals,Gurudev's 2018 Schedule,Magod Ashram
ATTACH;FMTTYPE=image/jpeg:https://www.shantimandir.com/wp-content/uploads/2018/07/Gurudev_programs_card_outside_jul-sept_2018.jpg
END:VEVENT
BEGIN:VEVENT
DTSTART;VALUE=DATE:20180721
DTEND;VALUE=DATE:20180728
DTSTAMP:20260421T164919
CREATED:20180501T171743Z
LAST-MODIFIED:20180501T171838Z
UID:8295-1532131200-1532735999@www.shantimandir.com
SUMMARY:Guru Poornima in Ganeshpuri
DESCRIPTION:
URL:https://www.shantimandir.com/event/guru-poornima-in-ganeshpuri/
LOCATION:Ganeshpuri\, Nimbavali\, behind Samadhi Mandir\, Taluka - Wada\, Palghar\, Maharashtra\, India
CATEGORIES:Festivals,Gurudev's 2018 Schedule,Magod Ashram
ATTACH;FMTTYPE=image/jpeg:https://www.shantimandir.com/wp-content/uploads/2018/05/Guru_poornima_flyer_eng_2018.jpg
END:VEVENT
BEGIN:VEVENT
DTSTART;TZID=America/New_York:20180516T190000
DTEND;TZID=America/New_York:20180516T210000
DTSTAMP:20260421T164919
CREATED:20180510T145139Z
LAST-MODIFIED:20180510T145307Z
UID:8329-1526497200-1526504400@www.shantimandir.com
SUMMARY:Baba's Birthday-Paduka Pooja
DESCRIPTION:
URL:https://www.shantimandir.com/event/baba-birthday-paduka-pooja-2018/
LOCATION:Shanti Mandir Walden\, 51 Muktananda Marg\, Walden\, NY\, 12586\, United States
CATEGORIES:Festivals,Walden Ashram
ATTACH;FMTTYPE=image/jpeg:https://www.shantimandir.com/wp-content/uploads/2018/05/Baba_birthday_pooja_flyer_051618.jpg
END:VEVENT
BEGIN:VEVENT
DTSTART;VALUE=DATE:20180501
DTEND;VALUE=DATE:20180601
DTSTAMP:20260421T164919
CREATED:20180502T122751Z
LAST-MODIFIED:20180509T214912Z
UID:8305-1525132800-1527811199@www.shantimandir.com
SUMMARY:May Calendar
DESCRIPTION:To view the flyer in PDF format\, click here.
URL:https://www.shantimandir.com/event/may-calendar-2018/
LOCATION:Shanti Mandir Walden\, 51 Muktananda Marg\, Walden\, NY\, 12586\, United States
CATEGORIES:Courses,Festivals,Gurudev's 2018 Schedule,Walden Ashram
ATTACH;FMTTYPE=image/jpeg:https://www.shantimandir.com/wp-content/uploads/2018/05/may_calendar_2018_1.jpg
END:VEVENT
BEGIN:VEVENT
DTSTART;VALUE=DATE:20180429
DTEND;VALUE=DATE:20180430
DTSTAMP:20260421T164919
CREATED:20180423T144603Z
LAST-MODIFIED:20180423T144603Z
UID:8188-1524960000-1525046399@www.shantimandir.com
SUMMARY:Baba's Birthday Celebration
DESCRIPTION:
URL:https://www.shantimandir.com/event/baba-birthday-celebration-magod-2018/
LOCATION:Magod Ashram\, Valsad 396 020\, Gujarat\, India
CATEGORIES:Festivals,Magod Ashram
ATTACH;FMTTYPE=image/jpeg:https://www.shantimandir.com/wp-content/uploads/2018/04/baba_birthday_magod_2018.jpg
END:VEVENT
BEGIN:VEVENT
DTSTART;VALUE=DATE:20180330
DTEND;VALUE=DATE:20180402
DTSTAMP:20260421T164919
CREATED:20180314T143303Z
LAST-MODIFIED:20180314T143841Z
UID:8047-1522368000-1522627199@www.shantimandir.com
SUMMARY:Hanuman Jayanti
DESCRIPTION:
URL:https://www.shantimandir.com/event/hanuman-jayanti-2018/
LOCATION:Magod Ashram\, Valsad 396 020\, Gujarat\, India
CATEGORIES:Festivals,Gurudev's 2018 Schedule,Magod Ashram
ATTACH;FMTTYPE=image/jpeg:https://www.shantimandir.com/wp-content/uploads/2018/03/hanuman_jayanti_flyer_magod_2018.jpg
END:VEVENT
BEGIN:VEVENT
DTSTART;VALUE=DATE:20180318
DTEND;VALUE=DATE:20180326
DTSTAMP:20260421T164919
CREATED:20180314T132007Z
LAST-MODIFIED:20180314T141300Z
UID:8041-1521331200-1522022399@www.shantimandir.com
SUMMARY:Navaratra in Ganeshpuri
DESCRIPTION:
URL:https://www.shantimandir.com/event/navaratra-in-ganeshpuri-2018/
LOCATION:Ganeshpuri\, Nimbavali\, behind Samadhi Mandir\, Taluka - Wada\, Palghar\, Maharashtra\, India
CATEGORIES:Festivals,Gurudev's 2018 Schedule,Magod Ashram
ATTACH;FMTTYPE=image/jpeg:https://www.shantimandir.com/wp-content/uploads/2018/03/navaratra_flyer_gsp_front_2018.jpg
END:VEVENT
BEGIN:VEVENT
DTSTART;VALUE=DATE:20180318
DTEND;VALUE=DATE:20180326
DTSTAMP:20260421T164919
CREATED:20180310T144932Z
LAST-MODIFIED:20180310T145005Z
UID:8025-1521331200-1522022399@www.shantimandir.com
SUMMARY:Navaratra
DESCRIPTION:To view the flyer in PDF format\, click here.
URL:https://www.shantimandir.com/event/navaratra-spring-2018/
LOCATION:Shanti Mandir Walden\, 51 Muktananda Marg\, Walden\, NY\, 12586\, United States
CATEGORIES:Festivals,Walden Ashram
ATTACH;FMTTYPE=image/jpeg:https://www.shantimandir.com/wp-content/uploads/2018/03/vasant_navaratra_schedule_2018.jpg
END:VEVENT
BEGIN:VEVENT
DTSTART;TZID=America/New_York:20180213T193000
DTEND;TZID=America/New_York:20180213T220000
DTSTAMP:20260421T164919
CREATED:20180207T121204Z
LAST-MODIFIED:20180207T121204Z
UID:7927-1518550200-1518559200@www.shantimandir.com
SUMMARY:Shivaratri Pooja
DESCRIPTION:
URL:https://www.shantimandir.com/event/shivaratri-pooja/
LOCATION:Shanti Mandir Walden\, 51 Muktananda Marg\, Walden\, NY\, 12586\, United States
CATEGORIES:Festivals,Walden Ashram
ATTACH;FMTTYPE=image/jpeg:https://www.shantimandir.com/wp-content/uploads/2018/02/shivaratri_flyer_021318.jpg
END:VEVENT
BEGIN:VEVENT
DTSTART;VALUE=DATE:20180201
DTEND;VALUE=DATE:20180301
DTSTAMP:20260421T164919
CREATED:20180207T114742Z
LAST-MODIFIED:20180207T114803Z
UID:7919-1517443200-1519862399@www.shantimandir.com
SUMMARY:Gurudev's February Calendar
DESCRIPTION:To view the calendar in PDF format\, click here.
URL:https://www.shantimandir.com/event/gurudev-february-calendar-2018/
LOCATION:NY
CATEGORIES:Festivals,Gurudev's 2018 Schedule,Kankhal Ashram,Magod Ashram
ATTACH;FMTTYPE=image/jpeg:https://www.shantimandir.com/wp-content/uploads/2018/02/Gurudev_feb_calendar_2018.jpg
END:VEVENT
BEGIN:VEVENT
DTSTART;VALUE=DATE:20171230
DTEND;VALUE=DATE:20180102
DTSTAMP:20260421T164919
CREATED:20171224T230520Z
LAST-MODIFIED:20171225T001151Z
UID:7727-1514592000-1514851199@www.shantimandir.com
SUMMARY:New Year's Weekend
DESCRIPTION:To view the flyer in PDF\, click here.
URL:https://www.shantimandir.com/event/new-years-weekend-2017/
LOCATION:NY
CATEGORIES:Festivals,Walden Ashram
ATTACH;FMTTYPE=image/jpeg:https://www.shantimandir.com/wp-content/uploads/2017/12/new_year-weekend_flyer_2017.jpg
END:VEVENT
BEGIN:VEVENT
DTSTART;VALUE=DATE:20171017
DTEND;VALUE=DATE:20171023
DTSTAMP:20260421T164919
CREATED:20170908T153807Z
LAST-MODIFIED:20171012T143836Z
UID:7346-1508198400-1508716799@www.shantimandir.com
SUMMARY:Deepawali
DESCRIPTION:To view the schedule in English\, click here. \nTo view the schedule in Hindi\, click here.
URL:https://www.shantimandir.com/event/deepawali-magod-2017/
LOCATION:Magod Ashram\, Valsad 396 020\, Gujarat\, India
CATEGORIES:Festivals,Gurudev's 2017 Schedule,Magod Ashram
ATTACH;FMTTYPE=image/jpeg:https://www.shantimandir.com/wp-content/uploads/2017/09/DEEPAWALI_A5_FLYER_HINDI_2017-3.jpg
END:VEVENT
END:VCALENDAR