BEGIN:VCALENDAR
VERSION:2.0
PRODID:-//Shanti Mandir - ECPv6.3.6//NONSGML v1.0//EN
CALSCALE:GREGORIAN
METHOD:PUBLISH
X-ORIGINAL-URL:https://www.shantimandir.com
X-WR-CALDESC:Events for Shanti Mandir
REFRESH-INTERVAL;VALUE=DURATION:PT1H
X-Robots-Tag:noindex
X-PUBLISHED-TTL:PT1H
BEGIN:VTIMEZONE
TZID:America/Halifax
BEGIN:DAYLIGHT
TZOFFSETFROM:-0400
TZOFFSETTO:-0300
TZNAME:ADT
DTSTART:20140309T060000
END:DAYLIGHT
BEGIN:STANDARD
TZOFFSETFROM:-0300
TZOFFSETTO:-0400
TZNAME:AST
DTSTART:20141102T050000
END:STANDARD
END:VTIMEZONE
BEGIN:VEVENT
DTSTART;VALUE=DATE:20140407
DTEND;VALUE=DATE:20140408
DTSTAMP:20260422T081250
CREATED:20140408T184002Z
LAST-MODIFIED:20140410T192020Z
UID:1662-1396828800-1396915199@www.shantimandir.com
SUMMARY:Vasant Navaratra-Ashtami Havan
DESCRIPTION:Navaratra at SM Walden\, 2013
URL:https://www.shantimandir.com/event/ashtami-havan/
CATEGORIES:Festivals,Kankhal Ashram,Magod Ashram,Walden Ashram
END:VEVENT
BEGIN:VEVENT
DTSTART;VALUE=DATE:20140331
DTEND;VALUE=DATE:20140407
DTSTAMP:20260422T081250
CREATED:20140408T183716Z
LAST-MODIFIED:20140503T000336Z
UID:1661-1396224000-1396828799@www.shantimandir.com
SUMMARY:Vasant Navaratra
DESCRIPTION:Navaratra at SM Walden\, 2013
URL:https://www.shantimandir.com/event/vasant-navaratra/
CATEGORIES:Festivals,Kankhal Ashram,Magod Ashram
END:VEVENT
BEGIN:VEVENT
DTSTART;VALUE=DATE:20140317
DTEND;VALUE=DATE:20140318
DTSTAMP:20260422T081250
CREATED:20140408T183342Z
LAST-MODIFIED:20140410T191559Z
UID:1657-1395014400-1395100799@www.shantimandir.com
SUMMARY:Dhuleti
DESCRIPTION:Holi at SM Magod\, 2013
URL:https://www.shantimandir.com/event/dhuleti/
CATEGORIES:Festivals,Kankhal Ashram,Magod Ashram,Walden Ashram
END:VEVENT
BEGIN:VEVENT
DTSTART;VALUE=DATE:20140316
DTEND;VALUE=DATE:20140317
DTSTAMP:20260422T081250
CREATED:20140408T182931Z
LAST-MODIFIED:20140411T051625Z
UID:1656-1394928000-1395014399@www.shantimandir.com
SUMMARY:Holika Dahan
DESCRIPTION:Holi at SM Magod\, 2014
URL:https://www.shantimandir.com/event/holika-dahan/
CATEGORIES:Festivals,Kankhal Ashram,Magod Ashram,Walden Ashram
END:VEVENT
BEGIN:VEVENT
DTSTART;VALUE=DATE:20140227
DTEND;VALUE=DATE:20140228
DTSTAMP:20260422T081250
CREATED:20140408T182254Z
LAST-MODIFIED:20140410T191239Z
UID:1655-1393459200-1393545599@www.shantimandir.com
SUMMARY:Maha Shivaratri
DESCRIPTION:Shiva Lingam at SM Walden
URL:https://www.shantimandir.com/event/maha-shivaratri/
CATEGORIES:Festivals,Kankhal Ashram,Magod Ashram,Walden Ashram
END:VEVENT
BEGIN:VEVENT
DTSTART;VALUE=DATE:20140116
DTEND;VALUE=DATE:20140117
DTSTAMP:20260422T081250
CREATED:20140408T181126Z
LAST-MODIFIED:20140410T181820Z
UID:1652-1389830400-1389916799@www.shantimandir.com
SUMMARY:Shakhambhari Navaratra Havan
DESCRIPTION:
URL:https://www.shantimandir.com/event/shakhambhari-navaratra-havan/
CATEGORIES:Festivals,Magod Ashram
END:VEVENT
BEGIN:VEVENT
DTSTART;VALUE=DATE:20140101
DTEND;VALUE=DATE:20140102
DTSTAMP:20260422T081250
CREATED:20140408T180048Z
LAST-MODIFIED:20140408T180048Z
UID:1646-1388534400-1388620799@www.shantimandir.com
SUMMARY:Anniversary of Shanti Mandir\, Magod
DESCRIPTION:
URL:https://www.shantimandir.com/event/anniversary-shanti-mandir-magod/
LOCATION:Magod Ashram\, Valsad 396 020\, Gujarat\, India
CATEGORIES:Festivals,Magod Ashram
END:VEVENT
END:VCALENDAR