BEGIN:VCALENDAR
VERSION:2.0
PRODID:-//Shanti Mandir - ECPv6.3.6//NONSGML v1.0//EN
CALSCALE:GREGORIAN
METHOD:PUBLISH
X-WR-CALNAME:Shanti Mandir
X-ORIGINAL-URL:https://www.shantimandir.com
X-WR-CALDESC:Events for Shanti Mandir
REFRESH-INTERVAL;VALUE=DURATION:PT1H
X-Robots-Tag:noindex
X-PUBLISHED-TTL:PT1H
BEGIN:VTIMEZONE
TZID:America/New_York
BEGIN:DAYLIGHT
TZOFFSETFROM:-0500
TZOFFSETTO:-0400
TZNAME:EDT
DTSTART:20170312T070000
END:DAYLIGHT
BEGIN:STANDARD
TZOFFSETFROM:-0400
TZOFFSETTO:-0500
TZNAME:EST
DTSTART:20171105T060000
END:STANDARD
BEGIN:DAYLIGHT
TZOFFSETFROM:-0500
TZOFFSETTO:-0400
TZNAME:EDT
DTSTART:20180311T070000
END:DAYLIGHT
BEGIN:STANDARD
TZOFFSETFROM:-0400
TZOFFSETTO:-0500
TZNAME:EST
DTSTART:20181104T060000
END:STANDARD
TZID:UTC
BEGIN:STANDARD
TZOFFSETFROM:+0000
TZOFFSETTO:+0000
TZNAME:UTC
DTSTART:20170101T000000
END:STANDARD
END:VTIMEZONE
BEGIN:VEVENT
DTSTART;TZID=America/New_York:20180512T100000
DTEND;TZID=America/New_York:20180512T130000
DTSTAMP:20260421T205231
CREATED:20180505T125101Z
LAST-MODIFIED:20180505T125101Z
UID:8309-1526119200-1526130000@www.shantimandir.com
SUMMARY:Parent-Child Yoga
DESCRIPTION:To view the flyer in PDF format\, click here.
URL:https://www.shantimandir.com/event/parent-child-yoga-may-2018/
LOCATION:Shanti Mandir Walden\, 51 Muktananda Marg\, Walden\, NY\, 12586\, United States
CATEGORIES:Courses,Walden Ashram
ATTACH;FMTTYPE=image/jpeg:https://www.shantimandir.com/wp-content/uploads/2018/05/parent-child_yoga_flyer_may_2018.jpg
END:VEVENT
BEGIN:VEVENT
DTSTART;VALUE=DATE:20180501
DTEND;VALUE=DATE:20180601
DTSTAMP:20260421T205231
CREATED:20180502T122751Z
LAST-MODIFIED:20180509T214912Z
UID:8305-1525132800-1527811199@www.shantimandir.com
SUMMARY:May Calendar
DESCRIPTION:To view the flyer in PDF format\, click here.
URL:https://www.shantimandir.com/event/may-calendar-2018/
LOCATION:Shanti Mandir Walden\, 51 Muktananda Marg\, Walden\, NY\, 12586\, United States
CATEGORIES:Courses,Festivals,Gurudev's 2018 Schedule,Walden Ashram
ATTACH;FMTTYPE=image/jpeg:https://www.shantimandir.com/wp-content/uploads/2018/05/may_calendar_2018_1.jpg
END:VEVENT
BEGIN:VEVENT
DTSTART;TZID=America/New_York:20180428T100000
DTEND;TZID=America/New_York:20180428T130000
DTSTAMP:20260421T205231
CREATED:20180412T115554Z
LAST-MODIFIED:20180412T115721Z
UID:8130-1524909600-1524920400@www.shantimandir.com
SUMMARY:Parent-Child Yoga
DESCRIPTION:To view the flyer in PDF format\, click here.
URL:https://www.shantimandir.com/event/parent-child-yoga-apr-2018/
LOCATION:Shanti Mandir Walden\, 51 Muktananda Marg\, Walden\, NY\, 12586\, United States
CATEGORIES:Courses,Gurudev's 2018 Schedule,Walden Ashram
ATTACH;FMTTYPE=image/jpeg:https://www.shantimandir.com/wp-content/uploads/2018/04/parent-child_yoga_flyer_apr_2018.jpg
END:VEVENT
BEGIN:VEVENT
DTSTART;TZID=America/New_York:20180421T090000
DTEND;TZID=America/New_York:20180421T160000
DTSTAMP:20260421T205231
CREATED:20180405T135020Z
LAST-MODIFIED:20180405T140311Z
UID:8100-1524301200-1524326400@www.shantimandir.com
SUMMARY:Meditation Intensive
DESCRIPTION:To view the flyer in PDF format\, click here.
URL:https://www.shantimandir.com/event/meditation-intensive-apr-2018/
LOCATION:Shanti Mandir Walden\, 51 Muktananda Marg\, Walden\, NY\, 12586\, United States
CATEGORIES:Courses,Gurudev's 2018 Schedule,Walden Ashram
ATTACH;FMTTYPE=image/jpeg:https://www.shantimandir.com/wp-content/uploads/2018/04/meditation_intensive_flyer_apr_2018.jpg
END:VEVENT
BEGIN:VEVENT
DTSTART;VALUE=DATE:20180406
DTEND;VALUE=DATE:20180409
DTSTAMP:20260421T205231
CREATED:20180218T011725Z
LAST-MODIFIED:20180311T211952Z
UID:7957-1522972800-1523231999@www.shantimandir.com
SUMMARY:Ayurvedic Retreat
DESCRIPTION:To view the flyer in PDF format\, click here.
URL:https://www.shantimandir.com/event/ayurvedic-retreat/
LOCATION:Shanti Mandir Walden\, 51 Muktananda Marg\, Walden\, NY\, 12586\, United States
CATEGORIES:Courses,Walden Ashram
ATTACH;FMTTYPE=image/jpeg:https://www.shantimandir.com/wp-content/uploads/2018/02/ayurveda_retreat_flyer_apr_2018-1.jpg
END:VEVENT
BEGIN:VEVENT
DTSTART;TZID=America/New_York:20180324T100000
DTEND;TZID=America/New_York:20180324T123000
DTSTAMP:20260421T205231
CREATED:20180308T013958Z
LAST-MODIFIED:20180309T125451Z
UID:7988-1521885600-1521894600@www.shantimandir.com
SUMMARY:Chandi Path Workshop
DESCRIPTION:To view the flyer in PDF format\, click here.
URL:https://www.shantimandir.com/event/chandi-path-workshop-mar-2018/
LOCATION:Shanti Mandir Walden\, 51 Muktananda Marg\, Walden\, NY\, 12586\, United States
CATEGORIES:Courses,Walden Ashram
ATTACH;FMTTYPE=image/jpeg:https://www.shantimandir.com/wp-content/uploads/2018/03/chandi_mar24_email.jpg
END:VEVENT
BEGIN:VEVENT
DTSTART;TZID=America/New_York:20180317T100000
DTEND;TZID=America/New_York:20180317T130000
DTSTAMP:20260421T205231
CREATED:20180308T144751Z
LAST-MODIFIED:20180308T144751Z
UID:7999-1521280800-1521291600@www.shantimandir.com
SUMMARY:Parent-Child Yoga
DESCRIPTION:To view the flyer in PDF format\, click here.
URL:https://www.shantimandir.com/event/parent-child-yoga-mar-2018/
LOCATION:Shanti Mandir Walden\, 51 Muktananda Marg\, Walden\, NY\, 12586\, United States
CATEGORIES:Courses,Walden Ashram
ATTACH;FMTTYPE=image/jpeg:https://www.shantimandir.com/wp-content/uploads/2018/03/parent-child_yoga_flyer_mar_2018.jpg
END:VEVENT
BEGIN:VEVENT
DTSTART;TZID=America/New_York:20180224T100000
DTEND;TZID=America/New_York:20180224T130000
DTSTAMP:20260421T205231
CREATED:20180204T190853Z
LAST-MODIFIED:20180213T121436Z
UID:7909-1519466400-1519477200@www.shantimandir.com
SUMMARY:Parent-Child Yoga
DESCRIPTION:To view the flyer in PDF format\, click here. \n 
URL:https://www.shantimandir.com/event/parent-child-yoga-feb-2018/
LOCATION:Shanti Mandir Walden\, 51 Muktananda Marg\, Walden\, NY\, 12586\, United States
CATEGORIES:Courses,Walden Ashram
ATTACH;FMTTYPE=image/jpeg:https://www.shantimandir.com/wp-content/uploads/2018/02/parent-child_yoga_feb_2018.jpg
END:VEVENT
BEGIN:VEVENT
DTSTART;TZID=America/New_York:20180224T100000
DTEND;TZID=America/New_York:20180224T123000
DTSTAMP:20260421T205231
CREATED:20180204T185730Z
LAST-MODIFIED:20180212T142219Z
UID:7904-1519466400-1519475400@www.shantimandir.com
SUMMARY:Upanishad Workshop
DESCRIPTION:To view the flyer in PDF format\, click here. \n 
URL:https://www.shantimandir.com/event/upanishad-workshop-feb-2018/
LOCATION:Shanti Mandir Walden\, 51 Muktananda Marg\, Walden\, NY\, 12586\, United States
CATEGORIES:Courses,Walden Ashram
ATTACH;FMTTYPE=image/jpeg:https://www.shantimandir.com/wp-content/uploads/2018/02/upanishad_workshop_flyer_feb_2018.jpg
END:VEVENT
BEGIN:VEVENT
DTSTART;VALUE=DATE:20180201
DTEND;VALUE=DATE:20180301
DTSTAMP:20260421T205231
CREATED:20180131T153108Z
LAST-MODIFIED:20180131T153223Z
UID:7889-1517443200-1519862399@www.shantimandir.com
SUMMARY:February Calendar
DESCRIPTION:To view the calendar in PDF format\, click here.
URL:https://www.shantimandir.com/event/february-calendar-2018/
LOCATION:Shanti Mandir Walden\, 51 Muktananda Marg\, Walden\, NY\, 12586\, United States
CATEGORIES:Courses,Walden Ashram
ATTACH;FMTTYPE=image/jpeg:https://www.shantimandir.com/wp-content/uploads/2018/01/february_calendar_2018.jpg
END:VEVENT
BEGIN:VEVENT
DTSTART;TZID=America/New_York:20180127T100000
DTEND;TZID=America/New_York:20180127T123000
DTSTAMP:20260421T205231
CREATED:20180103T144213Z
LAST-MODIFIED:20180115T012243Z
UID:7792-1517047200-1517056200@www.shantimandir.com
SUMMARY:Upanishad Workshop
DESCRIPTION:To view the flyer in PDF format\, click here. \n 
URL:https://www.shantimandir.com/event/upanishad-workshop-jan-2018/
LOCATION:Shanti Mandir Walden\, 51 Muktananda Marg\, Walden\, NY\, 12586\, United States
CATEGORIES:Courses,Walden Ashram
ATTACH;FMTTYPE=image/jpeg:https://www.shantimandir.com/wp-content/uploads/2018/01/upanishad_workshop_jan_2018.jpg
END:VEVENT
BEGIN:VEVENT
DTSTART;TZID=America/New_York:20180120T100000
DTEND;TZID=America/New_York:20180120T133000
DTSTAMP:20260421T205231
CREATED:20180103T151548Z
LAST-MODIFIED:20180111T152044Z
UID:7806-1516442400-1516455000@www.shantimandir.com
SUMMARY:Parent-Child Yoga
DESCRIPTION:To view the flyer in PDF format\, click here.
URL:https://www.shantimandir.com/event/parent-child-yoga/
LOCATION:Shanti Mandir Walden\, 51 Muktananda Marg\, Walden\, NY\, 12586\, United States
CATEGORIES:Courses,Walden Ashram
ATTACH;FMTTYPE=image/jpeg:https://www.shantimandir.com/wp-content/uploads/2017/08/parent-child_yoga_jan_2018.jpg
END:VEVENT
BEGIN:VEVENT
DTSTART;VALUE=DATE:20180101
DTEND;VALUE=DATE:20180201
DTSTAMP:20260421T205231
CREATED:20180103T143333Z
LAST-MODIFIED:20180103T143333Z
UID:7785-1514764800-1517443199@www.shantimandir.com
SUMMARY:January Calendar
DESCRIPTION:To view the calendar in PDF format\, click here.
URL:https://www.shantimandir.com/event/january-calendar-2018/
LOCATION:Shanti Mandir Walden\, 51 Muktananda Marg\, Walden\, NY\, 12586\, United States
CATEGORIES:Courses,Walden Ashram
ATTACH;FMTTYPE=image/jpeg:https://www.shantimandir.com/wp-content/uploads/2018/01/january_calendar_2018.jpg
END:VEVENT
BEGIN:VEVENT
DTSTART;TZID=America/New_York:20171230T100000
DTEND;TZID=America/New_York:20171230T160000
DTSTAMP:20260421T205231
CREATED:20171204T154557Z
LAST-MODIFIED:20171212T141020Z
UID:7565-1514628000-1514649600@www.shantimandir.com
SUMMARY:Meditation Retreat
DESCRIPTION:To view the flyer in PDF format\, click here.
URL:https://www.shantimandir.com/event/meditation-retreat-dec-2017/
LOCATION:Shanti Mandir Walden\, 51 Muktananda Marg\, Walden\, NY\, 12586\, United States
CATEGORIES:Courses,Walden Ashram
ATTACH;FMTTYPE=image/jpeg:https://www.shantimandir.com/wp-content/uploads/2014/02/Meditation-Retreat-Flyer-Dec-2017.jpg
END:VEVENT
BEGIN:VEVENT
DTSTART;TZID=America/New_York:20171216T100000
DTEND;TZID=America/New_York:20171216T130000
DTSTAMP:20260421T205231
CREATED:20171207T133118Z
LAST-MODIFIED:20171207T133752Z
UID:7607-1513418400-1513429200@www.shantimandir.com
SUMMARY:Parent-Child Yoga
DESCRIPTION:To view the flyer in PDF format\, click here.
URL:https://www.shantimandir.com/event/parent-child-yoga-dec-2017/
LOCATION:Shanti Mandir Walden\, 51 Muktananda Marg\, Walden\, NY\, 12586\, United States
CATEGORIES:Courses,Walden Ashram
ATTACH;FMTTYPE=image/jpeg:https://www.shantimandir.com/wp-content/uploads/2017/12/Parent-Child-Yoga-Flyer-Dec-2017.jpg
END:VEVENT
BEGIN:VEVENT
DTSTART;TZID=America/New_York:20171202T100000
DTEND;TZID=America/New_York:20171202T123000
DTSTAMP:20260421T205231
CREATED:20171123T160849Z
LAST-MODIFIED:20171123T160849Z
UID:7531-1512208800-1512217800@www.shantimandir.com
SUMMARY:Kashmir Shaivism Workshop
DESCRIPTION:To view the flyer in PDF format\, click here.
URL:https://www.shantimandir.com/event/kashmir-shaivism-workshop-23/
LOCATION:Shanti Mandir Walden\, 51 Muktananda Marg\, Walden\, NY\, 12586\, United States
CATEGORIES:Courses,Walden Ashram
ATTACH;FMTTYPE=image/jpeg:https://www.shantimandir.com/wp-content/uploads/2015/02/Kashmir-Shaivism-Workshop-Flyer-Dec-2017.jpg
END:VEVENT
BEGIN:VEVENT
DTSTART;VALUE=DATE:20171201
DTEND;VALUE=DATE:20180101
DTSTAMP:20260421T205231
CREATED:20171201T124918Z
LAST-MODIFIED:20171201T124918Z
UID:7555-1512086400-1514764799@www.shantimandir.com
SUMMARY:December Calendar
DESCRIPTION:To view the calendar in PDF format\, click here.
URL:https://www.shantimandir.com/event/december-calendar-2017/
LOCATION:Shanti Mandir Walden\, 51 Muktananda Marg\, Walden\, NY\, 12586\, United States
CATEGORIES:Courses,Walden Ashram
ATTACH;FMTTYPE=image/jpeg:https://www.shantimandir.com/wp-content/uploads/2017/12/December-Calendar-2017.jpg
END:VEVENT
BEGIN:VEVENT
DTSTART;TZID=America/New_York:20171118T100000
DTEND;TZID=America/New_York:20171118T123000
DTSTAMP:20260421T205231
CREATED:20171104T214533Z
LAST-MODIFIED:20171104T214533Z
UID:7505-1510999200-1511008200@www.shantimandir.com
SUMMARY:Kashmir Shaivism Workshop
DESCRIPTION:To view the flyer in PDF format\, click here.
URL:https://www.shantimandir.com/event/kashmir-shaivism-workshop-22/
LOCATION:Shanti Mandir Walden\, 51 Muktananda Marg\, Walden\, NY\, 12586\, United States
CATEGORIES:Courses,Walden Ashram
ATTACH;FMTTYPE=image/jpeg:https://www.shantimandir.com/wp-content/uploads/2015/02/Kashmir-Shaivism-Workshop-Flyer-Nov-2017.jpg
END:VEVENT
BEGIN:VEVENT
DTSTART;TZID=America/New_York:20171111T100000
DTEND;TZID=America/New_York:20171111T133000
DTSTAMP:20260421T205231
CREATED:20171107T153151Z
LAST-MODIFIED:20171107T153437Z
UID:7511-1510394400-1510407000@www.shantimandir.com
SUMMARY:Parent-Child Yoga
DESCRIPTION:To view the flyer in PDF format\, click here.
URL:https://www.shantimandir.com/event/parent-child-yoga-nov-2017/
LOCATION:Shanti Mandir Walden\, 51 Muktananda Marg\, Walden\, NY\, 12586\, United States
CATEGORIES:Courses,Walden Ashram
ATTACH;FMTTYPE=image/jpeg:https://www.shantimandir.com/wp-content/uploads/2017/08/Parent-Child-Yoga-Flyer-Sept-Nov-2017.jpg
END:VEVENT
BEGIN:VEVENT
DTSTART;VALUE=DATE:20171101
DTEND;VALUE=DATE:20171201
DTSTAMP:20260421T205231
CREATED:20171029T181017Z
LAST-MODIFIED:20171029T181017Z
UID:7495-1509494400-1512086399@www.shantimandir.com
SUMMARY:November Calendar
DESCRIPTION:To view the calendar in PDF format\, click here.
URL:https://www.shantimandir.com/event/november-calendar-2017/
LOCATION:Shanti Mandir Walden\, 51 Muktananda Marg\, Walden\, NY\, 12586\, United States
CATEGORIES:Courses,Walden Ashram
ATTACH;FMTTYPE=image/jpeg:https://www.shantimandir.com/wp-content/uploads/2017/10/November-Calendar-2017.jpg
END:VEVENT
BEGIN:VEVENT
DTSTART;TZID=America/New_York:20171021T100000
DTEND;TZID=America/New_York:20171021T133000
DTSTAMP:20260421T205231
CREATED:20171016T125311Z
LAST-MODIFIED:20171016T130836Z
UID:7457-1508580000-1508592600@www.shantimandir.com
SUMMARY:Parent-Child Yoga
DESCRIPTION:To view the flyer in PDF format\, click here.
URL:https://www.shantimandir.com/event/parent-child-yoga-oct-2017/
LOCATION:Shanti Mandir Walden\, 51 Muktananda Marg\, Walden\, NY\, 12586\, United States
CATEGORIES:Courses,Walden Ashram
ATTACH;FMTTYPE=image/jpeg:https://www.shantimandir.com/wp-content/uploads/2017/08/Parent-Child-Yoga-Flyer-Sept-Nov-2017.jpg
END:VEVENT
BEGIN:VEVENT
DTSTART;TZID=America/New_York:20171014T100000
DTEND;TZID=America/New_York:20171014T123000
DTSTAMP:20260421T205231
CREATED:20171005T133631Z
LAST-MODIFIED:20171005T133731Z
UID:7416-1507975200-1507984200@www.shantimandir.com
SUMMARY:Kashmir Shaivism Workshop
DESCRIPTION:To view the flyer in PDF format\, click here.
URL:https://www.shantimandir.com/event/kashmir-shaivism-workshop-21/
LOCATION:Shanti Mandir Walden\, 51 Muktananda Marg\, Walden\, NY\, 12586\, United States
CATEGORIES:Courses,Walden Ashram
ATTACH;FMTTYPE=image/jpeg:https://www.shantimandir.com/wp-content/uploads/2017/10/Kashmir-Shaivism-Workshop-Flyer-Oct-2017.jpg
END:VEVENT
BEGIN:VEVENT
DTSTART;TZID=America/New_York:20171007T090000
DTEND;TZID=America/New_York:20171007T160000
DTSTAMP:20260421T205231
CREATED:20170923T160638Z
LAST-MODIFIED:20170925T115351Z
UID:7398-1507366800-1507392000@www.shantimandir.com
SUMMARY:Meditation Intensive
DESCRIPTION:To view the calendar in PDF format\, click here.
URL:https://www.shantimandir.com/event/meditation-intensive-oct-2017/
LOCATION:Shanti Mandir Walden\, 51 Muktananda Marg\, Walden\, NY\, 12586\, United States
CATEGORIES:Courses,Gurudev's 2017 Schedule,Walden Ashram
ATTACH;FMTTYPE=image/jpeg:https://www.shantimandir.com/wp-content/uploads/2015/04/Meditation-Intensive-Flyer-Oct-2017.jpg
END:VEVENT
BEGIN:VEVENT
DTSTART;VALUE=DATE:20171001
DTEND;VALUE=DATE:20171101
DTSTAMP:20260421T205231
CREATED:20170925T114200Z
LAST-MODIFIED:20171015T235402Z
UID:7401-1506816000-1509494399@www.shantimandir.com
SUMMARY:October Calendar
DESCRIPTION:To view the calendar in PDF format\, click here.
URL:https://www.shantimandir.com/event/october-calendar-2017/
LOCATION:Shanti Mandir Walden\, 51 Muktananda Marg\, Walden\, NY\, 12586\, United States
CATEGORIES:Courses,Festivals,Gurudev's 2017 Schedule,Walden Ashram
ATTACH;FMTTYPE=image/jpeg:https://www.shantimandir.com/wp-content/uploads/2017/09/October-Calendar-2017-4.jpg
END:VEVENT
BEGIN:VEVENT
DTSTART;TZID=America/New_York:20170923T100000
DTEND;TZID=America/New_York:20170923T133000
DTSTAMP:20260421T205231
CREATED:20170829T152341Z
LAST-MODIFIED:20170829T152411Z
UID:7272-1506160800-1506173400@www.shantimandir.com
SUMMARY:Parent-Child Yoga Program
DESCRIPTION:To view the flyer in PDF format\, click here.
URL:https://www.shantimandir.com/event/parent-child-yoga-program-sept-2017/
LOCATION:Shanti Mandir Walden\, 51 Muktananda Marg\, Walden\, NY\, 12586\, United States
CATEGORIES:Courses,Gurudev's 2017 Schedule,Walden Ashram
ATTACH;FMTTYPE=image/jpeg:https://www.shantimandir.com/wp-content/uploads/2017/08/Parent-Child-Yoga-Flyer-Sept-Nov-2017.jpg
END:VEVENT
BEGIN:VEVENT
DTSTART;TZID=America/New_York:20170916T090000
DTEND;TZID=America/New_York:20170916T160000
DTSTAMP:20260421T205231
CREATED:20170907T151613Z
LAST-MODIFIED:20170912T132005Z
UID:7333-1505552400-1505577600@www.shantimandir.com
SUMMARY:Meditation Intensive
DESCRIPTION:To view the flyer in PDF format\, click here.
URL:https://www.shantimandir.com/event/meditation-intensive-sept-2017/
LOCATION:Shanti Mandir Walden\, 51 Muktananda Marg\, Walden\, NY\, 12586\, United States
CATEGORIES:Courses,Gurudev's 2017 Schedule,Walden Ashram
ATTACH;FMTTYPE=image/jpeg:https://www.shantimandir.com/wp-content/uploads/2015/04/Meditation-Intensive-Flyer-Sept-2017.jpg
END:VEVENT
BEGIN:VEVENT
DTSTART;TZID=UTC:20170826T090000
DTEND;TZID=UTC:20170826T160000
DTSTAMP:20260421T205231
CREATED:20170803T185152Z
LAST-MODIFIED:20170804T181225Z
UID:7150-1503738000-1503763200@www.shantimandir.com
SUMMARY:Meditation Intensive with Gurudev
DESCRIPTION:To view the flyer in PDF format\, click here.
URL:https://www.shantimandir.com/event/meditation-intensive-aug-2017/
LOCATION:Shanti Mandir Walden\, 51 Muktananda Marg\, Walden\, NY\, 12586\, United States
CATEGORIES:Courses,Gurudev's 2017 Schedule,Walden Ashram
ATTACH;FMTTYPE=image/jpeg:https://www.shantimandir.com/wp-content/uploads/2017/08/Meditation-Intensive-Flyer-Aug-2017.jpg
END:VEVENT
BEGIN:VEVENT
DTSTART;TZID=UTC:20170806T013000
DTEND;TZID=UTC:20170806T150000
DTSTAMP:20260421T205231
CREATED:20170804T175922Z
LAST-MODIFIED:20170804T175922Z
UID:7167-1501983000-1502031600@www.shantimandir.com
SUMMARY:Yoga Course Tasters
DESCRIPTION:
URL:https://www.shantimandir.com/event/yoga-course-tasters-aug-2017/
LOCATION:Shanti Mandir Walden\, 51 Muktananda Marg\, Walden\, NY\, 12586\, United States
CATEGORIES:Courses,Gurudev's 2017 Schedule,Walden Ashram
ATTACH;FMTTYPE=image/jpeg:https://www.shantimandir.com/wp-content/uploads/2014/01/SD-Tasters-Flyer-Aug-2017.jpg
END:VEVENT
BEGIN:VEVENT
DTSTART;TZID=UTC:20170806T013000
DTEND;TZID=UTC:20170806T150000
DTSTAMP:20260421T205231
CREATED:20170804T175922Z
LAST-MODIFIED:20170804T175922Z
UID:7167-1501983000-1502031600@www.shantimandir.com
SUMMARY:Yoga Course Tasters
DESCRIPTION:
URL:https://www.shantimandir.com/event/yoga-course-tasters-aug-2017/
LOCATION:Shanti Mandir Walden\, 51 Muktananda Marg\, Walden\, NY\, 12586\, United States
CATEGORIES:Courses,Gurudev's 2017 Schedule,Walden Ashram
ATTACH;FMTTYPE=image/jpeg:https://www.shantimandir.com/wp-content/uploads/2014/01/SD-Tasters-Flyer-Aug-2017.jpg
END:VEVENT
BEGIN:VEVENT
DTSTART;TZID=UTC:20170806T013000
DTEND;TZID=UTC:20170806T150000
DTSTAMP:20260421T205231
CREATED:20170804T175922Z
LAST-MODIFIED:20170804T175922Z
UID:7167-1501983000-1502031600@www.shantimandir.com
SUMMARY:Yoga Course Tasters
DESCRIPTION:
URL:https://www.shantimandir.com/event/yoga-course-tasters-aug-2017/
LOCATION:Shanti Mandir Walden\, 51 Muktananda Marg\, Walden\, NY\, 12586\, United States
CATEGORIES:Courses,Gurudev's 2017 Schedule,Walden Ashram
ATTACH;FMTTYPE=image/jpeg:https://www.shantimandir.com/wp-content/uploads/2014/01/SD-Tasters-Flyer-Aug-2017.jpg
END:VEVENT
END:VCALENDAR