BEGIN:VCALENDAR
VERSION:2.0
PRODID:-//Shanti Mandir - ECPv6.3.6//NONSGML v1.0//EN
CALSCALE:GREGORIAN
METHOD:PUBLISH
X-WR-CALNAME:Shanti Mandir
X-ORIGINAL-URL:https://www.shantimandir.com
X-WR-CALDESC:Events for Shanti Mandir
REFRESH-INTERVAL;VALUE=DURATION:PT1H
X-Robots-Tag:noindex
X-PUBLISHED-TTL:PT1H
BEGIN:VTIMEZONE
TZID:America/New_York
BEGIN:DAYLIGHT
TZOFFSETFROM:-0500
TZOFFSETTO:-0400
TZNAME:EDT
DTSTART:20180311T070000
END:DAYLIGHT
BEGIN:STANDARD
TZOFFSETFROM:-0400
TZOFFSETTO:-0500
TZNAME:EST
DTSTART:20181104T060000
END:STANDARD
BEGIN:DAYLIGHT
TZOFFSETFROM:-0500
TZOFFSETTO:-0400
TZNAME:EDT
DTSTART:20190310T070000
END:DAYLIGHT
BEGIN:STANDARD
TZOFFSETFROM:-0400
TZOFFSETTO:-0500
TZNAME:EST
DTSTART:20191103T060000
END:STANDARD
END:VTIMEZONE
BEGIN:VEVENT
DTSTART;VALUE=DATE:20190201
DTEND;VALUE=DATE:20190202
DTSTAMP:20260421T175734
CREATED:20190125T180202Z
LAST-MODIFIED:20190125T180243Z
UID:9137-1548979200-1549011600@www.shantimandir.com
SUMMARY:February Calendar
DESCRIPTION:To view the calendar in pdf format\, click here.
URL:https://www.shantimandir.com/event/february-calendar-2019/
LOCATION:Shanti Mandir Walden\, 51 Muktananda Marg\, Walden\, NY\, 12586\, United States
CATEGORIES:Courses,Walden Ashram
ATTACH;FMTTYPE=image/jpeg:https://www.shantimandir.com/wp-content/uploads/2019/01/feb_calendar_2019.jpg
END:VEVENT
BEGIN:VEVENT
DTSTART;TZID=America/New_York:20190119T100000
DTEND;TZID=America/New_York:20190119T123000
DTSTAMP:20260421T175734
CREATED:20190108T010041Z
LAST-MODIFIED:20190108T010925Z
UID:9107-1547892000-1547901000@www.shantimandir.com
SUMMARY:Upanishad Workshop
DESCRIPTION:To view the flyer in pdf format\, click here.
URL:https://www.shantimandir.com/event/upanishad-workshop-jan-2019/
LOCATION:Shanti Mandir Walden\, 51 Muktananda Marg\, Walden\, NY\, 12586\, United States
CATEGORIES:Courses,Walden Ashram
ATTACH;FMTTYPE=image/jpeg:https://www.shantimandir.com/wp-content/uploads/2019/01/upanishad_workshop_flyer_jan_2019.jpg
END:VEVENT
BEGIN:VEVENT
DTSTART;VALUE=DATE:20190101
DTEND;VALUE=DATE:20190201
DTSTAMP:20260421T175734
CREATED:20181231T160223Z
LAST-MODIFIED:20181231T160531Z
UID:9089-1546300800-1548979199@www.shantimandir.com
SUMMARY:January Calendar
DESCRIPTION:To view the calendar in pdf format\, click here.
URL:https://www.shantimandir.com/event/january-calendar-2019/
LOCATION:Shanti Mandir Walden\, 51 Muktananda Marg\, Walden\, NY\, 12586\, United States
CATEGORIES:Courses,Walden Ashram
ATTACH;FMTTYPE=image/jpeg:https://www.shantimandir.com/wp-content/uploads/2018/12/jan_calendar_2019.jpg
END:VEVENT
BEGIN:VEVENT
DTSTART;TZID=America/New_York:20181229T100000
DTEND;TZID=America/New_York:20181229T160000
DTSTAMP:20260421T175734
CREATED:20181219T143656Z
LAST-MODIFIED:20181219T145204Z
UID:9050-1546077600-1546099200@www.shantimandir.com
SUMMARY:Meditation Retreat
DESCRIPTION:To view the flyer in pdf format\, click here.
URL:https://www.shantimandir.com/event/meditation-retreat-dec-2018/
LOCATION:Shanti Mandir Walden\, 51 Muktananda Marg\, Walden\, NY\, 12586\, United States
CATEGORIES:Courses,Walden Ashram
ATTACH;FMTTYPE=image/jpeg:https://www.shantimandir.com/wp-content/uploads/2018/12/meditation_retreat_flyer_dec_2018.jpg
END:VEVENT
BEGIN:VEVENT
DTSTART;VALUE=DATE:20181229
DTEND;VALUE=DATE:20190102
DTSTAMP:20260421T175734
CREATED:20181205T160330Z
LAST-MODIFIED:20181205T160802Z
UID:9020-1546041600-1546387199@www.shantimandir.com
SUMMARY:New Year's Weekend
DESCRIPTION:
URL:https://www.shantimandir.com/event/new-year-weekend-2018/
LOCATION:Shanti Mandir Walden\, 51 Muktananda Marg\, Walden\, NY\, 12586\, United States
CATEGORIES:Courses,Walden Ashram
ATTACH;FMTTYPE=image/jpeg:https://www.shantimandir.com/wp-content/uploads/2018/12/new_year_weekend_flyer_2018.jpg
END:VEVENT
BEGIN:VEVENT
DTSTART;TZID=America/New_York:20181222T100000
DTEND;TZID=America/New_York:20181222T123000
DTSTAMP:20260421T175734
CREATED:20181212T125624Z
LAST-MODIFIED:20181212T125915Z
UID:9031-1545472800-1545481800@www.shantimandir.com
SUMMARY:Guru Gita Workshop
DESCRIPTION:To view the flyer in pdf format\, click here.
URL:https://www.shantimandir.com/event/guru-gita-workshop-dec-2018/
LOCATION:Shanti Mandir Walden\, 51 Muktananda Marg\, Walden\, NY\, 12586\, United States
CATEGORIES:Courses,Walden Ashram
ATTACH;FMTTYPE=image/jpeg:https://www.shantimandir.com/wp-content/uploads/2018/12/guru_gita_workshop_flyer_dec_2018.jpg
END:VEVENT
BEGIN:VEVENT
DTSTART;VALUE=DATE:20181201
DTEND;VALUE=DATE:20190101
DTSTAMP:20260421T175734
CREATED:20181201T182254Z
LAST-MODIFIED:20181201T182254Z
UID:9012-1543622400-1546300799@www.shantimandir.com
SUMMARY:December Calendar
DESCRIPTION:To view the calendar in pdf format\, click here.
URL:https://www.shantimandir.com/event/december-calendar-2018/
LOCATION:Shanti Mandir Walden\, 51 Muktananda Marg\, Walden\, NY\, 12586\, United States
CATEGORIES:Courses,Walden Ashram
ATTACH;FMTTYPE=image/jpeg:https://www.shantimandir.com/wp-content/uploads/2018/12/dec_calendar_2018.jpg
END:VEVENT
BEGIN:VEVENT
DTSTART;VALUE=DATE:20181105
DTEND;VALUE=DATE:20181110
DTSTAMP:20260421T175734
CREATED:20181030T172742Z
LAST-MODIFIED:20181101T135802Z
UID:8891-1541376000-1541807999@www.shantimandir.com
SUMMARY:Cooking Class
DESCRIPTION:To view the flyer in pdf format\, click here.
URL:https://www.shantimandir.com/event/cooking-class-nov-2018/
LOCATION:Shanti Mandir Walden\, 51 Muktananda Marg\, Walden\, NY\, 12586\, United States
CATEGORIES:Courses,Gurudev's 2018 Schedule,Walden Ashram
ATTACH;FMTTYPE=image/jpeg:https://www.shantimandir.com/wp-content/uploads/2018/10/cooking_class_nov_2018_2.jpeg
END:VEVENT
BEGIN:VEVENT
DTSTART;TZID=America/New_York:20181020T090000
DTEND;TZID=America/New_York:20181020T160000
DTSTAMP:20260421T175734
CREATED:20181016T113603Z
LAST-MODIFIED:20181016T114857Z
UID:8847-1540026000-1540051200@www.shantimandir.com
SUMMARY:Meditation Intensive
DESCRIPTION:To view the flyer in pdf format\, click here.
URL:https://www.shantimandir.com/event/meditation-intensive-oct-2018/
LOCATION:Shanti Mandir Walden\, 51 Muktananda Marg\, Walden\, NY\, 12586\, United States
CATEGORIES:Courses,Gurudev's 2018 Schedule,Walden Ashram
ATTACH;FMTTYPE=image/jpeg:https://www.shantimandir.com/wp-content/uploads/2018/10/intensive_flyer_oct_2018.jpg
END:VEVENT
BEGIN:VEVENT
DTSTART;TZID=America/New_York:20180908T090000
DTEND;TZID=America/New_York:20180908T160000
DTSTAMP:20260421T175734
CREATED:20180830T152057Z
LAST-MODIFIED:20180830T152057Z
UID:8691-1536397200-1536422400@www.shantimandir.com
SUMMARY:Meditation Intensive
DESCRIPTION:To view the flyer in pdf format\, click here.
URL:https://www.shantimandir.com/event/meditation-intensive-sept-2018/
LOCATION:Shanti Mandir Walden\, 51 Muktananda Marg\, Walden\, NY\, 12586\, United States
CATEGORIES:Courses,Gurudev's 2018 Schedule,Walden Ashram
ATTACH;FMTTYPE=image/jpeg:https://www.shantimandir.com/wp-content/uploads/2018/08/intensive_flyer_sept_2018.jpg
END:VEVENT
BEGIN:VEVENT
DTSTART;TZID=America/New_York:20180818T100000
DTEND;TZID=America/New_York:20180818T123000
DTSTAMP:20260421T175734
CREATED:20180728T151950Z
LAST-MODIFIED:20180728T152859Z
UID:8609-1534586400-1534595400@www.shantimandir.com
SUMMARY:Upanishad Workshop
DESCRIPTION:To view the flyer in pdf format\, click here.
URL:https://www.shantimandir.com/event/upanishad-workshop-aug-2018/
LOCATION:Shanti Mandir Walden\, 51 Muktananda Marg\, Walden\, NY\, 12586\, United States
CATEGORIES:Courses,Walden Ashram
ATTACH;FMTTYPE=image/jpeg:https://www.shantimandir.com/wp-content/uploads/2018/07/upanishad_workshop_flyer_aug_2018.jpg
END:VEVENT
BEGIN:VEVENT
DTSTART;TZID=America/New_York:20180811T100000
DTEND;TZID=America/New_York:20180811T130000
DTSTAMP:20260421T175734
CREATED:20180614T140007Z
LAST-MODIFIED:20180726T124531Z
UID:8447-1533981600-1533992400@www.shantimandir.com
SUMMARY:Parent-Child Yoga
DESCRIPTION:To view the flyer in pdf format\, click here.
URL:https://www.shantimandir.com/event/parent-child-yoga-aug-2018/
LOCATION:Shanti Mandir Walden\, 51 Muktananda Marg\, Walden\, NY\, 12586\, United States
CATEGORIES:Courses,Gurudev's 2018 Schedule,Walden Ashram
ATTACH;FMTTYPE=image/jpeg:https://www.shantimandir.com/wp-content/uploads/2018/06/parent-child_yoga_flyer_aug_2018_2.jpg
END:VEVENT
BEGIN:VEVENT
DTSTART;VALUE=DATE:20180801
DTEND;VALUE=DATE:20180831
DTSTAMP:20260421T175734
CREATED:20180802T132611Z
LAST-MODIFIED:20180802T132611Z
UID:8623-1533081600-1535673599@www.shantimandir.com
SUMMARY:August Calendar
DESCRIPTION:To view the calendar in pdf format\, click here.
URL:https://www.shantimandir.com/event/august-calendar-2018/
LOCATION:Shanti Mandir Walden\, 51 Muktananda Marg\, Walden\, NY\, 12586\, United States
CATEGORIES:Courses,Festivals,Walden Ashram
ATTACH;FMTTYPE=image/jpeg:https://www.shantimandir.com/wp-content/uploads/2018/08/aug_calendar_2018.jpg
END:VEVENT
BEGIN:VEVENT
DTSTART;VALUE=DATE:20180701
DTEND;VALUE=DATE:20180801
DTSTAMP:20260421T175734
CREATED:20180629T144242Z
LAST-MODIFIED:20180705T103539Z
UID:8519-1530403200-1533081599@www.shantimandir.com
SUMMARY:July Calendar
DESCRIPTION:To view the calendar in pdf format\, click here.
URL:https://www.shantimandir.com/event/july-calendar/
LOCATION:Shanti Mandir Walden\, 51 Muktananda Marg\, Walden\, NY\, 12586\, United States
CATEGORIES:Courses,Gurudev's 2018 Schedule,Walden Ashram
ATTACH;FMTTYPE=image/jpeg:https://www.shantimandir.com/wp-content/uploads/2018/06/july_calendar_2018_2.jpg
END:VEVENT
BEGIN:VEVENT
DTSTART;VALUE=DATE:20180701
DTEND;VALUE=DATE:20180709
DTSTAMP:20260421T175734
CREATED:20180320T125810Z
LAST-MODIFIED:20180320T130358Z
UID:8057-1530403200-1531094399@www.shantimandir.com
SUMMARY:Youth Retreat
DESCRIPTION:To view the flyer in PDF format\, click here.
URL:https://www.shantimandir.com/event/youth-retreat-2018/
LOCATION:Shanti Mandir Walden\, 51 Muktananda Marg\, Walden\, NY\, 12586\, United States
CATEGORIES:Courses,Gurudev's 2018 Schedule,Walden Ashram
ATTACH;FMTTYPE=image/jpeg:https://www.shantimandir.com/wp-content/uploads/2014/02/youth_retreat_flyer_2018.jpg
END:VEVENT
BEGIN:VEVENT
DTSTART;TZID=America/New_York:20180630T100000
DTEND;TZID=America/New_York:20180630T130000
DTSTAMP:20260421T175734
CREATED:20180614T133215Z
LAST-MODIFIED:20180614T133553Z
UID:8439-1530352800-1530363600@www.shantimandir.com
SUMMARY:Parent-Child Yoga
DESCRIPTION:To view the flyer in pdf format\, click here.
URL:https://www.shantimandir.com/event/parent-child-yoga-june-2018/
LOCATION:Shanti Mandir Walden\, 51 Muktananda Marg\, Walden\, NY\, 12586\, United States
CATEGORIES:Courses,Gurudev's 2018 Schedule,Walden Ashram
ATTACH;FMTTYPE=image/jpeg:https://www.shantimandir.com/wp-content/uploads/2018/06/parent-child_yoga_flyer_june_2018.jpg
END:VEVENT
BEGIN:VEVENT
DTSTART;VALUE=DATE:20180616
DTEND;VALUE=DATE:20180625
DTSTAMP:20260421T175734
CREATED:20180514T145849Z
LAST-MODIFIED:20180514T150105Z
UID:8346-1529107200-1529884799@www.shantimandir.com
SUMMARY:Conversations with Gurudev
DESCRIPTION:To view the flyer in PDF format\, click here.
URL:https://www.shantimandir.com/event/conversations-with-gurudev-june-2018/
LOCATION:Shanti Mandir Walden\, 51 Muktananda Marg\, Walden\, NY\, 12586\, United States
CATEGORIES:Courses,Gurudev's 2018 Schedule,Walden Ashram
ATTACH;FMTTYPE=image/jpeg:https://www.shantimandir.com/wp-content/uploads/2018/05/conversations_flyer_june_2018.jpg
END:VEVENT
BEGIN:VEVENT
DTSTART;TZID=America/New_York:20180526T090000
DTEND;TZID=America/New_York:20180526T160000
DTSTAMP:20260421T175734
CREATED:20180509T140619Z
LAST-MODIFIED:20180509T140619Z
UID:8316-1527325200-1527350400@www.shantimandir.com
SUMMARY:Meditation Intensive with Gurudev
DESCRIPTION:To view the flyer in PDF format\, click here.
URL:https://www.shantimandir.com/event/meditation-intensive-with-gurudev-may-2018/
LOCATION:Shanti Mandir Walden\, 51 Muktananda Marg\, Walden\, NY\, 12586\, United States
CATEGORIES:Courses,Gurudev's 2018 Schedule,Walden Ashram
ATTACH;FMTTYPE=image/jpeg:https://www.shantimandir.com/wp-content/uploads/2018/05/intensive_flyer_may_2018.jpg
END:VEVENT
BEGIN:VEVENT
DTSTART;VALUE=DATE:20180525
DTEND;VALUE=DATE:20180529
DTSTAMP:20260421T175734
CREATED:20180430T171607Z
LAST-MODIFIED:20180430T171607Z
UID:8292-1527206400-1527551999@www.shantimandir.com
SUMMARY:HSC Camp
DESCRIPTION:
URL:https://www.shantimandir.com/event/hsc-camp-2018/
LOCATION:Shanti Mandir Walden\, 51 Muktananda Marg\, Walden\, NY\, 12586\, United States
CATEGORIES:Courses,Gurudev's 2018 Schedule,Walden Ashram
ATTACH;FMTTYPE=image/jpeg:https://www.shantimandir.com/wp-content/uploads/2018/04/HSC_summer_camp_2018.jpg
END:VEVENT
BEGIN:VEVENT
DTSTART;TZID=America/New_York:20180519T100000
DTEND;TZID=America/New_York:20180519T123000
DTSTAMP:20260421T175734
CREATED:20180419T213550Z
LAST-MODIFIED:20180419T213818Z
UID:8163-1526724000-1526733000@www.shantimandir.com
SUMMARY:Upanishad Workshop
DESCRIPTION:To view the flyer in PDF format\, click here.
URL:https://www.shantimandir.com/event/upanishad-workshop-may-2018/
LOCATION:Shanti Mandir Walden\, 51 Muktananda Marg\, Walden\, NY\, 12586\, United States
CATEGORIES:Courses,Walden Ashram
ATTACH;FMTTYPE=image/jpeg:https://www.shantimandir.com/wp-content/uploads/2018/04/upanishad_workshop_flyer_may_2018.jpg
END:VEVENT
BEGIN:VEVENT
DTSTART;TZID=America/New_York:20180512T100000
DTEND;TZID=America/New_York:20180512T130000
DTSTAMP:20260421T175734
CREATED:20180505T125101Z
LAST-MODIFIED:20180505T125101Z
UID:8309-1526119200-1526130000@www.shantimandir.com
SUMMARY:Parent-Child Yoga
DESCRIPTION:To view the flyer in PDF format\, click here.
URL:https://www.shantimandir.com/event/parent-child-yoga-may-2018/
LOCATION:Shanti Mandir Walden\, 51 Muktananda Marg\, Walden\, NY\, 12586\, United States
CATEGORIES:Courses,Walden Ashram
ATTACH;FMTTYPE=image/jpeg:https://www.shantimandir.com/wp-content/uploads/2018/05/parent-child_yoga_flyer_may_2018.jpg
END:VEVENT
BEGIN:VEVENT
DTSTART;VALUE=DATE:20180501
DTEND;VALUE=DATE:20180601
DTSTAMP:20260421T175734
CREATED:20180502T122751Z
LAST-MODIFIED:20180509T214912Z
UID:8305-1525132800-1527811199@www.shantimandir.com
SUMMARY:May Calendar
DESCRIPTION:To view the flyer in PDF format\, click here.
URL:https://www.shantimandir.com/event/may-calendar-2018/
LOCATION:Shanti Mandir Walden\, 51 Muktananda Marg\, Walden\, NY\, 12586\, United States
CATEGORIES:Courses,Festivals,Gurudev's 2018 Schedule,Walden Ashram
ATTACH;FMTTYPE=image/jpeg:https://www.shantimandir.com/wp-content/uploads/2018/05/may_calendar_2018_1.jpg
END:VEVENT
BEGIN:VEVENT
DTSTART;TZID=America/New_York:20180428T100000
DTEND;TZID=America/New_York:20180428T130000
DTSTAMP:20260421T175734
CREATED:20180412T115554Z
LAST-MODIFIED:20180412T115721Z
UID:8130-1524909600-1524920400@www.shantimandir.com
SUMMARY:Parent-Child Yoga
DESCRIPTION:To view the flyer in PDF format\, click here.
URL:https://www.shantimandir.com/event/parent-child-yoga-apr-2018/
LOCATION:Shanti Mandir Walden\, 51 Muktananda Marg\, Walden\, NY\, 12586\, United States
CATEGORIES:Courses,Gurudev's 2018 Schedule,Walden Ashram
ATTACH;FMTTYPE=image/jpeg:https://www.shantimandir.com/wp-content/uploads/2018/04/parent-child_yoga_flyer_apr_2018.jpg
END:VEVENT
BEGIN:VEVENT
DTSTART;TZID=America/New_York:20180421T090000
DTEND;TZID=America/New_York:20180421T160000
DTSTAMP:20260421T175734
CREATED:20180405T135020Z
LAST-MODIFIED:20180405T140311Z
UID:8100-1524301200-1524326400@www.shantimandir.com
SUMMARY:Meditation Intensive
DESCRIPTION:To view the flyer in PDF format\, click here.
URL:https://www.shantimandir.com/event/meditation-intensive-apr-2018/
LOCATION:Shanti Mandir Walden\, 51 Muktananda Marg\, Walden\, NY\, 12586\, United States
CATEGORIES:Courses,Gurudev's 2018 Schedule,Walden Ashram
ATTACH;FMTTYPE=image/jpeg:https://www.shantimandir.com/wp-content/uploads/2018/04/meditation_intensive_flyer_apr_2018.jpg
END:VEVENT
BEGIN:VEVENT
DTSTART;VALUE=DATE:20180406
DTEND;VALUE=DATE:20180409
DTSTAMP:20260421T175734
CREATED:20180218T011725Z
LAST-MODIFIED:20180311T211952Z
UID:7957-1522972800-1523231999@www.shantimandir.com
SUMMARY:Ayurvedic Retreat
DESCRIPTION:To view the flyer in PDF format\, click here.
URL:https://www.shantimandir.com/event/ayurvedic-retreat/
LOCATION:Shanti Mandir Walden\, 51 Muktananda Marg\, Walden\, NY\, 12586\, United States
CATEGORIES:Courses,Walden Ashram
ATTACH;FMTTYPE=image/jpeg:https://www.shantimandir.com/wp-content/uploads/2018/02/ayurveda_retreat_flyer_apr_2018-1.jpg
END:VEVENT
BEGIN:VEVENT
DTSTART;TZID=America/New_York:20180324T100000
DTEND;TZID=America/New_York:20180324T123000
DTSTAMP:20260421T175734
CREATED:20180308T013958Z
LAST-MODIFIED:20180309T125451Z
UID:7988-1521885600-1521894600@www.shantimandir.com
SUMMARY:Chandi Path Workshop
DESCRIPTION:To view the flyer in PDF format\, click here.
URL:https://www.shantimandir.com/event/chandi-path-workshop-mar-2018/
LOCATION:Shanti Mandir Walden\, 51 Muktananda Marg\, Walden\, NY\, 12586\, United States
CATEGORIES:Courses,Walden Ashram
ATTACH;FMTTYPE=image/jpeg:https://www.shantimandir.com/wp-content/uploads/2018/03/chandi_mar24_email.jpg
END:VEVENT
BEGIN:VEVENT
DTSTART;TZID=America/New_York:20180317T100000
DTEND;TZID=America/New_York:20180317T130000
DTSTAMP:20260421T175734
CREATED:20180308T144751Z
LAST-MODIFIED:20180308T144751Z
UID:7999-1521280800-1521291600@www.shantimandir.com
SUMMARY:Parent-Child Yoga
DESCRIPTION:To view the flyer in PDF format\, click here.
URL:https://www.shantimandir.com/event/parent-child-yoga-mar-2018/
LOCATION:Shanti Mandir Walden\, 51 Muktananda Marg\, Walden\, NY\, 12586\, United States
CATEGORIES:Courses,Walden Ashram
ATTACH;FMTTYPE=image/jpeg:https://www.shantimandir.com/wp-content/uploads/2018/03/parent-child_yoga_flyer_mar_2018.jpg
END:VEVENT
BEGIN:VEVENT
DTSTART;TZID=America/New_York:20180224T100000
DTEND;TZID=America/New_York:20180224T130000
DTSTAMP:20260421T175734
CREATED:20180204T190853Z
LAST-MODIFIED:20180213T121436Z
UID:7909-1519466400-1519477200@www.shantimandir.com
SUMMARY:Parent-Child Yoga
DESCRIPTION:To view the flyer in PDF format\, click here. \n 
URL:https://www.shantimandir.com/event/parent-child-yoga-feb-2018/
LOCATION:Shanti Mandir Walden\, 51 Muktananda Marg\, Walden\, NY\, 12586\, United States
CATEGORIES:Courses,Walden Ashram
ATTACH;FMTTYPE=image/jpeg:https://www.shantimandir.com/wp-content/uploads/2018/02/parent-child_yoga_feb_2018.jpg
END:VEVENT
BEGIN:VEVENT
DTSTART;TZID=America/New_York:20180224T100000
DTEND;TZID=America/New_York:20180224T123000
DTSTAMP:20260421T175734
CREATED:20180204T185730Z
LAST-MODIFIED:20180212T142219Z
UID:7904-1519466400-1519475400@www.shantimandir.com
SUMMARY:Upanishad Workshop
DESCRIPTION:To view the flyer in PDF format\, click here. \n 
URL:https://www.shantimandir.com/event/upanishad-workshop-feb-2018/
LOCATION:Shanti Mandir Walden\, 51 Muktananda Marg\, Walden\, NY\, 12586\, United States
CATEGORIES:Courses,Walden Ashram
ATTACH;FMTTYPE=image/jpeg:https://www.shantimandir.com/wp-content/uploads/2018/02/upanishad_workshop_flyer_feb_2018.jpg
END:VEVENT
BEGIN:VEVENT
DTSTART;VALUE=DATE:20180201
DTEND;VALUE=DATE:20180301
DTSTAMP:20260421T175734
CREATED:20180131T153108Z
LAST-MODIFIED:20180131T153223Z
UID:7889-1517443200-1519862399@www.shantimandir.com
SUMMARY:February Calendar
DESCRIPTION:To view the calendar in PDF format\, click here.
URL:https://www.shantimandir.com/event/february-calendar-2018/
LOCATION:Shanti Mandir Walden\, 51 Muktananda Marg\, Walden\, NY\, 12586\, United States
CATEGORIES:Courses,Walden Ashram
ATTACH;FMTTYPE=image/jpeg:https://www.shantimandir.com/wp-content/uploads/2018/01/february_calendar_2018.jpg
END:VEVENT
END:VCALENDAR