BEGIN:VCALENDAR
VERSION:2.0
PRODID:-//Shanti Mandir - ECPv6.3.6//NONSGML v1.0//EN
CALSCALE:GREGORIAN
METHOD:PUBLISH
X-ORIGINAL-URL:https://www.shantimandir.com
X-WR-CALDESC:Events for Shanti Mandir
REFRESH-INTERVAL;VALUE=DURATION:PT1H
X-Robots-Tag:noindex
X-PUBLISHED-TTL:PT1H
BEGIN:VTIMEZONE
TZID:America/Halifax
BEGIN:DAYLIGHT
TZOFFSETFROM:-0400
TZOFFSETTO:-0300
TZNAME:ADT
DTSTART:20190310T060000
END:DAYLIGHT
BEGIN:STANDARD
TZOFFSETFROM:-0300
TZOFFSETTO:-0400
TZNAME:AST
DTSTART:20191103T050000
END:STANDARD
BEGIN:DAYLIGHT
TZOFFSETFROM:-0400
TZOFFSETTO:-0300
TZNAME:ADT
DTSTART:20200308T060000
END:DAYLIGHT
BEGIN:STANDARD
TZOFFSETFROM:-0300
TZOFFSETTO:-0400
TZNAME:AST
DTSTART:20201101T050000
END:STANDARD
TZID:America/New_York
BEGIN:DAYLIGHT
TZOFFSETFROM:-0500
TZOFFSETTO:-0400
TZNAME:EDT
DTSTART:20190310T070000
END:DAYLIGHT
BEGIN:STANDARD
TZOFFSETFROM:-0400
TZOFFSETTO:-0500
TZNAME:EST
DTSTART:20191103T060000
END:STANDARD
END:VTIMEZONE
BEGIN:VEVENT
DTSTART;VALUE=DATE:20200301
DTEND;VALUE=DATE:20200401
DTSTAMP:20260421T134313
CREATED:20200221T031942Z
LAST-MODIFIED:20200221T031942Z
UID:10506-1583020800-1585699199@www.shantimandir.com
SUMMARY:March Calendar
DESCRIPTION:To view the calendar in pdf format\, click here.
URL:https://www.shantimandir.com/event/march-calendar/
LOCATION:Shanti Mandir Walden\, 51 Muktananda Marg\, Walden\, NY\, 12586\, United States
CATEGORIES:Courses,Festivals,Poojas,Walden Ashram
ATTACH;FMTTYPE=image/jpeg:https://www.shantimandir.com/wp-content/uploads/2020/02/mar_20_calendar_02_20-scaled.jpg
END:VEVENT
BEGIN:VEVENT
DTSTART;TZID=America/Halifax:20200229T100000
DTEND;TZID=America/Halifax:20200229T123000
DTSTAMP:20260421T134313
CREATED:20200129T141642Z
LAST-MODIFIED:20200225T163423Z
UID:10386-1582970400-1582979400@www.shantimandir.com
SUMMARY:The Purpose and Heart of the Spiritual Journey (Part I)
DESCRIPTION:To view the flyer in pdf format\, click here.
URL:https://www.shantimandir.com/event/the-purpose-and-heart-of-the-spiritual-journey-part-i/
LOCATION:Shanti Mandir Walden\, 51 Muktananda Marg\, Walden\, NY\, 12586\, United States
CATEGORIES:Courses,Walden Ashram
ATTACH;FMTTYPE=image/jpeg:https://www.shantimandir.com/wp-content/uploads/2020/01/Holmes_Shaivism_Workshops_01_28.jpg
END:VEVENT
BEGIN:VEVENT
DTSTART;VALUE=DATE:20200201
DTEND;VALUE=DATE:20200301
DTSTAMP:20260421T134313
CREATED:20200202T053825Z
LAST-MODIFIED:20200202T053825Z
UID:10399-1580515200-1583020799@www.shantimandir.com
SUMMARY:February Calendar
DESCRIPTION:To view the calendar in pdf format\, click here.
URL:https://www.shantimandir.com/event/february-calendar/
CATEGORIES:Courses,Festivals,Poojas,Walden Ashram
ATTACH;FMTTYPE=image/jpeg:https://www.shantimandir.com/wp-content/uploads/2020/02/feb_20_calendar_01_23_r1.jpg
END:VEVENT
BEGIN:VEVENT
DTSTART;TZID=America/Halifax:20200118T100000
DTEND;TZID=America/Halifax:20200118T123000
DTSTAMP:20260421T134313
CREATED:20200102T145719Z
LAST-MODIFIED:20200102T150013Z
UID:10285-1579341600-1579350600@www.shantimandir.com
SUMMARY:Shaivism Workshop
DESCRIPTION:To view the flyer in pdf format\, click here.
URL:https://www.shantimandir.com/event/shaivism-workshop-2/
LOCATION:Shanti Mandir Walden\, 51 Muktananda Marg\, Walden\, NY\, 12586\, United States
CATEGORIES:Courses,Walden Ashram
ATTACH;FMTTYPE=image/jpeg:https://www.shantimandir.com/wp-content/uploads/2020/01/Dana_Shaivism_Workshops_12_31_r1.jpeg
END:VEVENT
BEGIN:VEVENT
DTSTART;VALUE=DATE:20200101
DTEND;VALUE=DATE:20200201
DTSTAMP:20260421T134313
CREATED:20191230T170004Z
LAST-MODIFIED:20191230T170004Z
UID:10269-1577836800-1580515199@www.shantimandir.com
SUMMARY:January Calendar
DESCRIPTION:To view the calendar in pdf\, click here.
URL:https://www.shantimandir.com/event/january-calendar-2/
CATEGORIES:Courses,Walden Ashram
ATTACH;FMTTYPE=image/jpeg:https://www.shantimandir.com/wp-content/uploads/2019/12/jan_20_calendar_12_30.jpg
END:VEVENT
BEGIN:VEVENT
DTSTART;TZID=America/Halifax:20191221T100000
DTEND;TZID=America/Halifax:20191221T123000
DTSTAMP:20260421T134313
CREATED:20191130T031048Z
LAST-MODIFIED:20191130T140025Z
UID:10190-1576922400-1576931400@www.shantimandir.com
SUMMARY:Shaivism Workshop
DESCRIPTION:To view the flyer in pdf format\, click here.
URL:https://www.shantimandir.com/event/shaivism-workshop/
LOCATION:Shanti Mandir Walden\, 51 Muktananda Marg\, Walden\, NY\, 12586\, United States
CATEGORIES:Courses,Walden Ashram
ATTACH;FMTTYPE=image/jpeg:https://www.shantimandir.com/wp-content/uploads/2019/11/Dana_Shaivism_Workshops_11_29.jpg
END:VEVENT
BEGIN:VEVENT
DTSTART;VALUE=DATE:20191201
DTEND;VALUE=DATE:20200101
DTSTAMP:20260421T134313
CREATED:20191122T022031Z
LAST-MODIFIED:20191130T025357Z
UID:10176-1575158400-1577836799@www.shantimandir.com
SUMMARY:December Calendar
DESCRIPTION:To view the calendar in pdf format\, click here.
URL:https://www.shantimandir.com/event/december-calendar/
CATEGORIES:Concerts,Courses,Festivals,Walden Ashram
ATTACH;FMTTYPE=image/jpeg:https://www.shantimandir.com/wp-content/uploads/2019/11/dec_19_calendar_11_29.jpg
END:VEVENT
BEGIN:VEVENT
DTSTART;TZID=America/Halifax:20191116T090000
DTEND;TZID=America/Halifax:20191116T160000
DTSTAMP:20260421T134313
CREATED:20191024T004028Z
LAST-MODIFIED:20191024T004028Z
UID:10087-1573894800-1573920000@www.shantimandir.com
SUMMARY:Meditation Intensive with Gurudev
DESCRIPTION:To view the flyer in pdf format\, click here.
URL:https://www.shantimandir.com/event/meditation-intensive-with-gurudev-november-2019/
LOCATION:Shanti Mandir Walden\, 51 Muktananda Marg\, Walden\, NY\, 12586\, United States
CATEGORIES:Courses,Gurudev's 2019 Schedule,Walden Ashram
ATTACH;FMTTYPE=image/jpeg:https://www.shantimandir.com/wp-content/uploads/2019/10/intensive_flyer_Nov_2019.jpg
END:VEVENT
BEGIN:VEVENT
DTSTART;VALUE=DATE:20191101
DTEND;VALUE=DATE:20191201
DTSTAMP:20260421T134313
CREATED:20191018T022603Z
LAST-MODIFIED:20191104T155626Z
UID:10054-1572566400-1575158399@www.shantimandir.com
SUMMARY:November Calendar
DESCRIPTION:To view the calendar in pdf format\, click here.
URL:https://www.shantimandir.com/event/november-calendar_2019/
CATEGORIES:Community Satsang,Concerts,Courses,Festivals,Gurudev's 2019 Schedule,Poojas,Walden Ashram
ATTACH;FMTTYPE=image/jpeg:https://www.shantimandir.com/wp-content/uploads/2019/10/Nov_calendar_2019-1.jpg
END:VEVENT
BEGIN:VEVENT
DTSTART;TZID=America/Halifax:20191026T090000
DTEND;TZID=America/Halifax:20191026T160000
DTSTAMP:20260421T134313
CREATED:20191004T190905Z
LAST-MODIFIED:20191004T190905Z
UID:9992-1572080400-1572105600@www.shantimandir.com
SUMMARY:Meditation Intensive with Gurudev
DESCRIPTION:To view the flyer in pdf format\, click here.
URL:https://www.shantimandir.com/event/meditation-intensive-with-gurudev-2/
LOCATION:Shanti Mandir Walden\, 51 Muktananda Marg\, Walden\, NY\, 12586\, United States
CATEGORIES:Courses,Gurudev's 2019 Schedule,Walden Ashram
ATTACH;FMTTYPE=image/jpeg:https://www.shantimandir.com/wp-content/uploads/2019/10/intensive_flyer_Oct_2019.jpg
END:VEVENT
BEGIN:VEVENT
DTSTART;VALUE=DATE:20191001
DTEND;VALUE=DATE:20191201
DTSTAMP:20260421T134313
CREATED:20190916T152649Z
LAST-MODIFIED:20191014T154748Z
UID:9942-1569888000-1575158399@www.shantimandir.com
SUMMARY:Gurudev's October-November Schedule
DESCRIPTION:To view the schedule in pdf format\, click here.
URL:https://www.shantimandir.com/event/gurudevs-october-november-schedule/
LOCATION:Shanti Mandir Walden\, 51 Muktananda Marg\, Walden\, NY\, 12586\, United States
CATEGORIES:Community Satsang,Concerts,Courses,Festivals,Gurudev's 2019 Schedule,Poojas,Walden Ashram
ATTACH;FMTTYPE=image/jpeg:https://www.shantimandir.com/wp-content/uploads/2019/10/Gurudev_schedule_Oct-Nov_2019.jpg
END:VEVENT
BEGIN:VEVENT
DTSTART;TZID=America/Halifax:20190831T090000
DTEND;TZID=America/Halifax:20190831T160000
DTSTAMP:20260421T134313
CREATED:20190820T151202Z
LAST-MODIFIED:20190821T000536Z
UID:9865-1567242000-1567267200@www.shantimandir.com
SUMMARY:Meditation Intensive with Gurudev
DESCRIPTION:To view this flyer in pdf format\, click here.
URL:https://www.shantimandir.com/event/meditation-intensive-with-gurudev_aug_2019/
LOCATION:Shanti Mandir Walden\, 51 Muktananda Marg\, Walden\, NY\, 12586\, United States
CATEGORIES:Courses,Gurudev's 2019 Schedule,Walden Ashram
ATTACH;FMTTYPE=image/jpeg:https://www.shantimandir.com/wp-content/uploads/2019/08/intensive_flyer_Aug_2019.jpg
END:VEVENT
BEGIN:VEVENT
DTSTART;VALUE=DATE:20190829
DTEND;VALUE=DATE:20190831
DTSTAMP:20260421T134313
CREATED:20190813T141818Z
LAST-MODIFIED:20190822T023423Z
UID:9822-1567036800-1567209599@www.shantimandir.com
SUMMARY:Comprehending Self-Effort and Grace with Gurudev
DESCRIPTION:To view this flyer in pdf format\, click here.
URL:https://www.shantimandir.com/event/comprehending-self-effort-and-grace-with-gurudev-aug-2019/
LOCATION:Shanti Mandir Walden\, 51 Muktananda Marg\, Walden\, NY\, 12586\, United States
CATEGORIES:Courses,Gurudev's 2019 Schedule,Walden Ashram
ATTACH;FMTTYPE=image/jpeg:https://www.shantimandir.com/wp-content/uploads/2019/08/comprehending_self-effort_08_21.jpg
END:VEVENT
BEGIN:VEVENT
DTSTART;VALUE=DATE:20190821
DTEND;VALUE=DATE:20190823
DTSTAMP:20260421T134313
CREATED:20190329T143716Z
LAST-MODIFIED:20190329T143717Z
UID:9343-1566345600-1566518399@www.shantimandir.com
SUMMARY:Taekwondo Camp
DESCRIPTION:
URL:https://www.shantimandir.com/event/taekwondo-camp-aug-2019/
LOCATION:Shanti Mandir Walden\, 51 Muktananda Marg\, Walden\, NY\, 12586\, United States
CATEGORIES:Courses,Walden Ashram
ATTACH;FMTTYPE=image/jpeg:https://www.shantimandir.com/wp-content/uploads/2019/03/taekwondo_camp_flyer_2019.jpeg
END:VEVENT
BEGIN:VEVENT
DTSTART;TZID=America/Halifax:20190811T090000
DTEND;TZID=America/Halifax:20190811T120000
DTSTAMP:20260421T134313
CREATED:20190809T015603Z
LAST-MODIFIED:20190809T020017Z
UID:9812-1565514000-1565524800@www.shantimandir.com
SUMMARY:Youth Drama
DESCRIPTION:
URL:https://www.shantimandir.com/event/youth-drama-2019/
LOCATION:Shanti Mandir Walden\, 51 Muktananda Marg\, Walden\, NY\, 12586\, United States
CATEGORIES:Courses,Gurudev's 2019 Schedule,Walden Ashram
ATTACH;FMTTYPE=image/jpeg:https://www.shantimandir.com/wp-content/uploads/2019/08/youth_retreat_drama_flyer_2019.jpg
END:VEVENT
BEGIN:VEVENT
DTSTART;VALUE=DATE:20190804
DTEND;VALUE=DATE:20190812
DTSTAMP:20260421T134313
CREATED:20190426T140738Z
LAST-MODIFIED:20190626T134513Z
UID:9393-1564876800-1565567999@www.shantimandir.com
SUMMARY:Youth Retreat
DESCRIPTION:To view the flyer in pdf format\, click here. \nList of items to bring: \n \nTo view Pointers in pdf format\, click here.
URL:https://www.shantimandir.com/event/youth-retreat-2019/
LOCATION:Shanti Mandir Walden\, 51 Muktananda Marg\, Walden\, NY\, 12586\, United States
CATEGORIES:Courses,Gurudev's 2019 Schedule,Walden Ashram
ATTACH;FMTTYPE=image/jpeg:https://www.shantimandir.com/wp-content/uploads/2019/04/youth_retreat_flyer_2019.jpg
END:VEVENT
BEGIN:VEVENT
DTSTART;TZID=America/Halifax:20190720T090000
DTEND;TZID=America/Halifax:20190720T160000
DTSTAMP:20260421T134313
CREATED:20190610T153632Z
LAST-MODIFIED:20190624T134949Z
UID:9530-1563613200-1563638400@www.shantimandir.com
SUMMARY:Meditation Intensive with Gurudev
DESCRIPTION:To view this calendar in pdf format\, click here.
URL:https://www.shantimandir.com/event/intensive-july-2019/
LOCATION:Shanti Mandir Walden\, 51 Muktananda Marg\, Walden\, NY\, 12586\, United States
CATEGORIES:Courses,Gurudev's 2019 Schedule,Walden Ashram
ATTACH;FMTTYPE=image/jpeg:https://www.shantimandir.com/wp-content/uploads/2019/06/intensive_flyer_July_2019.jpg
END:VEVENT
BEGIN:VEVENT
DTSTART;TZID=America/Halifax:20190706T100000
DTEND;TZID=America/Halifax:20190706T123000
DTSTAMP:20260421T134313
CREATED:20190613T134219Z
LAST-MODIFIED:20190613T134730Z
UID:9536-1562407200-1562416200@www.shantimandir.com
SUMMARY:Upanishad Workshop
DESCRIPTION:To view it in pdf format\, click here.
URL:https://www.shantimandir.com/event/upanishad-workshop-july-2019/
LOCATION:Shanti Mandir Walden\, 51 Muktananda Marg\, Walden\, NY\, 12586\, United States
CATEGORIES:Courses,Walden Ashram
ATTACH;FMTTYPE=image/jpeg:https://www.shantimandir.com/wp-content/uploads/2019/06/Upanishad_workshop_flyer_July_2019.jpg
END:VEVENT
BEGIN:VEVENT
DTSTART;VALUE=DATE:20190701
DTEND;VALUE=DATE:20190801
DTSTAMP:20260421T134313
CREATED:20190701T182543Z
LAST-MODIFIED:20190701T182622Z
UID:9663-1561939200-1564617599@www.shantimandir.com
SUMMARY:Gurudev's July Schedule
DESCRIPTION:
URL:https://www.shantimandir.com/event/gurudevs-july-schedule2019/
LOCATION:Shanti Mandir Walden\, 51 Muktananda Marg\, Walden\, NY\, 12586\, United States
CATEGORIES:Courses,Festivals,Ganeshpuri,Gurudev's 2019 Schedule,Magod Ashram,Poojas,Walden Ashram
ATTACH;FMTTYPE=image/jpeg:https://www.shantimandir.com/wp-content/uploads/2019/07/July.jpg
END:VEVENT
BEGIN:VEVENT
DTSTART;VALUE=DATE:20190701
DTEND;VALUE=DATE:20190801
DTSTAMP:20260421T134313
CREATED:20190622T185815Z
LAST-MODIFIED:20190622T185815Z
UID:9616-1561939200-1564617599@www.shantimandir.com
SUMMARY:July Calendar
DESCRIPTION:To view the calendar in pdf format\, click here.
URL:https://www.shantimandir.com/event/july-calendar-2019/
LOCATION:Shanti Mandir Walden\, 51 Muktananda Marg\, Walden\, NY\, 12586\, United States
CATEGORIES:Concerts,Courses,Festivals,Gurudev's 2019 Schedule,Poojas,Walden Ashram
ATTACH;FMTTYPE=image/jpeg:https://www.shantimandir.com/wp-content/uploads/2019/06/July_calendar_2019.jpg
END:VEVENT
BEGIN:VEVENT
DTSTART;TZID=America/Halifax:20190621T180000
DTEND;TZID=America/Halifax:20190621T193000
DTSTAMP:20260421T134313
CREATED:20190604T155422Z
LAST-MODIFIED:20190604T155538Z
UID:9503-1561140000-1561145400@www.shantimandir.com
SUMMARY:International Day of Yoga
DESCRIPTION:To view the flyer in pdf format\, click here.
URL:https://www.shantimandir.com/event/international-day-of-yoga-2019/
LOCATION:Shanti Mandir Walden\, 51 Muktananda Marg\, Walden\, NY\, 12586\, United States
CATEGORIES:Courses,Walden Ashram
ATTACH;FMTTYPE=image/jpeg:https://www.shantimandir.com/wp-content/uploads/2019/06/international_yoga_day_flyer_2019.jpg
END:VEVENT
BEGIN:VEVENT
DTSTART;TZID=America/Halifax:20190608T100000
DTEND;TZID=America/Halifax:20190608T123000
DTSTAMP:20260421T134313
CREATED:20190524T025835Z
LAST-MODIFIED:20190524T025959Z
UID:9469-1559988000-1559997000@www.shantimandir.com
SUMMARY:Upanishad Workshop
DESCRIPTION:To view the flyer in pdf format\, click here.
URL:https://www.shantimandir.com/event/upanishad-workshop-june-2019/
LOCATION:Shanti Mandir Walden\, 51 Muktananda Marg\, Walden\, NY\, 12586\, United States
CATEGORIES:Courses,Walden Ashram
ATTACH;FMTTYPE=image/jpeg:https://www.shantimandir.com/wp-content/uploads/2019/05/Upanishad_workshop_flyer_June_2019.jpg
END:VEVENT
BEGIN:VEVENT
DTSTART;VALUE=DATE:20190601
DTEND;VALUE=DATE:20190701
DTSTAMP:20260421T134313
CREATED:20190530T134645Z
LAST-MODIFIED:20190530T134645Z
UID:9493-1559347200-1561939199@www.shantimandir.com
SUMMARY:June Calendar
DESCRIPTION:To view the flyer in pdf format\, click here.
URL:https://www.shantimandir.com/event/june-calendar-2019/
LOCATION:Shanti Mandir Walden\, 51 Muktananda Marg\, Walden\, NY\, 12586\, United States
CATEGORIES:Concerts,Courses,Walden Ashram
ATTACH;FMTTYPE=image/jpeg:https://www.shantimandir.com/wp-content/uploads/2019/05/June_calendar_2019.jpg
END:VEVENT
BEGIN:VEVENT
DTSTART;VALUE=DATE:20190525
DTEND;VALUE=DATE:20190529
DTSTAMP:20260421T134313
CREATED:20190325T133110Z
LAST-MODIFIED:20190325T133508Z
UID:9310-1558742400-1559087999@www.shantimandir.com
SUMMARY:Hindu Students Council Collegiate Camp
DESCRIPTION:Click here to register: http://hindustudentscouncil.org/annual-camp/
URL:https://www.shantimandir.com/event/hindu-students-council-collegiate-camp-2019/
LOCATION:Shanti Mandir Walden\, 51 Muktananda Marg\, Walden\, NY\, 12586\, United States
CATEGORIES:Courses,Walden Ashram
ATTACH;FMTTYPE=image/jpeg:https://www.shantimandir.com/wp-content/uploads/2019/03/HSC_summer_camp_flyer_2019.jpg
END:VEVENT
BEGIN:VEVENT
DTSTART;TZID=America/Halifax:20190511T100000
DTEND;TZID=America/Halifax:20190511T123000
DTSTAMP:20260421T134313
CREATED:20190429T011532Z
LAST-MODIFIED:20190429T012332Z
UID:9421-1557568800-1557577800@www.shantimandir.com
SUMMARY:Upanishad Workshop
DESCRIPTION:To view the flyer in pdf format\, click here.
URL:https://www.shantimandir.com/event/upanishad-workshop-may-2019/
LOCATION:Shanti Mandir Walden\, 51 Muktananda Marg\, Walden\, NY\, 12586\, United States
CATEGORIES:Courses,Walden Ashram
ATTACH;FMTTYPE=image/jpeg:https://www.shantimandir.com/wp-content/uploads/2019/04/Upanishad_workshop_flyer_May_2019.jpg
END:VEVENT
BEGIN:VEVENT
DTSTART;VALUE=DATE:20190501
DTEND;VALUE=DATE:20190601
DTSTAMP:20260421T134313
CREATED:20190427T124606Z
LAST-MODIFIED:20190428T015108Z
UID:9411-1556668800-1559347199@www.shantimandir.com
SUMMARY:May Calendar
DESCRIPTION:To view the calendar in pdf format\, click here.
URL:https://www.shantimandir.com/event/may-calendar-2019/
LOCATION:Shanti Mandir Walden\, 51 Muktananda Marg\, Walden\, NY\, 12586\, United States
CATEGORIES:Courses,Walden Ashram
ATTACH;FMTTYPE=image/jpeg:https://www.shantimandir.com/wp-content/uploads/2019/04/May_calendar_2019.jpg
END:VEVENT
BEGIN:VEVENT
DTSTART;TZID=America/Halifax:20190420T100000
DTEND;TZID=America/Halifax:20190420T123000
DTSTAMP:20260421T134313
CREATED:20190404T143124Z
LAST-MODIFIED:20190404T145133Z
UID:9364-1555754400-1555763400@www.shantimandir.com
SUMMARY:Upanishad Workshop
DESCRIPTION:To view the flyer in pdf format\, click here.
URL:https://www.shantimandir.com/event/upanishad-workshop-apr-2019/
LOCATION:Shanti Mandir Walden\, 51 Muktananda Marg\, Walden\, NY\, 12586\, United States
CATEGORIES:Courses,Walden Ashram
ATTACH;FMTTYPE=image/jpeg:https://www.shantimandir.com/wp-content/uploads/2019/04/Upanishad_workshop_flyer_apr_2019.jpg
END:VEVENT
BEGIN:VEVENT
DTSTART;VALUE=DATE:20190401
DTEND;VALUE=DATE:20190501
DTSTAMP:20260421T134313
CREATED:20190330T132823Z
LAST-MODIFIED:20190330T133123Z
UID:9346-1554076800-1556668799@www.shantimandir.com
SUMMARY:April Calendar
DESCRIPTION:To view the calendar in pdf format\, click here.
URL:https://www.shantimandir.com/event/april-calendar-2019/
LOCATION:Shanti Mandir Walden\, 51 Muktananda Marg\, Walden\, NY\, 12586\, United States
CATEGORIES:Courses,Festivals,Walden Ashram
ATTACH;FMTTYPE=image/jpeg:https://www.shantimandir.com/wp-content/uploads/2019/03/apr_calendar_2019.jpg
END:VEVENT
BEGIN:VEVENT
DTSTART;TZID=America/New_York:20190323T100000
DTEND;TZID=America/New_York:20190323T123000
DTSTAMP:20260421T134313
CREATED:20190223T145414Z
LAST-MODIFIED:20190223T145713Z
UID:9231-1553335200-1553344200@www.shantimandir.com
SUMMARY:Upanishad Workshop
DESCRIPTION:To view the flyer in pdf format\, click here.
URL:https://www.shantimandir.com/event/upanishad-workshop-mar-2019/
LOCATION:Shanti Mandir Walden\, 51 Muktananda Marg\, Walden\, NY\, 12586\, United States
CATEGORIES:Courses,Walden Ashram
ATTACH;FMTTYPE=image/jpeg:https://www.shantimandir.com/wp-content/uploads/2019/02/upanishad_workshop_flyer_mar_2019.jpg
END:VEVENT
BEGIN:VEVENT
DTSTART;TZID=America/New_York:20190216T100000
DTEND;TZID=America/New_York:20190216T123000
DTSTAMP:20260421T134313
CREATED:20190131T155609Z
LAST-MODIFIED:20190131T161357Z
UID:9146-1550311200-1550320200@www.shantimandir.com
SUMMARY:Upanishad Workshop
DESCRIPTION:To view the flyer in pdf format\, click here.
URL:https://www.shantimandir.com/event/upanishad-workshop-feb-2019/
LOCATION:Shanti Mandir Walden\, 51 Muktananda Marg\, Walden\, NY\, 12586\, United States
CATEGORIES:Courses,Walden Ashram
ATTACH;FMTTYPE=image/jpeg:https://www.shantimandir.com/wp-content/uploads/2019/01/upanishad_workshop_flyer_feb_2019.jpg
END:VEVENT
END:VCALENDAR