BEGIN:VCALENDAR
VERSION:2.0
PRODID:-//Shanti Mandir - ECPv6.3.6//NONSGML v1.0//EN
CALSCALE:GREGORIAN
METHOD:PUBLISH
X-WR-CALNAME:Shanti Mandir
X-ORIGINAL-URL:https://www.shantimandir.com
X-WR-CALDESC:Events for Shanti Mandir
REFRESH-INTERVAL;VALUE=DURATION:PT1H
X-Robots-Tag:noindex
X-PUBLISHED-TTL:PT1H
BEGIN:VTIMEZONE
TZID:UTC
BEGIN:STANDARD
TZOFFSETFROM:+0000
TZOFFSETTO:+0000
TZNAME:UTC
DTSTART:20170101T000000
END:STANDARD
END:VTIMEZONE
BEGIN:VEVENT
DTSTART;VALUE=DATE:20170101
DTEND;VALUE=DATE:20170102
DTSTAMP:20260422T050508
CREATED:20170102T205354Z
LAST-MODIFIED:20170102T205354Z
UID:6390-1483228800-1483315199@www.shantimandir.com
SUMMARY:January Calendar
DESCRIPTION:
URL:https://www.shantimandir.com/event/january-calendar/
LOCATION:Shanti Mandir Walden\, 51 Muktananda Marg\, Walden\, NY\, 12586\, United States
CATEGORIES:Courses,Walden Ashram
ATTACH;FMTTYPE=image/jpeg:https://www.shantimandir.com/wp-content/uploads/2016/12/January-Calendar-2017.jpg
END:VEVENT
BEGIN:VEVENT
DTSTART;VALUE=DATE:20170101
DTEND;VALUE=DATE:20170102
DTSTAMP:20260422T050508
CREATED:20170102T205354Z
LAST-MODIFIED:20170102T205354Z
UID:6390-1483228800-1483315199@www.shantimandir.com
SUMMARY:January Calendar
DESCRIPTION:
URL:https://www.shantimandir.com/event/january-calendar/
LOCATION:Shanti Mandir Walden\, 51 Muktananda Marg\, Walden\, NY\, 12586\, United States
CATEGORIES:Courses,Walden Ashram
ATTACH;FMTTYPE=image/jpeg:https://www.shantimandir.com/wp-content/uploads/2016/12/January-Calendar-2017.jpg
END:VEVENT
BEGIN:VEVENT
DTSTART;VALUE=DATE:20170101
DTEND;VALUE=DATE:20170102
DTSTAMP:20260422T050508
CREATED:20170102T205354Z
LAST-MODIFIED:20170102T205354Z
UID:6390-1483228800-1483315199@www.shantimandir.com
SUMMARY:January Calendar
DESCRIPTION:
URL:https://www.shantimandir.com/event/january-calendar/
LOCATION:Shanti Mandir Walden\, 51 Muktananda Marg\, Walden\, NY\, 12586\, United States
CATEGORIES:Courses,Walden Ashram
ATTACH;FMTTYPE=image/jpeg:https://www.shantimandir.com/wp-content/uploads/2016/12/January-Calendar-2017.jpg
END:VEVENT
BEGIN:VEVENT
DTSTART;TZID=UTC:20170119T183000
DTEND;TZID=UTC:20170119T200000
DTSTAMP:20260422T050508
CREATED:20170119T184124Z
LAST-MODIFIED:20170126T204306Z
UID:6471-1484850600-1484856000@www.shantimandir.com
SUMMARY:CANCELLED-Yoga Class
DESCRIPTION:
URL:https://www.shantimandir.com/event/cancelled-yoga-class-2/
LOCATION:Shanti Mandir Walden\, 51 Muktananda Marg\, Walden\, NY\, 12586\, United States
CATEGORIES:Courses,Walden Ashram
END:VEVENT
BEGIN:VEVENT
DTSTART;VALUE=DATE:20170101
DTEND;VALUE=DATE:20170102
DTSTAMP:20260422T050508
CREATED:20170102T205354Z
LAST-MODIFIED:20170102T205354Z
UID:6390-1483228800-1483315199@www.shantimandir.com
SUMMARY:January Calendar
DESCRIPTION:
URL:https://www.shantimandir.com/event/january-calendar/
LOCATION:Shanti Mandir Walden\, 51 Muktananda Marg\, Walden\, NY\, 12586\, United States
CATEGORIES:Courses,Walden Ashram
ATTACH;FMTTYPE=image/jpeg:https://www.shantimandir.com/wp-content/uploads/2016/12/January-Calendar-2017.jpg
END:VEVENT
BEGIN:VEVENT
DTSTART;VALUE=DATE:20170101
DTEND;VALUE=DATE:20170102
DTSTAMP:20260422T050508
CREATED:20170102T205354Z
LAST-MODIFIED:20170102T205354Z
UID:6390-1483228800-1483315199@www.shantimandir.com
SUMMARY:January Calendar
DESCRIPTION:
URL:https://www.shantimandir.com/event/january-calendar/
LOCATION:Shanti Mandir Walden\, 51 Muktananda Marg\, Walden\, NY\, 12586\, United States
CATEGORIES:Courses,Walden Ashram
ATTACH;FMTTYPE=image/jpeg:https://www.shantimandir.com/wp-content/uploads/2016/12/January-Calendar-2017.jpg
END:VEVENT
BEGIN:VEVENT
DTSTART;VALUE=DATE:20170101
DTEND;VALUE=DATE:20170102
DTSTAMP:20260422T050508
CREATED:20170102T205354Z
LAST-MODIFIED:20170102T205354Z
UID:6390-1483228800-1483315199@www.shantimandir.com
SUMMARY:January Calendar
DESCRIPTION:
URL:https://www.shantimandir.com/event/january-calendar/
LOCATION:Shanti Mandir Walden\, 51 Muktananda Marg\, Walden\, NY\, 12586\, United States
CATEGORIES:Courses,Walden Ashram
ATTACH;FMTTYPE=image/jpeg:https://www.shantimandir.com/wp-content/uploads/2016/12/January-Calendar-2017.jpg
END:VEVENT
BEGIN:VEVENT
DTSTART;TZID=UTC:20170102T193000
DTEND;TZID=UTC:20170102T200000
DTSTAMP:20260422T050508
CREATED:20170103T183029Z
LAST-MODIFIED:20170131T205523Z
UID:6422-1483385400-1483387200@www.shantimandir.com
SUMMARY:CANCELLED-Yoga Class
DESCRIPTION:
URL:https://www.shantimandir.com/event/cancelled-yoga-class/
LOCATION:Shanti Mandir Walden\, 51 Muktananda Marg\, Walden\, NY\, 12586\, United States
CATEGORIES:Courses,Walden Ashram
END:VEVENT
BEGIN:VEVENT
DTSTART;VALUE=DATE:20170101
DTEND;VALUE=DATE:20170102
DTSTAMP:20260422T050508
CREATED:20170102T205354Z
LAST-MODIFIED:20170102T205354Z
UID:6390-1483228800-1483315199@www.shantimandir.com
SUMMARY:January Calendar
DESCRIPTION:
URL:https://www.shantimandir.com/event/january-calendar/
LOCATION:Shanti Mandir Walden\, 51 Muktananda Marg\, Walden\, NY\, 12586\, United States
CATEGORIES:Courses,Walden Ashram
ATTACH;FMTTYPE=image/jpeg:https://www.shantimandir.com/wp-content/uploads/2016/12/January-Calendar-2017.jpg
END:VEVENT
BEGIN:VEVENT
DTSTART;VALUE=DATE:20170101
DTEND;VALUE=DATE:20170102
DTSTAMP:20260422T050508
CREATED:20170102T205354Z
LAST-MODIFIED:20170102T205354Z
UID:6390-1483228800-1483315199@www.shantimandir.com
SUMMARY:January Calendar
DESCRIPTION:
URL:https://www.shantimandir.com/event/january-calendar/
LOCATION:Shanti Mandir Walden\, 51 Muktananda Marg\, Walden\, NY\, 12586\, United States
CATEGORIES:Courses,Walden Ashram
ATTACH;FMTTYPE=image/jpeg:https://www.shantimandir.com/wp-content/uploads/2016/12/January-Calendar-2017.jpg
END:VEVENT
BEGIN:VEVENT
DTSTART;TZID=UTC:20170121T100000
DTEND;TZID=UTC:20170121T123000
DTSTAMP:20260422T050508
CREATED:20161229T233505Z
LAST-MODIFIED:20161229T233505Z
UID:6375-1484992800-1485001800@www.shantimandir.com
SUMMARY:Kashmir Shaivism Workshop
DESCRIPTION:To view the flyer in PDF format\, click here.
URL:https://www.shantimandir.com/event/kashmir-shaivism-workshop-16/
LOCATION:Shanti Mandir Walden\, 51 Muktananda Marg\, Walden\, NY\, 12586\, United States
CATEGORIES:Courses,Walden Ashram
ATTACH;FMTTYPE=image/jpeg:https://www.shantimandir.com/wp-content/uploads/2015/02/ksw_jan21_email.jpg
END:VEVENT
BEGIN:VEVENT
DTSTART;VALUE=DATE:20170101
DTEND;VALUE=DATE:20170102
DTSTAMP:20260422T050508
CREATED:20170102T205354Z
LAST-MODIFIED:20170102T205354Z
UID:6390-1483228800-1483315199@www.shantimandir.com
SUMMARY:January Calendar
DESCRIPTION:
URL:https://www.shantimandir.com/event/january-calendar/
LOCATION:Shanti Mandir Walden\, 51 Muktananda Marg\, Walden\, NY\, 12586\, United States
CATEGORIES:Courses,Walden Ashram
ATTACH;FMTTYPE=image/jpeg:https://www.shantimandir.com/wp-content/uploads/2016/12/January-Calendar-2017.jpg
END:VEVENT
BEGIN:VEVENT
DTSTART;VALUE=DATE:20170101
DTEND;VALUE=DATE:20170102
DTSTAMP:20260422T050508
CREATED:20170102T205354Z
LAST-MODIFIED:20170102T205354Z
UID:6390-1483228800-1483315199@www.shantimandir.com
SUMMARY:January Calendar
DESCRIPTION:
URL:https://www.shantimandir.com/event/january-calendar/
LOCATION:Shanti Mandir Walden\, 51 Muktananda Marg\, Walden\, NY\, 12586\, United States
CATEGORIES:Courses,Walden Ashram
ATTACH;FMTTYPE=image/jpeg:https://www.shantimandir.com/wp-content/uploads/2016/12/January-Calendar-2017.jpg
END:VEVENT
BEGIN:VEVENT
DTSTART;TZID=UTC:20170119T183000
DTEND;TZID=UTC:20170119T200000
DTSTAMP:20260422T050508
CREATED:20170119T184124Z
LAST-MODIFIED:20170126T204306Z
UID:6471-1484850600-1484856000@www.shantimandir.com
SUMMARY:CANCELLED-Yoga Class
DESCRIPTION:
URL:https://www.shantimandir.com/event/cancelled-yoga-class-2/
LOCATION:Shanti Mandir Walden\, 51 Muktananda Marg\, Walden\, NY\, 12586\, United States
CATEGORIES:Courses,Walden Ashram
END:VEVENT
BEGIN:VEVENT
DTSTART;VALUE=DATE:20170101
DTEND;VALUE=DATE:20170102
DTSTAMP:20260422T050508
CREATED:20170102T205354Z
LAST-MODIFIED:20170102T205354Z
UID:6390-1483228800-1483315199@www.shantimandir.com
SUMMARY:January Calendar
DESCRIPTION:
URL:https://www.shantimandir.com/event/january-calendar/
LOCATION:Shanti Mandir Walden\, 51 Muktananda Marg\, Walden\, NY\, 12586\, United States
CATEGORIES:Courses,Walden Ashram
ATTACH;FMTTYPE=image/jpeg:https://www.shantimandir.com/wp-content/uploads/2016/12/January-Calendar-2017.jpg
END:VEVENT
BEGIN:VEVENT
DTSTART;VALUE=DATE:20170101
DTEND;VALUE=DATE:20170102
DTSTAMP:20260422T050508
CREATED:20170102T205354Z
LAST-MODIFIED:20170102T205354Z
UID:6390-1483228800-1483315199@www.shantimandir.com
SUMMARY:January Calendar
DESCRIPTION:
URL:https://www.shantimandir.com/event/january-calendar/
LOCATION:Shanti Mandir Walden\, 51 Muktananda Marg\, Walden\, NY\, 12586\, United States
CATEGORIES:Courses,Walden Ashram
ATTACH;FMTTYPE=image/jpeg:https://www.shantimandir.com/wp-content/uploads/2016/12/January-Calendar-2017.jpg
END:VEVENT
BEGIN:VEVENT
DTSTART;VALUE=DATE:20170101
DTEND;VALUE=DATE:20170102
DTSTAMP:20260422T050508
CREATED:20170102T205354Z
LAST-MODIFIED:20170102T205354Z
UID:6390-1483228800-1483315199@www.shantimandir.com
SUMMARY:January Calendar
DESCRIPTION:
URL:https://www.shantimandir.com/event/january-calendar/
LOCATION:Shanti Mandir Walden\, 51 Muktananda Marg\, Walden\, NY\, 12586\, United States
CATEGORIES:Courses,Walden Ashram
ATTACH;FMTTYPE=image/jpeg:https://www.shantimandir.com/wp-content/uploads/2016/12/January-Calendar-2017.jpg
END:VEVENT
BEGIN:VEVENT
DTSTART;TZID=UTC:20170102T193000
DTEND;TZID=UTC:20170102T200000
DTSTAMP:20260422T050508
CREATED:20170103T183029Z
LAST-MODIFIED:20170131T205523Z
UID:6422-1483385400-1483387200@www.shantimandir.com
SUMMARY:CANCELLED-Yoga Class
DESCRIPTION:
URL:https://www.shantimandir.com/event/cancelled-yoga-class/
LOCATION:Shanti Mandir Walden\, 51 Muktananda Marg\, Walden\, NY\, 12586\, United States
CATEGORIES:Courses,Walden Ashram
END:VEVENT
BEGIN:VEVENT
DTSTART;VALUE=DATE:20170101
DTEND;VALUE=DATE:20170102
DTSTAMP:20260422T050508
CREATED:20170102T205354Z
LAST-MODIFIED:20170102T205354Z
UID:6390-1483228800-1483315199@www.shantimandir.com
SUMMARY:January Calendar
DESCRIPTION:
URL:https://www.shantimandir.com/event/january-calendar/
LOCATION:Shanti Mandir Walden\, 51 Muktananda Marg\, Walden\, NY\, 12586\, United States
CATEGORIES:Courses,Walden Ashram
ATTACH;FMTTYPE=image/jpeg:https://www.shantimandir.com/wp-content/uploads/2016/12/January-Calendar-2017.jpg
END:VEVENT
BEGIN:VEVENT
DTSTART;VALUE=DATE:20170101
DTEND;VALUE=DATE:20170102
DTSTAMP:20260422T050508
CREATED:20170102T205354Z
LAST-MODIFIED:20170102T205354Z
UID:6390-1483228800-1483315199@www.shantimandir.com
SUMMARY:January Calendar
DESCRIPTION:
URL:https://www.shantimandir.com/event/january-calendar/
LOCATION:Shanti Mandir Walden\, 51 Muktananda Marg\, Walden\, NY\, 12586\, United States
CATEGORIES:Courses,Walden Ashram
ATTACH;FMTTYPE=image/jpeg:https://www.shantimandir.com/wp-content/uploads/2016/12/January-Calendar-2017.jpg
END:VEVENT
BEGIN:VEVENT
DTSTART;VALUE=DATE:20170101
DTEND;VALUE=DATE:20170102
DTSTAMP:20260422T050508
CREATED:20170102T205354Z
LAST-MODIFIED:20170102T205354Z
UID:6390-1483228800-1483315199@www.shantimandir.com
SUMMARY:January Calendar
DESCRIPTION:
URL:https://www.shantimandir.com/event/january-calendar/
LOCATION:Shanti Mandir Walden\, 51 Muktananda Marg\, Walden\, NY\, 12586\, United States
CATEGORIES:Courses,Walden Ashram
ATTACH;FMTTYPE=image/jpeg:https://www.shantimandir.com/wp-content/uploads/2016/12/January-Calendar-2017.jpg
END:VEVENT
BEGIN:VEVENT
DTSTART;VALUE=DATE:20170101
DTEND;VALUE=DATE:20170102
DTSTAMP:20260422T050508
CREATED:20170102T205354Z
LAST-MODIFIED:20170102T205354Z
UID:6390-1483228800-1483315199@www.shantimandir.com
SUMMARY:January Calendar
DESCRIPTION:
URL:https://www.shantimandir.com/event/january-calendar/
LOCATION:Shanti Mandir Walden\, 51 Muktananda Marg\, Walden\, NY\, 12586\, United States
CATEGORIES:Courses,Walden Ashram
ATTACH;FMTTYPE=image/jpeg:https://www.shantimandir.com/wp-content/uploads/2016/12/January-Calendar-2017.jpg
END:VEVENT
BEGIN:VEVENT
DTSTART;VALUE=DATE:20170101
DTEND;VALUE=DATE:20170102
DTSTAMP:20260422T050508
CREATED:20170102T205354Z
LAST-MODIFIED:20170102T205354Z
UID:6390-1483228800-1483315199@www.shantimandir.com
SUMMARY:January Calendar
DESCRIPTION:
URL:https://www.shantimandir.com/event/january-calendar/
LOCATION:Shanti Mandir Walden\, 51 Muktananda Marg\, Walden\, NY\, 12586\, United States
CATEGORIES:Courses,Walden Ashram
ATTACH;FMTTYPE=image/jpeg:https://www.shantimandir.com/wp-content/uploads/2016/12/January-Calendar-2017.jpg
END:VEVENT
BEGIN:VEVENT
DTSTART;VALUE=DATE:20170101
DTEND;VALUE=DATE:20170102
DTSTAMP:20260422T050508
CREATED:20170102T205354Z
LAST-MODIFIED:20170102T205354Z
UID:6390-1483228800-1483315199@www.shantimandir.com
SUMMARY:January Calendar
DESCRIPTION:
URL:https://www.shantimandir.com/event/january-calendar/
LOCATION:Shanti Mandir Walden\, 51 Muktananda Marg\, Walden\, NY\, 12586\, United States
CATEGORIES:Courses,Walden Ashram
ATTACH;FMTTYPE=image/jpeg:https://www.shantimandir.com/wp-content/uploads/2016/12/January-Calendar-2017.jpg
END:VEVENT
BEGIN:VEVENT
DTSTART;VALUE=DATE:20170101
DTEND;VALUE=DATE:20170102
DTSTAMP:20260422T050508
CREATED:20170102T205354Z
LAST-MODIFIED:20170102T205354Z
UID:6390-1483228800-1483315199@www.shantimandir.com
SUMMARY:January Calendar
DESCRIPTION:
URL:https://www.shantimandir.com/event/january-calendar/
LOCATION:Shanti Mandir Walden\, 51 Muktananda Marg\, Walden\, NY\, 12586\, United States
CATEGORIES:Courses,Walden Ashram
ATTACH;FMTTYPE=image/jpeg:https://www.shantimandir.com/wp-content/uploads/2016/12/January-Calendar-2017.jpg
END:VEVENT
BEGIN:VEVENT
DTSTART;TZID=UTC:20170102T193000
DTEND;TZID=UTC:20170102T200000
DTSTAMP:20260422T050508
CREATED:20170103T183029Z
LAST-MODIFIED:20170131T205523Z
UID:6422-1483385400-1483387200@www.shantimandir.com
SUMMARY:CANCELLED-Yoga Class
DESCRIPTION:
URL:https://www.shantimandir.com/event/cancelled-yoga-class/
LOCATION:Shanti Mandir Walden\, 51 Muktananda Marg\, Walden\, NY\, 12586\, United States
CATEGORIES:Courses,Walden Ashram
END:VEVENT
BEGIN:VEVENT
DTSTART;VALUE=DATE:20170101
DTEND;VALUE=DATE:20170102
DTSTAMP:20260422T050508
CREATED:20170102T205354Z
LAST-MODIFIED:20170102T205354Z
UID:6390-1483228800-1483315199@www.shantimandir.com
SUMMARY:January Calendar
DESCRIPTION:
URL:https://www.shantimandir.com/event/january-calendar/
LOCATION:Shanti Mandir Walden\, 51 Muktananda Marg\, Walden\, NY\, 12586\, United States
CATEGORIES:Courses,Walden Ashram
ATTACH;FMTTYPE=image/jpeg:https://www.shantimandir.com/wp-content/uploads/2016/12/January-Calendar-2017.jpg
END:VEVENT
BEGIN:VEVENT
DTSTART;VALUE=DATE:20170101
DTEND;VALUE=DATE:20170102
DTSTAMP:20260422T050508
CREATED:20170102T205354Z
LAST-MODIFIED:20170102T205354Z
UID:6390-1483228800-1483315199@www.shantimandir.com
SUMMARY:January Calendar
DESCRIPTION:
URL:https://www.shantimandir.com/event/january-calendar/
LOCATION:Shanti Mandir Walden\, 51 Muktananda Marg\, Walden\, NY\, 12586\, United States
CATEGORIES:Courses,Walden Ashram
ATTACH;FMTTYPE=image/jpeg:https://www.shantimandir.com/wp-content/uploads/2016/12/January-Calendar-2017.jpg
END:VEVENT
BEGIN:VEVENT
DTSTART;VALUE=DATE:20170101
DTEND;VALUE=DATE:20170102
DTSTAMP:20260422T050508
CREATED:20170102T205354Z
LAST-MODIFIED:20170102T205354Z
UID:6390-1483228800-1483315199@www.shantimandir.com
SUMMARY:January Calendar
DESCRIPTION:
URL:https://www.shantimandir.com/event/january-calendar/
LOCATION:Shanti Mandir Walden\, 51 Muktananda Marg\, Walden\, NY\, 12586\, United States
CATEGORIES:Courses,Walden Ashram
ATTACH;FMTTYPE=image/jpeg:https://www.shantimandir.com/wp-content/uploads/2016/12/January-Calendar-2017.jpg
END:VEVENT
BEGIN:VEVENT
DTSTART;VALUE=DATE:20170101
DTEND;VALUE=DATE:20170102
DTSTAMP:20260422T050508
CREATED:20170102T205354Z
LAST-MODIFIED:20170102T205354Z
UID:6390-1483228800-1483315199@www.shantimandir.com
SUMMARY:January Calendar
DESCRIPTION:
URL:https://www.shantimandir.com/event/january-calendar/
LOCATION:Shanti Mandir Walden\, 51 Muktananda Marg\, Walden\, NY\, 12586\, United States
CATEGORIES:Courses,Walden Ashram
ATTACH;FMTTYPE=image/jpeg:https://www.shantimandir.com/wp-content/uploads/2016/12/January-Calendar-2017.jpg
END:VEVENT
END:VCALENDAR