BEGIN:VCALENDAR
VERSION:2.0
PRODID:-//Shanti Mandir - ECPv6.3.6//NONSGML v1.0//EN
CALSCALE:GREGORIAN
METHOD:PUBLISH
X-WR-CALNAME:Shanti Mandir
X-ORIGINAL-URL:https://www.shantimandir.com
X-WR-CALDESC:Events for Shanti Mandir
REFRESH-INTERVAL;VALUE=DURATION:PT1H
X-Robots-Tag:noindex
X-PUBLISHED-TTL:PT1H
BEGIN:VTIMEZONE
TZID:America/New_York
BEGIN:DAYLIGHT
TZOFFSETFROM:-0500
TZOFFSETTO:-0400
TZNAME:EDT
DTSTART:20180311T070000
END:DAYLIGHT
BEGIN:STANDARD
TZOFFSETFROM:-0400
TZOFFSETTO:-0500
TZNAME:EST
DTSTART:20181104T060000
END:STANDARD
END:VTIMEZONE
BEGIN:VEVENT
DTSTART;TZID=America/New_York:20180901T190000
DTEND;TZID=America/New_York:20180901T203000
DTSTAMP:20260421T175733
CREATED:20180824T124647Z
LAST-MODIFIED:20180824T130854Z
UID:8652-1535828400-1535833800@www.shantimandir.com
SUMMARY:Santoor Concert
DESCRIPTION:To view the flyer in pdf format\, click here.
URL:https://www.shantimandir.com/event/concert-sept-2018/
LOCATION:Shanti Mandir Walden\, 51 Muktananda Marg\, Walden\, NY\, 12586\, United States
CATEGORIES:Concerts,Walden Ashram
ATTACH;FMTTYPE=image/jpeg:https://www.shantimandir.com/wp-content/uploads/2018/08/vinat_concert_flyer_sept_2018.jpg
END:VEVENT
BEGIN:VEVENT
DTSTART;TZID=America/New_York:20180707T190000
DTEND;TZID=America/New_York:20180707T200000
DTSTAMP:20260421T175733
CREATED:20180702T141835Z
LAST-MODIFIED:20180702T142210Z
UID:8536-1530990000-1530993600@www.shantimandir.com
SUMMARY:Vocal Concert
DESCRIPTION:
URL:https://www.shantimandir.com/event/vocal-concert-july-2018/
LOCATION:Shanti Mandir Walden\, 51 Muktananda Marg\, Walden\, NY\, 12586\, United States
CATEGORIES:Concerts,Gurudev's 2018 Schedule,Walden Ashram
ATTACH;FMTTYPE=image/jpeg:https://www.shantimandir.com/wp-content/uploads/2018/07/shantz_concert_flyer_july_2018.jpg
END:VEVENT
BEGIN:VEVENT
DTSTART;TZID=America/New_York:20180613T193000
DTEND;TZID=America/New_York:20180613T210000
DTSTAMP:20260421T175733
CREATED:20180613T135415Z
LAST-MODIFIED:20180613T135812Z
UID:8431-1528918200-1528923600@www.shantimandir.com
SUMMARY:Kabir Bhajans by Prahlad Tipanya
DESCRIPTION:You are cordially invited to join us tonight at Shanti Mandir\, Walden\, to listen to Kabir bhajans by Prahlad Tipanya\, a popular Indian folk singer.\n\nKabir bhajans are melodious devotional poems written by the renowned 15th century poet-saint Kabir.\nTo know more about Prahlad Tipanya\, click here.
URL:https://www.shantimandir.com/event/kabir-bhajans-by-prahlad-tipanya/
LOCATION:Shanti Mandir Walden\, 51 Muktananda Marg\, Walden\, NY\, 12586\, United States
CATEGORIES:Concerts,Gurudev's 2018 Schedule,Walden Ashram
ATTACH;FMTTYPE=image/jpeg:https://www.shantimandir.com/wp-content/uploads/2018/06/prahlad_tipanya_1.jpg
END:VEVENT
BEGIN:VEVENT
DTSTART;TZID=America/New_York:20180609T180000
DTEND;TZID=America/New_York:20180609T210000
DTSTAMP:20260421T175733
CREATED:20180514T152324Z
LAST-MODIFIED:20180530T143612Z
UID:8351-1528567200-1528578000@www.shantimandir.com
SUMMARY:Sarangi & Vocal Concert
DESCRIPTION:To view the flyer in pdf format\, click here.
URL:https://www.shantimandir.com/event/concert-june-2018/
LOCATION:Shanti Mandir Walden\, 51 Muktananda Marg\, Walden\, NY\, 12586\, United States
CATEGORIES:Concerts,Gurudev's 2018 Schedule,Walden Ashram
ATTACH;FMTTYPE=image/jpeg:https://www.shantimandir.com/wp-content/uploads/2018/05/oak_concert_flyer_june_2018_2.jpg
END:VEVENT
BEGIN:VEVENT
DTSTART;TZID=America/New_York:20180429T170000
DTEND;TZID=America/New_York:20180429T190000
DTSTAMP:20260421T175733
CREATED:20180218T010505Z
LAST-MODIFIED:20180429T011046Z
UID:7952-1525021200-1525028400@www.shantimandir.com
SUMMARY:Santoor Concert
DESCRIPTION:Created using the Donation Thermometer plugin https://wordpress.org/plugins/donation-thermometer/.$5\,000Raised $7\,030 towards the $5\,000 target.$7\,030Raised $7\,030 towards the $5\,000 target.141%\nBy the incredible support of all the music lovers from near and far\, from the local as well as the global community\, we have successfully reached our target for the Rahul Sharma Concert fundraiser! For those who would still like to support\, we will continue to accept donations until Sunday\, April 29\, and reserve the contributions towards the 2018 music concerts budget. Furthermore\, as a token of appreciation\, we will email to all the donors a link to view the Rahul Sharma Concert live on YouTube! (However\, please bear with us should any technical difficulties arise.)\n\n\nTo donate and support Indian Classical Music\, click here.\nRahul Sharma’s Santoor concert on Sunday\, April 29\, from 5 to 7pm. \nTo view the flyer in PDF format\, click here.
URL:https://www.shantimandir.com/event/santoor-concert-apr-2018/
LOCATION:Shanti Mandir Walden\, 51 Muktananda Marg\, Walden\, NY\, 12586\, United States
CATEGORIES:Concerts,Gurudev's 2018 Schedule,Walden Ashram
END:VEVENT
BEGIN:VEVENT
DTSTART;TZID=America/New_York:20180127T180000
DTEND;TZID=America/New_York:20180127T190000
DTSTAMP:20260421T175733
CREATED:20180119T142820Z
LAST-MODIFIED:20180119T142820Z
UID:7850-1517076000-1517079600@www.shantimandir.com
SUMMARY:Santoor Concert
DESCRIPTION:To view the flyer in PDF format\, click here.
URL:https://www.shantimandir.com/event/santoor-concert-jan-2018/
LOCATION:Tashu and Harsha-Patni Trivedi\, 12403 Carrington Hill Drive\, Gaithersburg\, MD\, 20878\, United States
CATEGORIES:Community Satsang,Concerts,Walden Ashram
ATTACH;FMTTYPE=image/jpeg:https://www.shantimandir.com/wp-content/uploads/2018/01/vinay_concert_flyer_012718.jpg
END:VEVENT
END:VCALENDAR