BEGIN:VCALENDAR
VERSION:2.0
PRODID:-//Shanti Mandir - ECPv6.3.6//NONSGML v1.0//EN
CALSCALE:GREGORIAN
METHOD:PUBLISH
X-ORIGINAL-URL:https://www.shantimandir.com
X-WR-CALDESC:Events for Shanti Mandir
REFRESH-INTERVAL;VALUE=DURATION:PT1H
X-Robots-Tag:noindex
X-PUBLISHED-TTL:PT1H
BEGIN:VTIMEZONE
TZID:America/Halifax
BEGIN:DAYLIGHT
TZOFFSETFROM:-0400
TZOFFSETTO:-0300
TZNAME:ADT
DTSTART:20190310T060000
END:DAYLIGHT
BEGIN:STANDARD
TZOFFSETFROM:-0300
TZOFFSETTO:-0400
TZNAME:AST
DTSTART:20191103T050000
END:STANDARD
BEGIN:DAYLIGHT
TZOFFSETFROM:-0400
TZOFFSETTO:-0300
TZNAME:ADT
DTSTART:20200308T060000
END:DAYLIGHT
BEGIN:STANDARD
TZOFFSETFROM:-0300
TZOFFSETTO:-0400
TZNAME:AST
DTSTART:20201101T050000
END:STANDARD
BEGIN:DAYLIGHT
TZOFFSETFROM:-0400
TZOFFSETTO:-0300
TZNAME:ADT
DTSTART:20210314T060000
END:DAYLIGHT
BEGIN:STANDARD
TZOFFSETFROM:-0300
TZOFFSETTO:-0400
TZNAME:AST
DTSTART:20211107T050000
END:STANDARD
BEGIN:DAYLIGHT
TZOFFSETFROM:-0400
TZOFFSETTO:-0300
TZNAME:ADT
DTSTART:20220313T060000
END:DAYLIGHT
BEGIN:STANDARD
TZOFFSETFROM:-0300
TZOFFSETTO:-0400
TZNAME:AST
DTSTART:20221106T050000
END:STANDARD
BEGIN:DAYLIGHT
TZOFFSETFROM:-0400
TZOFFSETTO:-0300
TZNAME:ADT
DTSTART:20230312T060000
END:DAYLIGHT
BEGIN:STANDARD
TZOFFSETFROM:-0300
TZOFFSETTO:-0400
TZNAME:AST
DTSTART:20231105T050000
END:STANDARD
BEGIN:DAYLIGHT
TZOFFSETFROM:-0400
TZOFFSETTO:-0300
TZNAME:ADT
DTSTART:20240310T060000
END:DAYLIGHT
BEGIN:STANDARD
TZOFFSETFROM:-0300
TZOFFSETTO:-0400
TZNAME:AST
DTSTART:20241103T050000
END:STANDARD
TZID:America/New_York
BEGIN:DAYLIGHT
TZOFFSETFROM:-0500
TZOFFSETTO:-0400
TZNAME:EDT
DTSTART:20180311T070000
END:DAYLIGHT
BEGIN:STANDARD
TZOFFSETFROM:-0400
TZOFFSETTO:-0500
TZNAME:EST
DTSTART:20181104T060000
END:STANDARD
BEGIN:DAYLIGHT
TZOFFSETFROM:-0500
TZOFFSETTO:-0400
TZNAME:EDT
DTSTART:20190310T070000
END:DAYLIGHT
BEGIN:STANDARD
TZOFFSETFROM:-0400
TZOFFSETTO:-0500
TZNAME:EST
DTSTART:20191103T060000
END:STANDARD
END:VTIMEZONE
BEGIN:VEVENT
DTSTART;TZID=America/Halifax:20240920T183000
DTEND;TZID=America/Halifax:20240920T213000
DTSTAMP:20260421T134903
CREATED:20240829T121215Z
LAST-MODIFIED:20240829T122119Z
UID:19081-1726857000-1726867800@www.shantimandir.com
SUMMARY:Santoor Concert
DESCRIPTION:
URL:https://www.shantimandir.com/event/santoor-concert-sept-2024/
LOCATION:Shanti Mandir Walden\, 51 Muktananda Marg\, Walden\, NY\, 12586\, United States
CATEGORIES:Concerts
ATTACH;FMTTYPE=image/jpeg:https://www.shantimandir.com/wp-content/uploads/2024/08/Vinay_Santoor-concert_DE_Sept_2024.jpg
END:VEVENT
BEGIN:VEVENT
DTSTART;TZID=America/Halifax:20240526T100000
DTEND;TZID=America/Halifax:20240526T123000
DTSTAMP:20260421T134903
CREATED:20240524T134252Z
LAST-MODIFIED:20240524T134252Z
UID:18917-1716717600-1716726600@www.shantimandir.com
SUMMARY:Sarod Concert May 2024
DESCRIPTION:
URL:https://www.shantimandir.com/event/sarod-concert-may-2024/
LOCATION:Shanti Mandir Walden\, 51 Muktananda Marg\, Walden\, NY\, 12586\, United States
CATEGORIES:Concerts
ATTACH;FMTTYPE=image/jpeg:https://www.shantimandir.com/wp-content/uploads/2024/05/Satyaki_concert_flyer_26May_2024_1.jpg
END:VEVENT
BEGIN:VEVENT
DTSTART;TZID=America/Halifax:20240428T100000
DTEND;TZID=America/Halifax:20240428T120000
DTSTAMP:20260421T134903
CREATED:20240424T045029Z
LAST-MODIFIED:20240424T051126Z
UID:18871-1714298400-1714305600@www.shantimandir.com
SUMMARY:Bansuri Concert
DESCRIPTION:
URL:https://www.shantimandir.com/event/bansuri-concert-apr-2024/
LOCATION:Shanti Mandir Walden\, 51 Muktananda Marg\, Walden\, NY\, 12586\, United States
CATEGORIES:Concerts,Walden Ashram
ATTACH;FMTTYPE=image/jpeg:https://www.shantimandir.com/wp-content/uploads/2024/04/Akash_concert_flyer_28Apr_2024_1.jpg
END:VEVENT
BEGIN:VEVENT
DTSTART;TZID=America/Halifax:20231028T190000
DTEND;TZID=America/Halifax:20231028T210000
DTSTAMP:20260421T134903
CREATED:20231011T013944Z
LAST-MODIFIED:20231011T014205Z
UID:18134-1698519600-1698526800@www.shantimandir.com
SUMMARY:Tabla Solo Concert
DESCRIPTION:
URL:https://www.shantimandir.com/event/tabla-solo-concert-oct-2023/
LOCATION:Shanti Mandir Walden\, 51 Muktananda Marg\, Walden\, NY\, 12586\, United States
CATEGORIES:Concerts
ATTACH;FMTTYPE=image/jpeg:https://www.shantimandir.com/wp-content/uploads/2023/10/Athalye_concert_flyer_28oct_2023.jpg
END:VEVENT
BEGIN:VEVENT
DTSTART;TZID=America/Halifax:20230605T190000
DTEND;TZID=America/Halifax:20230605T203000
DTSTAMP:20260421T134903
CREATED:20230510T015204Z
LAST-MODIFIED:20230530T220216Z
UID:17526-1685991600-1685997000@www.shantimandir.com
SUMMARY:Sarod Concert | Indrayuddh Majumder on Sarod | Accompanied on Tabla By Vivek Pandya
DESCRIPTION:
URL:https://www.shantimandir.com/event/sarod-concert-indrayuddh-majumdar-on-sarod-accompanied-on-tabla-by-vivek-pandya/
LOCATION:Shanti Mandir Walden\, 51 Muktananda Marg\, Walden\, NY\, 12586\, United States
CATEGORIES:Concerts
END:VEVENT
BEGIN:VEVENT
DTSTART;TZID=America/Halifax:20230505T190000
DTEND;TZID=America/Halifax:20230505T203000
DTSTAMP:20260421T134903
CREATED:20230402T003217Z
LAST-MODIFIED:20230503T151232Z
UID:17293-1683313200-1683318600@www.shantimandir.com
SUMMARY:Sitar Concert
DESCRIPTION:
URL:https://www.shantimandir.com/event/walden-sitar-concert-4/
LOCATION:NY
CATEGORIES:Concerts
END:VEVENT
BEGIN:VEVENT
DTSTART;TZID=America/Halifax:20220910T190000
DTEND;TZID=America/Halifax:20220910T203000
DTSTAMP:20260421T134903
CREATED:20220822T001801Z
LAST-MODIFIED:20220905T030714Z
UID:15273-1662836400-1662841800@www.shantimandir.com
SUMMARY:Bansuri (Flute) Concert
DESCRIPTION:
URL:https://www.shantimandir.com/event/bansuri-flute-concert/
LOCATION:Shanti Mandir Walden\, 51 Muktananda Marg\, Walden\, NY\, 12586\, United States
CATEGORIES:Concerts
ATTACH;FMTTYPE=image/jpeg:https://www.shantimandir.com/wp-content/uploads/2022/08/sept3_2022.jpeg
END:VEVENT
BEGIN:VEVENT
DTSTART;VALUE=DATE:20220810
DTEND;VALUE=DATE:20220811
DTSTAMP:20260421T134903
CREATED:20220725T005041Z
LAST-MODIFIED:20220808T010203Z
UID:15152-1660089600-1660175999@www.shantimandir.com
SUMMARY:Tabla Solo Concert
DESCRIPTION:
URL:https://www.shantimandir.com/event/august-6-2022-tabla-solo-concert/
LOCATION:Shanti Mandir Walden\, 51 Muktananda Marg\, Walden\, NY\, 12586\, United States
CATEGORIES:Concerts
ATTACH;FMTTYPE=image/jpeg:https://www.shantimandir.com/wp-content/uploads/2022/07/NEW_aug6_2022.jpeg
END:VEVENT
BEGIN:VEVENT
DTSTART;TZID=America/Halifax:20220625T173000
DTEND;TZID=America/Halifax:20220625T190000
DTSTAMP:20260421T134903
CREATED:20220504T004504Z
LAST-MODIFIED:20220619T021048Z
UID:14708-1656178200-1656183600@www.shantimandir.com
SUMMARY:Santoor Concert
DESCRIPTION:
URL:https://www.shantimandir.com/event/santoor108-concert/
LOCATION:Shanti Mandir Walden\, 51 Muktananda Marg\, Walden\, NY\, 12586\, United States
CATEGORIES:Concerts
END:VEVENT
BEGIN:VEVENT
DTSTART;VALUE=DATE:20200206
DTEND;VALUE=DATE:20200210
DTSTAMP:20260421T134903
CREATED:20200122T183713Z
LAST-MODIFIED:20200122T183713Z
UID:10367-1580947200-1581292799@www.shantimandir.com
SUMMARY:Florida Tour
DESCRIPTION:To view the flyer in pdf format click here.
URL:https://www.shantimandir.com/event/florida-tour/
LOCATION:FL\, United States
CATEGORIES:Community Satsang,Concerts,Poojas
ATTACH;FMTTYPE=image/jpeg:https://www.shantimandir.com/wp-content/uploads/2020/01/fla_satsangs_2020_01_17.jpeg
END:VEVENT
BEGIN:VEVENT
DTSTART;VALUE=DATE:20191201
DTEND;VALUE=DATE:20200101
DTSTAMP:20260421T134903
CREATED:20191122T022031Z
LAST-MODIFIED:20191130T025357Z
UID:10176-1575158400-1577836799@www.shantimandir.com
SUMMARY:December Calendar
DESCRIPTION:To view the calendar in pdf format\, click here.
URL:https://www.shantimandir.com/event/december-calendar/
LOCATION:NY
CATEGORIES:Concerts,Courses,Festivals,Walden Ashram
ATTACH;FMTTYPE=image/jpeg:https://www.shantimandir.com/wp-content/uploads/2019/11/dec_19_calendar_11_29.jpg
END:VEVENT
BEGIN:VEVENT
DTSTART;TZID=America/Halifax:20191116T190000
DTEND;TZID=America/Halifax:20191116T203000
DTSTAMP:20260421T134903
CREATED:20191021T024933Z
LAST-MODIFIED:20191022T133513Z
UID:10074-1573930800-1573936200@www.shantimandir.com
SUMMARY:Vocal Concert
DESCRIPTION:To view this flyer in pdf format\, click here.
URL:https://www.shantimandir.com/event/vocal-concert/
LOCATION:Shanti Mandir Walden\, 51 Muktananda Marg\, Walden\, NY\, 12586\, United States
CATEGORIES:Concerts
ATTACH;FMTTYPE=image/jpeg:https://www.shantimandir.com/wp-content/uploads/2019/10/Vocal-Concert.jpg
END:VEVENT
BEGIN:VEVENT
DTSTART;TZID=America/Halifax:20191101T193000
DTEND;TZID=America/Halifax:20191101T210000
DTSTAMP:20260421T134903
CREATED:20191019T153205Z
LAST-MODIFIED:20191019T154605Z
UID:10032-1572636600-1572642000@www.shantimandir.com
SUMMARY:Santoor Concert
DESCRIPTION:To view the flyer in pdf format\, click here.
URL:https://www.shantimandir.com/event/santoor-concert_november-2019/
LOCATION:NY
CATEGORIES:Concerts
ATTACH;FMTTYPE=image/jpeg:https://www.shantimandir.com/wp-content/uploads/2019/10/santoor_concert_10_11.jpg
END:VEVENT
BEGIN:VEVENT
DTSTART;VALUE=DATE:20191101
DTEND;VALUE=DATE:20191201
DTSTAMP:20260421T134903
CREATED:20191018T022603Z
LAST-MODIFIED:20191104T155626Z
UID:10054-1572566400-1575158399@www.shantimandir.com
SUMMARY:November Calendar
DESCRIPTION:To view the calendar in pdf format\, click here.
URL:https://www.shantimandir.com/event/november-calendar_2019/
LOCATION:NY
CATEGORIES:Community Satsang,Concerts,Courses,Festivals,Gurudev's 2019 Schedule,Poojas,Walden Ashram
ATTACH;FMTTYPE=image/jpeg:https://www.shantimandir.com/wp-content/uploads/2019/10/Nov_calendar_2019-1.jpg
END:VEVENT
BEGIN:VEVENT
DTSTART;VALUE=DATE:20191001
DTEND;VALUE=DATE:20191201
DTSTAMP:20260421T134903
CREATED:20190916T152649Z
LAST-MODIFIED:20191014T154748Z
UID:9942-1569888000-1575158399@www.shantimandir.com
SUMMARY:Gurudev's October-November Schedule
DESCRIPTION:To view the schedule in pdf format\, click here.
URL:https://www.shantimandir.com/event/gurudevs-october-november-schedule/
LOCATION:Shanti Mandir Walden\, 51 Muktananda Marg\, Walden\, NY\, 12586\, United States
CATEGORIES:Community Satsang,Concerts,Courses,Festivals,Gurudev's 2019 Schedule,Poojas,Walden Ashram
ATTACH;FMTTYPE=image/jpeg:https://www.shantimandir.com/wp-content/uploads/2019/10/Gurudev_schedule_Oct-Nov_2019.jpg
END:VEVENT
BEGIN:VEVENT
DTSTART;TZID=America/Halifax:20190901T100000
DTEND;TZID=America/Halifax:20190901T110000
DTSTAMP:20260421T134903
CREATED:20190821T001039Z
LAST-MODIFIED:20190821T001039Z
UID:9870-1567332000-1567335600@www.shantimandir.com
SUMMARY:Santoor Concert
DESCRIPTION:To view this flyer in pdf format\, click here.
URL:https://www.shantimandir.com/event/santoor-concert_sept_2019/
LOCATION:Shanti Mandir Walden\, 51 Muktananda Marg\, Walden\, NY\, 12586\, United States
CATEGORIES:Concerts,Gurudev's 2019 Schedule,Walden Ashram
ATTACH;FMTTYPE=image/jpeg:https://www.shantimandir.com/wp-content/uploads/2019/08/Vinay_concert_flyer_09019.jpg
END:VEVENT
BEGIN:VEVENT
DTSTART;VALUE=DATE:20190901
DTEND;VALUE=DATE:20191001
DTSTAMP:20260421T134903
CREATED:20190830T145247Z
LAST-MODIFIED:20190830T145247Z
UID:9924-1567296000-1569887999@www.shantimandir.com
SUMMARY:September Calendar
DESCRIPTION:To view the calendar in pdf format\, click here.
URL:https://www.shantimandir.com/event/september-calendar-2019/
LOCATION:NY
CATEGORIES:Concerts,Gurudev's 2019 Schedule,Walden Ashram
ATTACH;FMTTYPE=image/jpeg:https://www.shantimandir.com/wp-content/uploads/2019/08/Sept_calendar_2019.jpg
END:VEVENT
BEGIN:VEVENT
DTSTART;TZID=America/Halifax:20190815T180000
DTEND;TZID=America/Halifax:20190815T200000
DTSTAMP:20260421T134903
CREATED:20190801T191750Z
LAST-MODIFIED:20190813T135056Z
UID:9801-1565892000-1565899200@www.shantimandir.com
SUMMARY:Satsang at Hindu Center
DESCRIPTION:
URL:https://www.shantimandir.com/event/satsang-at-hindu-center/
LOCATION:NY
CATEGORIES:Community Satsang,Concerts,Gurudev's 2019 Schedule,Walden Ashram
ATTACH;FMTTYPE=image/png:https://www.shantimandir.com/wp-content/uploads/2019/08/17D27EC0-5A08-4E91-B761-2FE650108701.png
END:VEVENT
BEGIN:VEVENT
DTSTART;TZID=America/Halifax:20190803T190000
DTEND;TZID=America/Halifax:20190803T203000
DTSTAMP:20260421T134903
CREATED:20190813T140526Z
LAST-MODIFIED:20190813T140526Z
UID:9827-1564858800-1564864200@www.shantimandir.com
SUMMARY:Sitar Concert by Indrajit Roy-Chowdhury
DESCRIPTION:To view the flyer in pdf format\, click here.
URL:https://www.shantimandir.com/event/sitar-concert-by-indrajit-roy-chowdhury-aug-2019/
LOCATION:Shanti Mandir Walden\, 51 Muktananda Marg\, Walden\, NY\, 12586\, United States
CATEGORIES:Concerts,Gurudev's 2019 Schedule,Walden Ashram
ATTACH;FMTTYPE=image/jpeg:https://www.shantimandir.com/wp-content/uploads/2019/07/chowdhury_concert_07_13.jpg
END:VEVENT
BEGIN:VEVENT
DTSTART;VALUE=DATE:20190801
DTEND;VALUE=DATE:20190901
DTSTAMP:20260421T134903
CREATED:20190801T135137Z
LAST-MODIFIED:20190801T135137Z
UID:9790-1564617600-1567295999@www.shantimandir.com
SUMMARY:August Calendar
DESCRIPTION:To view the calendar in pdf format\, click here.
URL:https://www.shantimandir.com/event/august-calendar-2019/
LOCATION:Shanti Mandir Walden\, 51 Muktananda Marg\, Walden\, NY\, 12586\, United States
CATEGORIES:Community Satsang,Concerts,Gurudev's 2019 Schedule,Walden Ashram
ATTACH;FMTTYPE=image/jpeg:https://www.shantimandir.com/wp-content/uploads/2019/07/Aug_calendar_2019.jpg
END:VEVENT
BEGIN:VEVENT
DTSTART;TZID=America/Halifax:20190713T190000
DTEND;TZID=America/Halifax:20190713T210000
DTSTAMP:20260421T134903
CREATED:20190712T152156Z
LAST-MODIFIED:20190712T171336Z
UID:9713-1563044400-1563051600@www.shantimandir.com
SUMMARY:Pandit Jasraj Workshop Finale
DESCRIPTION:
URL:https://www.shantimandir.com/event/pandit-jasraj-workshop-finale-2019/
LOCATION:Shanti Mandir Walden\, 51 Muktananda Marg\, Walden\, NY\, 12586\, United States
CATEGORIES:Concerts,Walden Ashram
ATTACH;FMTTYPE=image/jpeg:https://www.shantimandir.com/wp-content/uploads/2019/07/Jasraj_workshop_finale_flyer_2019.jpg
END:VEVENT
BEGIN:VEVENT
DTSTART;VALUE=DATE:20190701
DTEND;VALUE=DATE:20190801
DTSTAMP:20260421T134903
CREATED:20190622T185815Z
LAST-MODIFIED:20190622T185815Z
UID:9616-1561939200-1564617599@www.shantimandir.com
SUMMARY:July Calendar
DESCRIPTION:To view the calendar in pdf format\, click here.
URL:https://www.shantimandir.com/event/july-calendar-2019/
LOCATION:Shanti Mandir Walden\, 51 Muktananda Marg\, Walden\, NY\, 12586\, United States
CATEGORIES:Concerts,Courses,Festivals,Gurudev's 2019 Schedule,Poojas,Walden Ashram
ATTACH;FMTTYPE=image/jpeg:https://www.shantimandir.com/wp-content/uploads/2019/06/July_calendar_2019.jpg
END:VEVENT
BEGIN:VEVENT
DTSTART;VALUE=DATE:20190701
DTEND;VALUE=DATE:20190703
DTSTAMP:20260421T134903
CREATED:20190329T143309Z
LAST-MODIFIED:20190329T143309Z
UID:9341-1561939200-1562111999@www.shantimandir.com
SUMMARY:Tae Kwon Do Camp
DESCRIPTION:
URL:https://www.shantimandir.com/event/tae-kwon-do-camp-july-2019/
LOCATION:Shanti Mandir Walden\, 51 Muktananda Marg\, Walden\, NY\, 12586\, United States
CATEGORIES:Concerts,Walden Ashram
ATTACH;FMTTYPE=image/jpeg:https://www.shantimandir.com/wp-content/uploads/2019/03/taekwondo_camp_flyer_2019.jpeg
END:VEVENT
BEGIN:VEVENT
DTSTART;VALUE=DATE:20190615
DTEND;VALUE=DATE:20190616
DTSTAMP:20260421T134903
CREATED:20190512T010817Z
LAST-MODIFIED:20190605T143051Z
UID:9442-1560556800-1560643199@www.shantimandir.com
SUMMARY:Santoor Concert in NYC
DESCRIPTION:
URL:https://www.shantimandir.com/event/santoor-concert-june-2019/
LOCATION:NY
CATEGORIES:Concerts,Walden Ashram
ATTACH;FMTTYPE=image/jpeg:https://www.shantimandir.com/wp-content/uploads/2019/05/Vinay_concert_NYC_061519_1.jpeg
END:VEVENT
BEGIN:VEVENT
DTSTART;TZID=America/Halifax:20190601T190000
DTEND;TZID=America/Halifax:20190601T203000
DTSTAMP:20260421T134903
CREATED:20190524T024859Z
LAST-MODIFIED:20190530T133115Z
UID:9464-1559415600-1559421000@www.shantimandir.com
SUMMARY:Santoor Concert
DESCRIPTION:To view the flyer in pdf format\, click here.
URL:https://www.shantimandir.com/event/santoor-concert-june-2019-2/
LOCATION:Shanti Mandir Walden\, 51 Muktananda Marg\, Walden\, NY\, 12586\, United States
CATEGORIES:Concerts,Walden Ashram
ATTACH;FMTTYPE=image/jpeg:https://www.shantimandir.com/wp-content/uploads/2019/05/Vinay_concert_flyer_010619.jpg
END:VEVENT
BEGIN:VEVENT
DTSTART;VALUE=DATE:20190601
DTEND;VALUE=DATE:20190701
DTSTAMP:20260421T134903
CREATED:20190530T134645Z
LAST-MODIFIED:20190530T134645Z
UID:9493-1559347200-1561939199@www.shantimandir.com
SUMMARY:June Calendar
DESCRIPTION:To view the flyer in pdf format\, click here.
URL:https://www.shantimandir.com/event/june-calendar-2019/
LOCATION:Shanti Mandir Walden\, 51 Muktananda Marg\, Walden\, NY\, 12586\, United States
CATEGORIES:Concerts,Courses,Walden Ashram
ATTACH;FMTTYPE=image/jpeg:https://www.shantimandir.com/wp-content/uploads/2019/05/June_calendar_2019.jpg
END:VEVENT
BEGIN:VEVENT
DTSTART;TZID=America/New_York:20190330T190000
DTEND;TZID=America/New_York:20190330T210000
DTSTAMP:20260421T134903
CREATED:20190304T161628Z
LAST-MODIFIED:20190304T163508Z
UID:9260-1553972400-1553979600@www.shantimandir.com
SUMMARY:Santoor Concert
DESCRIPTION:To view the flyer in pdf format\, click here.
URL:https://www.shantimandir.com/event/santoor-concert-mar-2019/
LOCATION:Shanti Mandir Walden\, 51 Muktananda Marg\, Walden\, NY\, 12586\, United States
CATEGORIES:Concerts,Walden Ashram
ATTACH;FMTTYPE=image/jpeg:https://www.shantimandir.com/wp-content/uploads/2019/03/gunjal_concert_flyer_2019.jpg
END:VEVENT
BEGIN:VEVENT
DTSTART;TZID=America/New_York:20181110T190000
DTEND;TZID=America/New_York:20181110T203000
DTSTAMP:20260421T134903
CREATED:20181031T133414Z
LAST-MODIFIED:20181031T133937Z
UID:8896-1541876400-1541881800@www.shantimandir.com
SUMMARY:Vocal Concert
DESCRIPTION:To view the flyer in pdf format\, click here.
URL:https://www.shantimandir.com/event/vocal-concert-nov-2018/
LOCATION:Shanti Mandir Walden\, 51 Muktananda Marg\, Walden\, NY\, 12586\, United States
CATEGORIES:Concerts,Gurudev's 2018 Schedule,Walden Ashram
ATTACH;FMTTYPE=image/jpeg:https://www.shantimandir.com/wp-content/uploads/2018/10/srivastava_concert_flyer_oct_2018.jpeg
END:VEVENT
BEGIN:VEVENT
DTSTART;TZID=America/New_York:20181020T190000
DTEND;TZID=America/New_York:20181020T210000
DTSTAMP:20260421T134903
CREATED:20181013T112522Z
LAST-MODIFIED:20181013T112619Z
UID:8840-1540062000-1540069200@www.shantimandir.com
SUMMARY:Dhrupad Vocal Concert
DESCRIPTION:To view the flyer in pdf format\, click here.
URL:https://www.shantimandir.com/event/dhrupad-vocal-concert-oct-2018/
LOCATION:Shanti Mandir Walden\, 51 Muktananda Marg\, Walden\, NY\, 12586\, United States
CATEGORIES:Concerts,Gurudev's 2018 Schedule,Walden Ashram
ATTACH;FMTTYPE=image/jpeg:https://www.shantimandir.com/wp-content/uploads/2018/10/dey_concert_flyer_oct_2018.jpeg
END:VEVENT
BEGIN:VEVENT
DTSTART;TZID=America/New_York:20181006T170000
DTEND;TZID=America/New_York:20181007T130000
DTSTAMP:20260421T134903
CREATED:20180917T144203Z
LAST-MODIFIED:20181006T141847Z
UID:8734-1538845200-1538917200@www.shantimandir.com
SUMMARY:Concert Series
DESCRIPTION:Created using the Donation Thermometer plugin https://wordpress.org/plugins/donation-thermometer/.$3\,000Raised $3\,821 towards the $3\,000 target.$3\,821Raised $3\,821 towards the $3\,000 target.127%\nTo donate\, please click here\n \nTo view the flyer in pdf format\, click here. \nHaving hosted more than 42 concerts in the past 9 years\, it gives Shanti Mandir great joy to announce its first concert series on October 6-7 weekend\, in honor of Gurudev Swami Nityananda’s birthday!  \nGurudev’s immense love and appreciation for Indian classical music makes it a perfect occasion to host this unique event. It is indeed rare to have the opportunity to witness the gathering of talented artists and listen to soothing music concerts back-to-back in a traditional ashram atmosphere.  \nDelicious\, homemade\, vegetarian Indian food will be served as well.  \nThe expense involved in the concert series amounts to $3\,000. We invite you to help us offset the cost of this event by reaching this target before October 4 by either or all of the following ways:  \n\nattending the concert (tickets available for purchase below)\,\noffering a donation towards the concert to support the artists\, \nspreading the word amongst your neighborhood\, friends and family. \n\nYour support of this endeavor in any way possible will be greatly appreciated! \nWith gratitude\, \n \n 
URL:https://www.shantimandir.com/event/concert-series-oct-2018/
LOCATION:Shanti Mandir Walden\, 51 Muktananda Marg\, Walden\, NY\, 12586\, United States
CATEGORIES:Concerts,Gurudev's 2018 Schedule,Walden Ashram
END:VEVENT
END:VCALENDAR