BEGIN:VCALENDAR
VERSION:2.0
PRODID:-//Shanti Mandir - ECPv6.3.6//NONSGML v1.0//EN
CALSCALE:GREGORIAN
METHOD:PUBLISH
X-ORIGINAL-URL:https://www.shantimandir.com
X-WR-CALDESC:Events for Shanti Mandir
REFRESH-INTERVAL;VALUE=DURATION:PT1H
X-Robots-Tag:noindex
X-PUBLISHED-TTL:PT1H
BEGIN:VTIMEZONE
TZID:America/Halifax
BEGIN:DAYLIGHT
TZOFFSETFROM:-0400
TZOFFSETTO:-0300
TZNAME:ADT
DTSTART:20240310T060000
END:DAYLIGHT
BEGIN:STANDARD
TZOFFSETFROM:-0300
TZOFFSETTO:-0400
TZNAME:AST
DTSTART:20241103T050000
END:STANDARD
END:VTIMEZONE
BEGIN:VEVENT
DTSTART;TZID=America/Halifax:20240526T100000
DTEND;TZID=America/Halifax:20240526T123000
DTSTAMP:20260424T181733
CREATED:20240524T134252Z
LAST-MODIFIED:20240524T134252Z
UID:18917-1716717600-1716726600@www.shantimandir.com
SUMMARY:Sarod Concert May 2024
DESCRIPTION:
URL:https://www.shantimandir.com/event/sarod-concert-may-2024/
LOCATION:Shanti Mandir Walden\, 51 Muktananda Marg\, Walden\, NY\, 12586\, United States
CATEGORIES:Concerts
ATTACH;FMTTYPE=image/jpeg:https://www.shantimandir.com/wp-content/uploads/2024/05/Satyaki_concert_flyer_26May_2024_1.jpg
END:VEVENT
END:VCALENDAR