BEGIN:VCALENDAR
VERSION:2.0
PRODID:-//Shanti Mandir - ECPv6.3.6//NONSGML v1.0//EN
CALSCALE:GREGORIAN
METHOD:PUBLISH
X-WR-CALNAME:Shanti Mandir
X-ORIGINAL-URL:https://www.shantimandir.com
X-WR-CALDESC:Events for Shanti Mandir
REFRESH-INTERVAL;VALUE=DURATION:PT1H
X-Robots-Tag:noindex
X-PUBLISHED-TTL:PT1H
BEGIN:VTIMEZONE
TZID:America/Halifax
BEGIN:DAYLIGHT
TZOFFSETFROM:-0400
TZOFFSETTO:-0300
TZNAME:ADT
DTSTART:20140309T060000
END:DAYLIGHT
BEGIN:STANDARD
TZOFFSETFROM:-0300
TZOFFSETTO:-0400
TZNAME:AST
DTSTART:20141102T050000
END:STANDARD
BEGIN:DAYLIGHT
TZOFFSETFROM:-0400
TZOFFSETTO:-0300
TZNAME:ADT
DTSTART:20150308T060000
END:DAYLIGHT
BEGIN:STANDARD
TZOFFSETFROM:-0300
TZOFFSETTO:-0400
TZNAME:AST
DTSTART:20151101T050000
END:STANDARD
BEGIN:DAYLIGHT
TZOFFSETFROM:-0400
TZOFFSETTO:-0300
TZNAME:ADT
DTSTART:20160313T060000
END:DAYLIGHT
BEGIN:STANDARD
TZOFFSETFROM:-0300
TZOFFSETTO:-0400
TZNAME:AST
DTSTART:20161106T050000
END:STANDARD
BEGIN:DAYLIGHT
TZOFFSETFROM:-0400
TZOFFSETTO:-0300
TZNAME:ADT
DTSTART:20170312T060000
END:DAYLIGHT
BEGIN:STANDARD
TZOFFSETFROM:-0300
TZOFFSETTO:-0400
TZNAME:AST
DTSTART:20171105T050000
END:STANDARD
BEGIN:DAYLIGHT
TZOFFSETFROM:-0400
TZOFFSETTO:-0300
TZNAME:ADT
DTSTART:20180311T060000
END:DAYLIGHT
BEGIN:STANDARD
TZOFFSETFROM:-0300
TZOFFSETTO:-0400
TZNAME:AST
DTSTART:20181104T050000
END:STANDARD
BEGIN:DAYLIGHT
TZOFFSETFROM:-0400
TZOFFSETTO:-0300
TZNAME:ADT
DTSTART:20190310T060000
END:DAYLIGHT
BEGIN:STANDARD
TZOFFSETFROM:-0300
TZOFFSETTO:-0400
TZNAME:AST
DTSTART:20191103T050000
END:STANDARD
TZID:America/New_York
BEGIN:DAYLIGHT
TZOFFSETFROM:-0500
TZOFFSETTO:-0400
TZNAME:EDT
DTSTART:20170312T070000
END:DAYLIGHT
BEGIN:STANDARD
TZOFFSETFROM:-0400
TZOFFSETTO:-0500
TZNAME:EST
DTSTART:20171105T060000
END:STANDARD
BEGIN:DAYLIGHT
TZOFFSETFROM:-0500
TZOFFSETTO:-0400
TZNAME:EDT
DTSTART:20180311T070000
END:DAYLIGHT
BEGIN:STANDARD
TZOFFSETFROM:-0400
TZOFFSETTO:-0500
TZNAME:EST
DTSTART:20181104T060000
END:STANDARD
BEGIN:DAYLIGHT
TZOFFSETFROM:-0500
TZOFFSETTO:-0400
TZNAME:EDT
DTSTART:20190310T070000
END:DAYLIGHT
BEGIN:STANDARD
TZOFFSETFROM:-0400
TZOFFSETTO:-0500
TZNAME:EST
DTSTART:20191103T060000
END:STANDARD
TZID:UTC
BEGIN:STANDARD
TZOFFSETFROM:+0000
TZOFFSETTO:+0000
TZNAME:UTC
DTSTART:20160101T000000
END:STANDARD
END:VTIMEZONE
BEGIN:VEVENT
DTSTART;TZID=America/Halifax:20190727T110000
DTEND;TZID=America/Halifax:20190727T130000
DTSTAMP:20260421T153835
CREATED:20190723T161442Z
LAST-MODIFIED:20190723T161442Z
UID:9768-1564225200-1564232400@www.shantimandir.com
SUMMARY:Community Satsang with Gurudev
DESCRIPTION:
URL:https://www.shantimandir.com/event/community-satsang-with-gurudev/
LOCATION:Vijay & Poonam Shori\, 131 Predmore Ave.\, Colonia\, NJ\, 07067\, United States
CATEGORIES:Community Satsang,Gurudev's 2019 Schedule,Walden Ashram
ATTACH;FMTTYPE=image/jpeg:https://www.shantimandir.com/wp-content/uploads/2019/07/unnamed-2.jpg
END:VEVENT
BEGIN:VEVENT
DTSTART;TZID=America/Halifax:20190518T110000
DTEND;TZID=America/Halifax:20190518T130000
DTSTAMP:20260421T153835
CREATED:20190517T134035Z
LAST-MODIFIED:20190517T134820Z
UID:9448-1558177200-1558184400@www.shantimandir.com
SUMMARY:Community Satsang
DESCRIPTION:
URL:https://www.shantimandir.com/event/community-satsang-may-2019/
LOCATION:Home of Bharat & Sadhana Patel\, 243 Cornwell Ave.\, Williston Park\, NY\, 11596\, United States
CATEGORIES:Community Satsang,Walden Ashram
ATTACH;FMTTYPE=image/jpeg:https://www.shantimandir.com/wp-content/uploads/2019/05/community_satsang_051819.jpg
END:VEVENT
BEGIN:VEVENT
DTSTART;TZID=America/New_York:20190224T160000
DTEND;TZID=America/New_York:20190224T180000
DTSTAMP:20260421T153835
CREATED:20190222T175848Z
LAST-MODIFIED:20190222T183307Z
UID:9223-1551024000-1551031200@www.shantimandir.com
SUMMARY:Community Satsang
DESCRIPTION:
URL:https://www.shantimandir.com/event/community-satsang-feb-2019/
LOCATION:Sunit and Rina Vashi\, 113 Moorcroft Way\, Greer\, SC\, 29650\, United States
CATEGORIES:Community Satsang,Walden Ashram
ATTACH;FMTTYPE=image/jpeg:https://www.shantimandir.com/wp-content/uploads/2019/02/community_satsang_flyer_022419.jpg
END:VEVENT
BEGIN:VEVENT
DTSTART;TZID=America/New_York:20181228T190000
DTEND;TZID=America/New_York:20181228T203000
DTSTAMP:20260421T153835
CREATED:20181218T154649Z
LAST-MODIFIED:20181218T155241Z
UID:9043-1546023600-1546029000@www.shantimandir.com
SUMMARY:Community Satsang
DESCRIPTION:
URL:https://www.shantimandir.com/event/community-satsang-dec-2018/
LOCATION:Rakesh and Vinita Gupta\, 76 Riverside Lane\, Riverside\, CT\, 06878\, United States
CATEGORIES:Community Satsang,Walden Ashram
ATTACH;FMTTYPE=image/jpeg:https://www.shantimandir.com/wp-content/uploads/2018/12/community_satsang_flyer_12_28_18.jpg
END:VEVENT
BEGIN:VEVENT
DTSTART;TZID=America/New_York:20181130T190000
DTEND;TZID=America/New_York:20181130T203000
DTSTAMP:20260421T153835
CREATED:20181114T154028Z
LAST-MODIFIED:20181117T231732Z
UID:8942-1543604400-1543609800@www.shantimandir.com
SUMMARY:Community Satsang
DESCRIPTION:
URL:https://www.shantimandir.com/event/community-satsang-nov-2018/
LOCATION:Shanti Mandir Walden\, 51 Muktananda Marg\, Walden\, NY\, 12586\, United States
CATEGORIES:Community Satsang,Walden Ashram
ATTACH;FMTTYPE=image/jpeg:https://www.shantimandir.com/wp-content/uploads/2018/11/community_satsang_flyer_113018.jpg
END:VEVENT
BEGIN:VEVENT
DTSTART;TZID=America/New_York:20180927T190000
DTEND;TZID=America/New_York:20180927T203000
DTSTAMP:20260421T153835
CREATED:20180917T143500Z
LAST-MODIFIED:20180917T143515Z
UID:8731-1538074800-1538080200@www.shantimandir.com
SUMMARY:Community Satsang
DESCRIPTION:
URL:https://www.shantimandir.com/event/community-satsang-sept-2018/
LOCATION:Rakesh and Vinita Gupta\, 76 Riverside Lane\, Riverside\, CT\, 06878\, United States
CATEGORIES:Community Satsang,Gurudev's 2018 Schedule,Walden Ashram
ATTACH;FMTTYPE=image/jpeg:https://www.shantimandir.com/wp-content/uploads/2018/09/community_satsang_flyer_092718.jpg
END:VEVENT
BEGIN:VEVENT
DTSTART;TZID=America/New_York:20180830T190000
DTEND;TZID=America/New_York:20180830T203000
DTSTAMP:20260421T153835
CREATED:20180829T011912Z
LAST-MODIFIED:20180829T011912Z
UID:8664-1535655600-1535661000@www.shantimandir.com
SUMMARY:Community Satsang
DESCRIPTION:
URL:https://www.shantimandir.com/event/community-satsang-aug-2018/
LOCATION:NJ
CATEGORIES:Community Satsang,Walden Ashram
ATTACH;FMTTYPE=image/jpeg:https://www.shantimandir.com/wp-content/uploads/2018/08/community_satsang_flyer_083018.jpg
END:VEVENT
BEGIN:VEVENT
DTSTART;TZID=America/New_York:20180628T190000
DTEND;TZID=America/New_York:20180628T210000
DTSTAMP:20260421T153835
CREATED:20180611T152227Z
LAST-MODIFIED:20180611T152227Z
UID:8418-1530212400-1530219600@www.shantimandir.com
SUMMARY:Community Satsang with Gurudev
DESCRIPTION:
URL:https://www.shantimandir.com/event/community-satsang-with-gurudev-june-2018/
LOCATION:Rakesh and Vinita Gupta\, 76 Riverside Lane\, Riverside\, CT\, 06878\, United States
CATEGORIES:Community Satsang,Gurudev's 2018 Schedule,Walden Ashram
ATTACH;FMTTYPE=image/jpeg:https://www.shantimandir.com/wp-content/uploads/2018/06/community_satsang_flyer_062818.jpg
END:VEVENT
BEGIN:VEVENT
DTSTART;TZID=America/New_York:20180329T190000
DTEND;TZID=America/New_York:20180329T203000
DTSTAMP:20260421T153835
CREATED:20180305T152927Z
LAST-MODIFIED:20180305T154042Z
UID:7983-1522350000-1522355400@www.shantimandir.com
SUMMARY:Community Satsang
DESCRIPTION:
URL:https://www.shantimandir.com/event/community-satsang-5/
LOCATION:Rakesh and Vinita Gupta\, 76 Riverside Lane\, Riverside\, CT\, 06878\, United States
CATEGORIES:Community Satsang,Walden Ashram
ATTACH;FMTTYPE=image/jpeg:https://www.shantimandir.com/wp-content/uploads/2018/03/community_satsang_flyer_032918.jpg
END:VEVENT
BEGIN:VEVENT
DTSTART;TZID=America/New_York:20180222T190000
DTEND;TZID=America/New_York:20180222T203000
DTSTAMP:20260421T153836
CREATED:20180204T112820Z
LAST-MODIFIED:20180204T113350Z
UID:7900-1519326000-1519331400@www.shantimandir.com
SUMMARY:Community Satsang
DESCRIPTION:
URL:https://www.shantimandir.com/event/community-satsang-feb-2018/
LOCATION:Rakesh and Vinita Gupta\, 76 Riverside Lane\, Riverside\, CT\, 06878\, United States
CATEGORIES:Community Satsang,Walden Ashram
ATTACH;FMTTYPE=image/jpeg:https://www.shantimandir.com/wp-content/uploads/2018/02/community_satsang_flyer_022218.jpg
END:VEVENT
BEGIN:VEVENT
DTSTART;TZID=America/New_York:20180128T103000
DTEND;TZID=America/New_York:20180128T123000
DTSTAMP:20260421T153836
CREATED:20180119T140759Z
LAST-MODIFIED:20180119T140759Z
UID:7846-1517135400-1517142600@www.shantimandir.com
SUMMARY:Community Satsang
DESCRIPTION:
URL:https://www.shantimandir.com/event/community-satsang-jan-2018-3/
LOCATION:Ashit and Rupal Dave\, 347 Mourning Dove Drive\, Newark\, DE\, 19711\, United States
CATEGORIES:Community Satsang,Walden Ashram
ATTACH;FMTTYPE=image/jpeg:https://www.shantimandir.com/wp-content/uploads/2018/01/community_satsang_flyer_012818.jpg
END:VEVENT
BEGIN:VEVENT
DTSTART;TZID=America/New_York:20180127T180000
DTEND;TZID=America/New_York:20180127T190000
DTSTAMP:20260421T153836
CREATED:20180119T142820Z
LAST-MODIFIED:20180119T142820Z
UID:7850-1517076000-1517079600@www.shantimandir.com
SUMMARY:Santoor Concert
DESCRIPTION:To view the flyer in PDF format\, click here.
URL:https://www.shantimandir.com/event/santoor-concert-jan-2018/
LOCATION:Tashu and Harsha-Patni Trivedi\, 12403 Carrington Hill Drive\, Gaithersburg\, MD\, 20878\, United States
CATEGORIES:Community Satsang,Concerts,Walden Ashram
ATTACH;FMTTYPE=image/jpeg:https://www.shantimandir.com/wp-content/uploads/2018/01/vinay_concert_flyer_012718.jpg
END:VEVENT
BEGIN:VEVENT
DTSTART;TZID=America/New_York:20180121T100000
DTEND;TZID=America/New_York:20180121T120000
DTSTAMP:20260421T153836
CREATED:20180119T140102Z
LAST-MODIFIED:20180119T140102Z
UID:7843-1516528800-1516536000@www.shantimandir.com
SUMMARY:Community Satsang
DESCRIPTION:
URL:https://www.shantimandir.com/event/community-satsang-jan-2018-2/
LOCATION:Sunit and Rina Vashi\, 113 Moorcroft Way\, Greer\, SC\, 29650\, United States
CATEGORIES:Community Satsang,Walden Ashram
ATTACH;FMTTYPE=image/jpeg:https://www.shantimandir.com/wp-content/uploads/2018/01/community_satsang_flyer_012118.jpg
END:VEVENT
BEGIN:VEVENT
DTSTART;TZID=America/New_York:20180120T180000
DTEND;TZID=America/New_York:20180120T200000
DTSTAMP:20260421T153836
CREATED:20180119T135833Z
LAST-MODIFIED:20180119T135834Z
UID:7840-1516471200-1516478400@www.shantimandir.com
SUMMARY:Community Satsang
DESCRIPTION:
URL:https://www.shantimandir.com/event/community-satsang-jan-2018-1/
LOCATION:Sunit and Rina Vashi\, 113 Moorcroft Way\, Greer\, SC\, 29650\, United States
CATEGORIES:Community Satsang,Walden Ashram
ATTACH;FMTTYPE=image/jpeg:https://www.shantimandir.com/wp-content/uploads/2015/03/community_satsang_flyer_012018.jpg
END:VEVENT
BEGIN:VEVENT
DTSTART;TZID=America/New_York:20170909T170000
DTEND;TZID=America/New_York:20170909T190000
DTSTAMP:20260421T153836
CREATED:20170824T153018Z
LAST-MODIFIED:20170824T153018Z
UID:7208-1504976400-1504983600@www.shantimandir.com
SUMMARY:Community Satsang
DESCRIPTION:
URL:https://www.shantimandir.com/event/community-satsang-4/
LOCATION:Bharat & Sadhana Patel\, 256 C West Old Country Road\, Hicksville \, NY\, 11801\, United States
CATEGORIES:Community Satsang,Gurudev's 2017 Schedule,Walden Ashram
ATTACH;FMTTYPE=image/jpeg:https://www.shantimandir.com/wp-content/uploads/2015/03/Community-Satsang-Aug-2017.jpg
END:VEVENT
BEGIN:VEVENT
DTSTART;VALUE=DATE:20170114
DTEND;VALUE=DATE:20170213
DTSTAMP:20260421T153836
CREATED:20170111T185359Z
LAST-MODIFIED:20170131T212023Z
UID:6447-1484352000-1486943999@www.shantimandir.com
SUMMARY:Community Satsang Tour
DESCRIPTION:To view the flyer in PDF format\, click here.
URL:https://www.shantimandir.com/event/community-satsang-tour/
LOCATION:Shanti Mandir Walden\, 51 Muktananda Marg\, Walden\, NY\, 12586\, United States
CATEGORIES:Community Satsang,Walden Ashram
ATTACH;FMTTYPE=image/jpeg:https://www.shantimandir.com/wp-content/uploads/2015/03/community_satsang_flyer_01_11.jpg
END:VEVENT
BEGIN:VEVENT
DTSTART;TZID=UTC:20160402T160000
DTEND;TZID=UTC:20160402T180000
DTSTAMP:20260421T153836
CREATED:20160222T210816Z
LAST-MODIFIED:20160222T211541Z
UID:5535-1459612800-1459620000@www.shantimandir.com
SUMMARY:Community Satsang
DESCRIPTION:To view the flyer in PDF format\, click here.
URL:https://www.shantimandir.com/event/community-satsang-3/
LOCATION:Patni-Trivedi\, 12403 Carrington Hill Drive\, Gaithersburg\, MD\, 20878\, United States
CATEGORIES:Community Satsang,Walden Ashram
ATTACH;FMTTYPE=image/jpeg:https://www.shantimandir.com/wp-content/uploads/2015/03/Community-Satsang-Flyer-04-02-16.jpg
END:VEVENT
BEGIN:VEVENT
DTSTART;TZID=UTC:20160311T190000
DTEND;TZID=UTC:20160311T210000
DTSTAMP:20260421T153836
CREATED:20160301T183431Z
LAST-MODIFIED:20160301T183526Z
UID:5555-1457722800-1457730000@www.shantimandir.com
SUMMARY:Sitar Concert
DESCRIPTION:
URL:https://www.shantimandir.com/event/sitar-concert-2/
LOCATION:Unison Arts Center\, 68 Mountain Rest Road\, New Paltz\, NY\, 12561\, United States
CATEGORIES:Community Satsang,Walden Ashram
ATTACH;FMTTYPE=image/jpeg:https://www.shantimandir.com/wp-content/uploads/2016/03/Chirag-Katti-Concert-Flyer-Mar-2016.jpeg
ORGANIZER;CN="Unnamed Organizer":MAILTO:vivek@shantimandir.com
END:VEVENT
BEGIN:VEVENT
DTSTART;TZID=America/Halifax:20151010T100000
DTEND;TZID=America/Halifax:20151010T120000
DTSTAMP:20260421T153836
CREATED:20151008T184347Z
LAST-MODIFIED:20151009T175027Z
UID:5103-1444471200-1444478400@www.shantimandir.com
SUMMARY:Community Satsang
DESCRIPTION:
URL:https://www.shantimandir.com/event/community-satsang-2/
LOCATION:Bharadwaj family\, 673 210 Street\, Pasadena\, MD\, 21122\, United States
CATEGORIES:Community Satsang,Walden Ashram
ATTACH;FMTTYPE=image/jpeg:https://www.shantimandir.com/wp-content/uploads/2015/03/Community-Satsang-10-10-15-2.jpg
END:VEVENT
BEGIN:VEVENT
DTSTART;TZID=America/Halifax:20150915T190000
DTEND;TZID=America/Halifax:20150915T210000
DTSTAMP:20260421T153836
CREATED:20150813T175853Z
LAST-MODIFIED:20150813T175853Z
UID:4893-1442343600-1442350800@www.shantimandir.com
SUMMARY:Satsang in NYC
DESCRIPTION:
URL:https://www.shantimandir.com/event/satsang-in-nyc/
LOCATION:Theater at St. Clement’s\, 423 West 46th Street\, New York\, 10036\, United States
CATEGORIES:Community Satsang,Gurudev's 2015 Schedule,Walden Ashram
ATTACH;FMTTYPE=image/jpeg:https://www.shantimandir.com/wp-content/uploads/2015/08/NYC-Satsang-Flyer-2015.jpg
END:VEVENT
BEGIN:VEVENT
DTSTART;TZID=America/Halifax:20150725T110000
DTEND;TZID=America/Halifax:20150725T130000
DTSTAMP:20260421T153836
CREATED:20150527T183312Z
LAST-MODIFIED:20150724T201149Z
UID:4485-1437822000-1437829200@www.shantimandir.com
SUMMARY:Havan (Fire Ceremony) & Satsang
DESCRIPTION:
URL:https://www.shantimandir.com/event/havan-satsang-nj/
LOCATION:Shyamal & Sejal Modi\, 54 Kelly Way\, Monmouth Junction\, NJ\, 08852\, United States
CATEGORIES:Community Satsang,Gurudev's 2015 Schedule,Walden Ashram
ATTACH;FMTTYPE=image/jpeg:https://www.shantimandir.com/wp-content/uploads/2015/05/Havan-Satsang-NJ-07-25-15.jpg
END:VEVENT
BEGIN:VEVENT
DTSTART;VALUE=DATE:20150403
DTEND;VALUE=DATE:20150404
DTSTAMP:20260421T153836
CREATED:20150222T183619Z
LAST-MODIFIED:20150331T185402Z
UID:3872-1428019200-1428105599@www.shantimandir.com
SUMMARY:Community Satsang
DESCRIPTION:To view the flyer in PDF format\, click here.
URL:https://www.shantimandir.com/event/community-satsang-vijay-poonam-shoris-residence/
LOCATION:Vijay & Poonam Shori\, 131 Predmore Ave.\, Colonia\, NJ\, 07067\, United States
CATEGORIES:Community Satsang,Gurudev's 2015 Schedule,Walden Ashram
ATTACH;FMTTYPE=image/jpeg:https://www.shantimandir.com/wp-content/uploads/2015/03/Community-Satsang-Flyer-04-03-15.jpg
END:VEVENT
BEGIN:VEVENT
DTSTART;TZID=America/Halifax:20141026T170000
DTEND;TZID=America/Halifax:20141026T190000
DTSTAMP:20260421T153836
CREATED:20141025T225533Z
LAST-MODIFIED:20141025T230007Z
UID:3119-1414342800-1414350000@www.shantimandir.com
SUMMARY:Community Satsang
DESCRIPTION:To view the flyer in PDF format\, click here.
URL:https://www.shantimandir.com/event/community-satsang/
LOCATION:Home of Raksha\, Raju\, and Uma Naik\, 20 Livingston Avenue\, Kearny\, NJ\, 07032\,\, United States
CATEGORIES:Community Satsang,Walden Ashram
ATTACH;FMTTYPE=image/jpeg:https://www.shantimandir.com/wp-content/uploads/2014/10/Community-Satsang-10-26-14.jpg
END:VEVENT
BEGIN:VEVENT
DTSTART;TZID=America/Halifax:20140920T180000
DTEND;TZID=America/Halifax:20140920T203000
DTSTAMP:20260421T153836
CREATED:20140910T175817Z
LAST-MODIFIED:20140910T180659Z
UID:3000-1411236000-1411245000@www.shantimandir.com
SUMMARY:Gathering of Saints
DESCRIPTION:To view the flyer in PDF format\, click here.
URL:https://www.shantimandir.com/event/gathering-saints/
LOCATION:Hindu Center Temple\, 4552 Kissena Boulevard\, Flushing\, NY\, 11355\, United States
CATEGORIES:Community Satsang,Walden Ashram
ATTACH;FMTTYPE=image/jpeg:https://www.shantimandir.com/wp-content/uploads/2014/09/Sant-Samagam-Flyer-Sept-2014.jpg
END:VEVENT
BEGIN:VEVENT
DTSTART;TZID=America/Halifax:20140603T190000
DTEND;TZID=America/Halifax:20140603T210000
DTSTAMP:20260421T153836
CREATED:20140528T052456Z
LAST-MODIFIED:20140528T052557Z
UID:2338-1401822000-1401829200@www.shantimandir.com
SUMMARY:Satsang at NYC
DESCRIPTION:Please join us for an evening Satsang in Manhattan\, and circulate the above flyer to your family and friends. \nTo view the flyer in PDF format\, click here. \n 
URL:https://www.shantimandir.com/event/satsang-nyc/
LOCATION:Theater at St. Clement’s\, 423 West 46th Street\, New York\, 10036\, United States
CATEGORIES:Community Satsang,Walden Ashram
ATTACH;FMTTYPE=image/jpeg:https://www.shantimandir.com/wp-content/uploads/2014/05/NYC-Satsang-Flyer-2014.jpg
END:VEVENT
END:VCALENDAR